BEGIN:VCALENDAR
VERSION:2.0
PRODID:-//Supersonic - ECPv6.15.20//NONSGML v1.0//EN
CALSCALE:GREGORIAN
METHOD:PUBLISH
X-ORIGINAL-URL:https://supersonic-club.fr
X-WR-CALDESC:Évènements pour Supersonic
REFRESH-INTERVAL;VALUE=DURATION:PT1H
X-Robots-Tag:noindex
X-PUBLISHED-TTL:PT1H
BEGIN:VTIMEZONE
TZID:Europe/London
BEGIN:DAYLIGHT
TZOFFSETFROM:+0000
TZOFFSETTO:+0100
TZNAME:BST
DTSTART:20250330T010000
END:DAYLIGHT
BEGIN:STANDARD
TZOFFSETFROM:+0100
TZOFFSETTO:+0000
TZNAME:GMT
DTSTART:20251026T010000
END:STANDARD
BEGIN:DAYLIGHT
TZOFFSETFROM:+0000
TZOFFSETTO:+0100
TZNAME:BST
DTSTART:20260329T010000
END:DAYLIGHT
BEGIN:STANDARD
TZOFFSETFROM:+0100
TZOFFSETTO:+0000
TZNAME:GMT
DTSTART:20261025T010000
END:STANDARD
BEGIN:DAYLIGHT
TZOFFSETFROM:+0000
TZOFFSETTO:+0100
TZNAME:BST
DTSTART:20270328T010000
END:DAYLIGHT
BEGIN:STANDARD
TZOFFSETFROM:+0100
TZOFFSETTO:+0000
TZNAME:GMT
DTSTART:20271031T010000
END:STANDARD
END:VTIMEZONE
BEGIN:VEVENT
DTSTART;TZID=Europe/London:20261004T200000
DTEND;TZID=Europe/London:20261004T223000
DTSTAMP:20260420T010444
CREATED:20260310T130602Z
LAST-MODIFIED:20260310T130602Z
UID:18576-1791144000-1791153000@supersonic-club.fr
SUMMARY:Lords of Lounge en concert (côté Records)
DESCRIPTION:Si vous aimez Löwenzahnhonig\, Tommy Guerrero & Arc De Soleil\, le psych jazz ambiant et les sonorités surf\, ne manquez pas le concert des Berlinois Lords Of Lounge à Paris pour leur première tournée ! \n \nTake Me Out présente…\nLords of Lounge en concert !\nTickets : https://link.dice.fm/d28983222cf0 \nPOUR LES FANS DE Löwenzahnhonig\, Tommy Guerrero & Arc De Soleil \nLORDS OF LOUNGE\n(psych ambint jazz · Berlin\, DEU) \nQuatre musiciens accomplis basés à Berlin ont formé Lords of Lounge afin de proposer des classiques lounge faciles à écouter\, inspirés du surf.\nLeur méthode est simple : tout enregistrer pendant la composition. Pas de démos. Pas de surimpressions. Des vibrations et une inspiration pures\, directement sur bande. \nDad-Rock\, Surf-Pop\, riffs\, Indie-strumming… tout y est. \nÉCOUTER\nhttps://lordsoflounge.bandcamp.com/ \nREGARDER\nhttps://www.youtube.com/@lordsoflounge \nAIMER\nhttps://www.instagram.com/lordsoflounge/ \n———————————\nDimanche 4 Octobre 2026\n• Ouverture des portes à 20h\n• Bar sur place\n• Prévente à 17€ / 20€ sur place\n• Accès interdit aux moins de 16 ans sauf si accompagnés d’un tuteur légal\n———————————\nSUPERSONIC RECORDS\n9 rue Biscornet 75012 Paris\nMétro Bastille\nLa newsletter : https://t.ly/cx_NA\nLa playlist : https://t.ly/6erUG\nhttps://supersonic-records.fr/ \nhttps://takemeout-production.fr/ \nTarifs : Billet : 17€ \nBilletteries : DICE
URL:https://supersonic-club.fr/event/lords-of-lounge-en-concert-cote-records/
LOCATION:Supersonic Records\, 9 Rue Biscornet\, Paris\, 75012\, France
CATEGORIES:Concert,Jazz,Lords Of Lounge,Sowprog,Supersonic Records
ATTACH;FMTTYPE=image/jpeg:https://supersonic-club.fr/wp-content/uploads/2026/03/namethumb_w600px_img_event_9c2755fa-3f13-441e-b9bd-34cd76d87bb6.jpg
END:VEVENT
BEGIN:VEVENT
DTSTART;TZID=Europe/London:20261009T200000
DTEND;TZID=Europe/London:20261009T223000
DTSTAMP:20260420T010444
CREATED:20260317T152534Z
LAST-MODIFIED:20260317T152534Z
UID:18650-1791576000-1791585000@supersonic-club.fr
SUMMARY:Finojet en concert (côté Records)
DESCRIPTION:Après avoir fait les premières parties de Hollow Coves au Canada\, de The Head & The Heart en Australie et de son père Xavier Rudd en Europe\, Finojet revient à Paris ! \n \nTake Me Out présente…\nFinojet en concert !\nTickets : https://link.dice.fm/J79ba5cadb36 \nFINOJET \nFinojet est un chanteur-auteur-compositeur dynamique dont le parcours musical est marqué par une innovation mêlant les genres et par des performances live électrisantes. \nAprès avoir mené le groupe indie rock Calypso Cora pendant un an\, Finojet a lancé sa très attendue carrière solo en 2025\, captivant des publics à travers le monde grâce à son mélange unique d’indie et de folk. \nEn 2025\, il a assuré les premières parties de Hollow Coves au Canada\, de The Head & The Heart en Australie et de Xavier Rudd en Europe. À cette occasion\, il a présenté de nouveaux morceaux issus de son album éponyme devant des salles combles à travers le monde\, partageant sa musique avec des milliers de nouveaux fans chaque soir. \nAujourd’hui\, en 2026\, après avoir annoncé des tournées très attendues en Australie et au Canada\, il ajoute désormais officiellement l’Europe à la programmation ! \nÉCOUTER\nhttps://tr.ee/T1a4sGDMhi \nREGARDER\nhttps://www.youtube.com/@finojet \nAIMER\nhttps://www.instagram.com/itsfinojet/ \n———————————\nVendredi 9 octobre 2026\n• Ouverture des portes à 20h\n• Bar sur place\n• Prévente à 17€ / 20€ sur place\nOuverture de la billetterie le 20 mars à 10h\n• Accès interdit aux moins de 16 ans sauf si accompagnés d’un tuteur légal\n———————————\nSUPERSONIC RECORDS\n9 rue Biscornet 75012 Paris\nMétro Bastille\nLa newsletter : https://t.ly/cx_NA\nLa playlist : https://t.ly/6erUG\nhttps://supersonic-records.fr/ \nhttps://takemeout-production.fr/ \nTarifs : Billet : 17€ \nBilletteries : DICE
URL:https://supersonic-club.fr/event/finojet-en-concert-cote-records/
LOCATION:Supersonic Records\, 9 Rue Biscornet\, Paris\, 75012\, France
CATEGORIES:Concert,Finojet,Pop / Rock / Folk,Sowprog,Supersonic Records
ATTACH;FMTTYPE=image/jpeg:https://supersonic-club.fr/wp-content/uploads/2026/03/namethumb_w600px_img_event_aa6b9c5a-f346-427b-bc77-0c73eb8543aa.jpg
END:VEVENT
BEGIN:VEVENT
DTSTART;TZID=Europe/London:20261010T200000
DTEND;TZID=Europe/London:20261010T223000
DTSTAMP:20260420T010444
CREATED:20251125T170634Z
LAST-MODIFIED:20260203T164747Z
UID:17691-1791662400-1791671400@supersonic-club.fr
SUMMARY:KYTES en concert (côté Records)
DESCRIPTION:Le trio de Munich KYTES est bien décidé à partager son indie rave avec vous ! Le groupe indépendant vous prépare un nouvel album à venir en 2026\, qui plaira aux fans de Caribou\, Foals & Phoenix. \n \nSupersonic Records présente…\nKYTES en concert !\nTickets : https://link.dice.fm/N890898987a6 \nPOUR LES FANS DE Foals\, Caribou & Phoenix \nKYTES\n(indie rave · Munich\, DEU) \nKYTES est un groupe indépendant primé originaire de Munich. Le trio composé de Michael Spieler\, Kerim Öke et Timothy Lush s’est développé petit à petit au fil des ans depuis sa création en 2015 pour devenir l’un des groupes les plus passionnants d’Europe. \nLes 3 musiciens\, amis depuis la maternelle\, ont trouvé leur propre rythme grâce à leur musique et à un mélange unique de liberté et de familiarité. KYTES publie ses chansons via son propre label\, Frisbee Records\, depuis 2018\, et celles-ci ont désormais été écoutées plus de 150 millions de fois en streaming. \nKYTES se définit comme de l' »indie rave »\, genre créé par le groupe lui-même\, et combinant son ancien amour « Indie » et son nouvel amour « Rave ». \nCe mélange fait également des concerts du groupe une expérience très spéciale\, entre refrains entraînants\, sets électroniques rave et moments intimistes en acoustique. \nDans leur nouveau single « Cope »\, KYTES s’interroge sur la manière dont ils gèrent le flot quotidien de mauvaises nouvelles\, abordant le doute de soi et la spirale du doomscrolling. Le rythme rapide\, hypnotique\, presque reggaeton\, fait avancer la chanson ; les guitares et les synthétiseurs se fondent\, et le chanteur Spieler surprend avec une voix inattendue\, mémorable et unique. \nLe nouvel album du groupe\, « Indie Rave »\, sortira le 31 juillet 2026. Le groupe se lancera ensuite dans sa plus grande tournée à ce jour. \nÉCOUTER\n· https://open.spotify.com/intl-fr/artist/1q8H46YhdCtAO8tXHIWe2d\n· https://soundcloud.com/kytesmusic  \nREGARDER\nhttps://www.youtube.com/@kytesmusic \nAIMER\nhttps://www.instagram.com/kytesmusic/ \n———————————\nSamedi 10 Octobre 2026\n• Ouverture des portes à 20h\n• Bar sur place\n• 14\,94€ en prévente / 18€ sur place\nBillets en vente dès le 26 novembre 2025 à midi\n• Accès interdit aux moins de 16 ans sauf si accompagnés d’un tuteur légal\n———————————\nSUPERSONIC RECORDS\n9 Bis Rue Biscornet 75012 Paris\nMetro Bastille\nhttps://supersonic-records.fr/\nLa newsletter  https://t.ly/cx_NA\nLa playlist 2025  https://t.ly/zRmWR \nTarifs : Billet : 14.94€ \nBilletteries : DICE
URL:https://supersonic-club.fr/event/kytes-en-concert-cote-records/
LOCATION:Supersonic Records\, 9 Rue Biscornet\, Paris\, 75012\, France
CATEGORIES:Concert,KYTES,Pop / Rock / Folk,Sowprog,Supersonic Records
ATTACH;FMTTYPE=image/jpeg:https://supersonic-club.fr/wp-content/uploads/2025/11/namethumb_w600px_img_event_013dfc2c-8501-4523-b58b-4698ae22c56c-1.jpg
END:VEVENT
BEGIN:VEVENT
DTSTART;TZID=Europe/London:20261014T190000
DTEND;TZID=Europe/London:20261014T230000
DTSTAMP:20260420T010444
CREATED:20260402T140232Z
LAST-MODIFIED:20260402T140232Z
UID:18777-1792004400-1792018800@supersonic-club.fr
SUMMARY:Subterranean Street Society
DESCRIPTION:Cette soirée plaira aux fans de… Gary Clark Jr\, The Black Keys & Rival Sons \n \nSUBTERRANEAN STREET SOCIETY (22h00)\n(Grunge folk – Amsterdam\, NDL)\nBasé à Amsterdam\, le trio dano-néerlandais Subterranean Street Society mêle l’énergie brute du grunge à la narration folk. Leurs chansons résonnent comme des confessions\, oscillant entre une honnêteté fragile et une puissance explosive. Leur son se situe quelque part entre Nirvana et Mumford & Sons. Attendez-vous à des guitares saturées\, des dynamiques intenses et des paroles poétiques qui vont droit au cœur.\nhttps://subterraneanstreetsociety.bandcamp.com/music\nhttps://www.youtube.com/watch?v=aIlIcIqH9Rw \nLa suite de la programmation arrive très vite !\n———————————\nMercredi 14 Octobre 2026\nEntrée gratuite\n• Ouverture des portes à 19h00\n• Happy Hour de 19h à 20h\n• Si vous êtes témoin ou victime d’une agression\, vous pouvez alerter le personnel du bar ou si vous préférez\, vous pouvez nous écrire à cette adresse: communication@supersonic-paris.fr\n———————————\nSUPERSONIC\n9 rue Biscornet\, 75012 Paris\nMétro Bastille (sortie rue de lyon) \nTarifs : Gratuit
URL:https://supersonic-club.fr/event/subterranean-street-society/
LOCATION:SUPERSONIC\, 9 Rue Biscornet\, Paris\, 75012\, France
CATEGORIES:Concert,Pop / Rock / Folk,Sowprog,Subterranean Street Society,SUPERSONIC
ATTACH;FMTTYPE=image/jpeg:https://supersonic-club.fr/wp-content/uploads/2026/04/namethumb_w600px_img_event_20ed67bb-bef6-4fd4-8fbe-989de257f537.jpg
END:VEVENT
BEGIN:VEVENT
DTSTART;TZID=Europe/London:20261020T200000
DTEND;TZID=Europe/London:20261020T223000
DTSTAMP:20260420T010444
CREATED:20260309T152038Z
LAST-MODIFIED:20260309T152038Z
UID:18569-1792526400-1792535400@supersonic-club.fr
SUMMARY:Donovan Woods en concert (côté Records)
DESCRIPTION:Connu pour son écriture franche et chargée d’émotion\, l’Américain Donovan Woods mêle folk\, country et pop. En 2026\, il revient avec de nouveaux titres et un EP\, « Squander Your Gifts » ! \n \nSupersonic Records présente…\nDonovan Woods en concert !\nTickets : https://link.dice.fm/C4c216b8909d \nPOUR LES FANS DE Damien Rice\, The Paper Kites & Ben Howard \nDONOVAN WOODS \nConnu pour son écriture franche et chargée d’émotion\, Donovan Woods mêle folk\, country et pop. \nEn dehors de sa propre discographie\, il a écrit des chansons enregistrées par Kenny Chesney\, Tim McGraw\, Charles Kelley (du groupe Lady A)\, Ben Platt\, Hailey Whitters\, Ashley Cooke\, Barenaked Ladies\, Matt Nathanson\, Phillip Phillips et bien d’autres. \nDes albums comme Hard Settle\, Ain’t Troubled\, Both Ways\, Without People et son plus récent album présélectionné au Polaris Music Prize\, Things Were Never Good If They’re Not Good Now\, sont salués pour la constance et la force de leur narration\, explorant l’amour\, la vulnérabilité et les relations. \nEn 2026\, il revient avec de nouveaux titres et un EP à paraître\, Squander Your Gifts. Cet EP de cinq morceaux est une collection de chansons dédiées à son ami et partenaire d’écriture Abe Stoklasa\, décédé en novembre 2023. Réflexion sur la perte\, l’amour et la vie\, le chanteur trouve une fois de plus le moyen de peindre des images sensibles et de transformer une expérience profondément personnelle en émotion partagée avec son public. \nDonovan Woods continue d’affirmer sa place parmi les auteurs-compositeurs les plus marquants d’Amérique du Nord : d’une honnêteté sans concession\, un artiste qui n’a pas peur de se livrer entièrement. \nÉCOUTER\nhttps://donovanwoodsada.lnk.to/SquanderYourGifts \nREGARDER\nhttps://www.youtube.com/@DonovanWoodsMusic \nAIMER\nhttps://www.instagram.com/donovanwoods/ \n———————————\nMardi 20 Octobre 2026\n• Ouverture des portes à 20h\n• Bar sur place\n• 14\,94€ en prévente / 18€ sur place\nOuverture de la billetterie le 13 mars à 10h\n• Accès interdit aux moins de 16 ans sauf si accompagnés d’un tuteur légal\n———————————\nSUPERSONIC RECORDS\n9 BIS Rue Biscornet 75012 Paris\nMetro Bastille\nhttps://supersonic-records.fr/\nLa newsletter · https://t.ly/cx_NA\nLa playlist · https://tinyurl.com/SupersonicRecords2026 \nTarifs : Billet : 14.94€ \nBilletteries : DICE
URL:https://supersonic-club.fr/event/donovan-woods-en-concert-cote-records/
LOCATION:Supersonic Records\, 9 Rue Biscornet\, Paris\, 75012\, France
CATEGORIES:Concert,Donovan Woods,Pop / Rock / Folk,Sowprog,Supersonic Records
ATTACH;FMTTYPE=image/jpeg:https://supersonic-club.fr/wp-content/uploads/2026/03/namethumb_w600px_img_event_fdf811b5-04e3-475d-8f0f-a5a142eaa1de.jpg
END:VEVENT
BEGIN:VEVENT
DTSTART;TZID=Europe/London:20261024T200000
DTEND;TZID=Europe/London:20261024T223000
DTSTAMP:20260420T010444
CREATED:20260225T124330Z
LAST-MODIFIED:20260225T124330Z
UID:18470-1792872000-1792881000@supersonic-club.fr
SUMMARY:Stu Larsen en concert (côté Records)
DESCRIPTION:Fans de James Vincent McMorrow\, Passenger & Bear’s Den\, venez découvrir le nouvel album de Stu Larsen à l’occasion de son retour à Paris ! \n \nSupersonic Records présente…\nStu Larsen en concert !\nTickets : https://link.dice.fm/Wba37b46b201 \nPOUR LES FANS DE James Vincent McMorrow\, Passenger & Bear’s Den \nSTU LARSEN \nDans un monde sans répit et agité\, Stu Larsen est parti à la recherche du silence et du calme dans certains des coins les plus reculés de la planète. La solitude n’est pas une fuite de la vie\, mais plutôt un ralentissement suffisant pour la remarquer. \nAprès avoir écrit 12 chansons en 12 mois\, caché dans 12 endroits différents à travers le monde avec pour seuls compagnons une guitare\, quelques appareils photo et un équipement d’enregistrement rudimentaire\, Solitude est le récit du voyage d’une année de Larsen vers des contrées inconnues. \nAu cours de ce projet\, Larsen a redécouvert que quelque chose de magique se produit lorsque l’on se déconnecte complètement du monde et que l’on passe intentionnellement du temps seul\, laissant libre cours à ses pensées et à ses émotions\, sans les distractions constantes d’une vie moderne et connectée. \nSolitude met l’accent sur des récits authentiques\, des images de vie au ralenti et l’attrait des voyages à travers le monde – un moment de tranquillité pour ceux qui cherchent à s’évader d’un monde bruyant. \nÉCOUTER\nhttps://stularsen.ffm.to/illbeyourhallelujah \nREGARDER\nhttps://www.youtube.com/stularsen \nAIMER\nhttps://www.instagram.com/stularsen/ \n———————————\nSamedi 24 Octobre 2026\n• Ouverture des portes à 20h\n• Bar sur place\n• 15\,97€ en prévente / 19€ sur place\nOuverture de la billetterie le 27 Février à 11h\n• Accès interdit aux moins de 16 ans sauf si accompagnés d’un tuteur légal\n———————————\nSUPERSONIC RECORDS\n9 Bis Rue Biscornet 75012 Paris\nMetro Bastille\nhttps://supersonic-records.fr/\nLa newsletter : https://t.ly/cx_NA\nLa playlist : https://tinyurl.com/SupersonicRecords2026 \nTarifs : Billet : 15.97€ \nBilletteries : DICE
URL:https://supersonic-club.fr/event/stu-larsen-en-concert-cote-records/
LOCATION:Supersonic Records\, 9 Rue Biscornet\, Paris\, 75012\, France
CATEGORIES:Concert,Pop / Rock / Folk,Sowprog,Stu Larsen,Supersonic Records
ATTACH;FMTTYPE=image/jpeg:https://supersonic-club.fr/wp-content/uploads/2026/02/namethumb_w600px_img_event_a06e2073-7ac3-4562-a74b-fef0d032a2cd.jpg
END:VEVENT
BEGIN:VEVENT
DTSTART;TZID=Europe/London:20261030T200000
DTEND;TZID=Europe/London:20261030T223000
DTSTAMP:20260420T010444
CREATED:20260317T152526Z
LAST-MODIFIED:20260317T152526Z
UID:18648-1793390400-1793399400@supersonic-club.fr
SUMMARY:Marcoca en concert (côté Records)
DESCRIPTION:Marcoca mêlent mélodies raffinées\, grooves dansants & paroles dans lesquelles on se perd volontiers. Une musique colorée & hypnotique\, influencée par le surf\, le jazz\, le funk\, et le psyché ! \n \nTake Me Out présente…\nMarcoca en concert !\nTickets : https://link.dice.fm/I3c19540061b \nMARCOCA \nMarcoca est un groupe indie psychédélique allemand composé de cinq musiciens aux goûts et aux parcours variés\, qui chérissent leurs différences sans jamais trop se soucier du résultat final. \nLeurs morceaux baignés de réverbération mêlent le meilleur de mélodies raffinées\, de grooves dansants et de paroles dans lesquelles on se perd volontiers. Après avoir construit un public international grâce à leurs deux premiers albums\, Silent Struggles et Cosmic Blunder\, leur troisième projet est en route pour renforcer davantage leur présence sur la scène psychédélique mondiale. \nAvec Homage to Delusion\, leur production DIY démontre une fois encore comment les différences peuvent propulser les processus créatifs vers des horizons magiques\, donnant naissance à une musique colorée et hypnotique\, influencée par le surf\, le jazz\, le funk\, le psychédélisme et bien plus encore. \nÉCOUTER\nhttps://bfan.link/marcoca-soliloquy \nREGARDER\nhttps://shorturl.at/eIs3N \nAIMER\nhttps://www.instagram.com/marcoca_music/ \n———————————\nVendredi 30 Octobre 2026\n• Ouverture des portes à 20h\n• Bar sur place\n• Prévente à 18€\n• Accès interdit aux moins de 16 ans sauf si accompagnés d’un tuteur légal\n———————————\nSUPERSONIC RECORDS\n9 rue Biscornet 75012 Paris\nMétro Bastille\nLa newsletter : https://t.ly/cx_NA\nLa playlist : https://t.ly/6erUG\nhttps://supersonic-records.fr/ \nhttps://takemeout-production.fr/ \nTarifs : Billet : 18€ \nBilletteries : DICE
URL:https://supersonic-club.fr/event/marcoca-en-concert-cote-records/
LOCATION:Supersonic Records\, 9 Rue Biscornet\, Paris\, 75012\, France
CATEGORIES:Concert,Marcoca,Pop / Rock / Folk,Sowprog,Supersonic Records
ATTACH;FMTTYPE=image/jpeg:https://supersonic-club.fr/wp-content/uploads/2026/03/namethumb_w600px_img_event_620c7ecd-9979-4b93-96fa-7871c1101cc2.jpg
END:VEVENT
END:VCALENDAR