BEGIN:VCALENDAR
VERSION:2.0
PRODID:-//Supersonic - ECPv6.15.20//NONSGML v1.0//EN
CALSCALE:GREGORIAN
METHOD:PUBLISH
X-WR-CALNAME:Supersonic
X-ORIGINAL-URL:https://supersonic-club.fr
X-WR-CALDESC:Évènements pour Supersonic
REFRESH-INTERVAL;VALUE=DURATION:PT1H
X-Robots-Tag:noindex
X-PUBLISHED-TTL:PT1H
BEGIN:VTIMEZONE
TZID:Europe/London
BEGIN:DAYLIGHT
TZOFFSETFROM:+0000
TZOFFSETTO:+0100
TZNAME:BST
DTSTART:20250330T010000
END:DAYLIGHT
BEGIN:STANDARD
TZOFFSETFROM:+0100
TZOFFSETTO:+0000
TZNAME:GMT
DTSTART:20251026T010000
END:STANDARD
BEGIN:DAYLIGHT
TZOFFSETFROM:+0000
TZOFFSETTO:+0100
TZNAME:BST
DTSTART:20260329T010000
END:DAYLIGHT
BEGIN:STANDARD
TZOFFSETFROM:+0100
TZOFFSETTO:+0000
TZNAME:GMT
DTSTART:20261025T010000
END:STANDARD
BEGIN:DAYLIGHT
TZOFFSETFROM:+0000
TZOFFSETTO:+0100
TZNAME:BST
DTSTART:20270328T010000
END:DAYLIGHT
BEGIN:STANDARD
TZOFFSETFROM:+0100
TZOFFSETTO:+0000
TZNAME:GMT
DTSTART:20271031T010000
END:STANDARD
END:VTIMEZONE
BEGIN:VEVENT
DTSTART;TZID=Europe/London:20260523T190000
DTEND;TZID=Europe/London:20260523T230000
DTSTAMP:20260421T154019
CREATED:20260212T134300Z
LAST-MODIFIED:20260407T161549Z
UID:18358-1779562800-1779577200@supersonic-club.fr
SUMMARY:The OBGMs • Violent Sadie Mode • Depuis l'Abîme
DESCRIPTION:Cette soirée plaira aux fans de… Turnstile\, IDLES & Angel Du$t \n \nTHE OBGMS (22h30)\n(Punk rock – Toronto\, can)\nLes OBGM fusionnent le punk\, le rock et le hip-hop dans un son électrisant qui a valu à « The Ends » les éloges de la critique. Réputés pour leurs performances live endiablées\, ils ont partagé la scène avec des poids lourds tels qu’Alexisonfire\, Death From Above\, PUP et Billy Talent. Leur énergie explosive et leur approche qui défie les genres font d’eux une force avec laquelle il faut compter\, prêts à laisser une empreinte indélébile sur la scène musicale et à captiver le public du monde entier avec leur style brut et sans concession.\nhttps://theobgms.bandcamp.com/music\nhttps://www.youtube.com/watch?v=mpxDJhmV2sk \nVIOLENT SADIE MODE (21h30)\n(Punk hardcore – Howlin Banana Records – Bordeaux\, FR)\nUn retour aux riffs et aux affectes tranchants d’un punk hardcore oublié dans les abysses des années 80. C’est ce que propose Violent Sadie Mode\, porté par l’étonnante Sadie Golding et sa voix résolument porteuse d’une hargne et d’une puissance féministe. Musicalement inspiré par des groupes tels que Minor Threat ou encore Amyl and the Sniffers\, c’est à la sauce bordelaise que les 4 membres de Violent Sadie Mode concoctent des morceaux incisifs\, qui vont droit au but\, un but défouloir\, violent\, punk.\nLes 3 influences : Minor Threat\, Amyl and the Sniffers\, Lambrini Girls\nhttps://flippinfreaks.bandcamp.com/album/incelcore\nhttps://www.youtube.com/watch?v=8sjsE4ZWtZY… \nDEPUIS L’ABÎME (20h30)\n(Post hardcore – Paris\, FR)\nDepuis l’Abîme a vu le jour comme le projet musical de Thibault à Paris en 2020 avec la sortie d’un premier EP nommé « Partir ». Le mélange d’éléments venant du post-hardcore\, du noise rock\, du rock indé et son chant brut en français donnent lieu à une musique à la fois puissante et intime.\nEn 2023\, l’artiste sort un deuxième EP nommé « L’Incendie » qui ancre définitivement ses paroles dans des questionnements politiques autour du pouvoir\, de la place de l’individu dans un monde complexe et du désir réprimé de changement.\nDepuis 2024\, le projet solo s’est transformé en un vrai groupe composé de Juliette au clavier\, Benjamin à la guitare\, Elisa à la batterie et Thibault au chant et à la basse.\nLes 3 influences : Daïtro\, Birds In Row\, Car seat Headrest\nhttps://depuislabime.bandcamp.com/\n———————————\nSamedi 23 Mai 2026\nEntrée gratuite\n• Ouverture des portes à 19h00\n• Happy Hour de 19h à 20h\n• Si vous êtes témoin ou victime d’une agression\, vous pouvez alerter le personnel du bar ou si vous préférez\, vous pouvez nous écrire à cette adresse: communication@supersonic-paris.fr\n———————————\nSUPERSONIC\n9 rue Biscornet\, 75012 Paris\nMétro Bastille (sortie rue de lyon)\nhttp://supersonic-club.fr/ \nTarifs : Gratuit
URL:https://supersonic-club.fr/event/the-obgms-violent-sadie-mode/
LOCATION:SUPERSONIC\, 9 Rue Biscornet\, Paris\, 75012\, France
CATEGORIES:Concert,Depuis l'Abîme,Pop / Rock / Folk,Sowprog,SUPERSONIC,The OBGMs,Violent Sadie Mode
ATTACH;FMTTYPE=image/jpeg:https://supersonic-club.fr/wp-content/uploads/2026/02/namethumb_w600px_img_event_dbe889ec-ffd5-44d0-96ff-5c11af46b3e2-1.jpg
END:VEVENT
END:VCALENDAR