BEGIN:VCALENDAR
VERSION:2.0
PRODID:-//Supersonic - ECPv6.15.20//NONSGML v1.0//EN
CALSCALE:GREGORIAN
METHOD:PUBLISH
X-ORIGINAL-URL:https://supersonic-club.fr
X-WR-CALDESC:Évènements pour Supersonic
REFRESH-INTERVAL;VALUE=DURATION:PT1H
X-Robots-Tag:noindex
X-PUBLISHED-TTL:PT1H
BEGIN:VTIMEZONE
TZID:Europe/London
BEGIN:DAYLIGHT
TZOFFSETFROM:+0000
TZOFFSETTO:+0100
TZNAME:BST
DTSTART:20210328T010000
END:DAYLIGHT
BEGIN:STANDARD
TZOFFSETFROM:+0100
TZOFFSETTO:+0000
TZNAME:GMT
DTSTART:20211031T010000
END:STANDARD
BEGIN:DAYLIGHT
TZOFFSETFROM:+0000
TZOFFSETTO:+0100
TZNAME:BST
DTSTART:20220327T010000
END:DAYLIGHT
BEGIN:STANDARD
TZOFFSETFROM:+0100
TZOFFSETTO:+0000
TZNAME:GMT
DTSTART:20221030T010000
END:STANDARD
BEGIN:DAYLIGHT
TZOFFSETFROM:+0000
TZOFFSETTO:+0100
TZNAME:BST
DTSTART:20230326T010000
END:DAYLIGHT
BEGIN:STANDARD
TZOFFSETFROM:+0100
TZOFFSETTO:+0000
TZNAME:GMT
DTSTART:20231029T010000
END:STANDARD
END:VTIMEZONE
BEGIN:VEVENT
DTSTART;TZID=Europe/London:20221217T190000
DTEND;TZID=Europe/London:20221217T230000
DTSTAMP:20260421T031402
CREATED:20221107T155259Z
LAST-MODIFIED:20221213T171251Z
UID:8965-1671303600-1671318000@supersonic-club.fr
SUMMARY:Salammbô • Ineige • Unisun / Supersonic (Free entry)
DESCRIPTION:WELCOME TO SUPERSONIC\nConcerts gratuits\, Nuits rock et Disquaire à Paris ! \n \nSALAMMBÔ\n(Rock français – Paris\, FR)\nLa musique de Salammbô est une poésie fiévreuse et spontanée\, à laquelle répond un folk-rock retentissant. La chanson française y est animée par un souffle rock alternatif / post-folk porté par le quintet sur scène.\nhttps://salammbo.bandcamp.com/\nhttps://youtu.be/JQX81E2itFs \nINEIGE\n(Pop psyché – Tours\, FR)\nLa neige\, c’est froid mais si on y laisse les mains\, ça brûle.\nC’est ce feu qu’ils invoquent dans leurs chansons psychédéliques entre prières au Phoenix et danses rituelles bestiales.\nUne toile de Matisse peinte avec la langue en écoutant Kate Bush\, Björk et Ange.\nhttps://ineige.bandcamp.com/\nhttps://youtu.be/ZjLZrO9-m7c \nUNISUN\n(Modern Psychedelia – Electric Sparrows Record – Paris\, FR)\nUnisun est une formation musicale créée et menée par les frères Santoni depuis 2018. Après avoir peint ses paysages sonores au sein de la scène parisienne\, le groupe a autoproduit son premier EP\, Elephant in Castle début 2020. Remarqué et supporté sur les réseaux sociaux\, cette sortie a notamment été soutenue par Virgil Abloh. Les sonorités d’Unisun mêlent synthétiseurs analogiques et guitares 70’s avec des méthodes de production modernes. En live\, le groupe embarque l’audience dans un voyage pop aux accents psychédéliques.\nhttps://www.youtube.com/watch?v=0FUjiKeg54Q\n———————————\nSamedi 17 Décembre 2022\nEntrée gratuite\n• Ouverture des portes à 19h00\n• Happy Hour de 19h à 20h (3€50 la pinte)\n———————————\nSUPERSONIC\n9 rue Biscornet\, 75012 Paris\nMétro Bastille (sortie rue de lyon) \nTarifs : Gratuit
URL:https://supersonic-club.fr/event/salammbo-ineige-supersonic-free-entry/
LOCATION:SUPERSONIC\, 9 Rue Biscornet\, Paris\, 75012\, France
CATEGORIES:Concert,Ineige,Pop / Rock / Folk,Salammbô,Sowprog,Unisun
ATTACH;FMTTYPE=image/jpeg:https://supersonic-club.fr/wp-content/uploads/2022/11/namethumb_w600px_img_event_3300069f-0642-4916-9640-b7f51f37fa97-1.jpg
END:VEVENT
END:VCALENDAR