BEGIN:VCALENDAR
VERSION:2.0
PRODID:-//Supersonic - ECPv6.15.20//NONSGML v1.0//EN
CALSCALE:GREGORIAN
METHOD:PUBLISH
X-WR-CALNAME:Supersonic
X-ORIGINAL-URL:https://supersonic-club.fr
X-WR-CALDESC:Évènements pour Supersonic
REFRESH-INTERVAL;VALUE=DURATION:PT1H
X-Robots-Tag:noindex
X-PUBLISHED-TTL:PT1H
BEGIN:VTIMEZONE
TZID:Europe/London
BEGIN:DAYLIGHT
TZOFFSETFROM:+0000
TZOFFSETTO:+0100
TZNAME:BST
DTSTART:20160327T010000
END:DAYLIGHT
BEGIN:STANDARD
TZOFFSETFROM:+0100
TZOFFSETTO:+0000
TZNAME:GMT
DTSTART:20161030T010000
END:STANDARD
BEGIN:DAYLIGHT
TZOFFSETFROM:+0000
TZOFFSETTO:+0100
TZNAME:BST
DTSTART:20170326T010000
END:DAYLIGHT
BEGIN:STANDARD
TZOFFSETFROM:+0100
TZOFFSETTO:+0000
TZNAME:GMT
DTSTART:20171029T010000
END:STANDARD
BEGIN:DAYLIGHT
TZOFFSETFROM:+0000
TZOFFSETTO:+0100
TZNAME:BST
DTSTART:20180325T010000
END:DAYLIGHT
BEGIN:STANDARD
TZOFFSETFROM:+0100
TZOFFSETTO:+0000
TZNAME:GMT
DTSTART:20181028T010000
END:STANDARD
END:VTIMEZONE
BEGIN:VEVENT
DTSTART;TZID=Europe/London:20170527T210000
DTEND;TZID=Europe/London:20170528T003000
DTSTAMP:20260419T193629
CREATED:20170511T124555Z
LAST-MODIFIED:20170511T124555Z
UID:1461-1495918800-1495931400@supersonic-club.fr
SUMMARY:The Wealthy Hobos • Vox Pompidou • The Steam Morrisler // Free
DESCRIPTION:Le Supersonic présente dans une ambiance teintée de blue rock\, de western et de poussière : The Wealthy Hobos\, The Steam Morrisler et la pop de Vox Pompidou viendra enflammer ce qu’il reste du saloon. \n \n→ THE WEALTHY HOBOS – Release Party\n(Blues rock – Paris) \nFumeux\, Blues\, Rugueux\, Rock\, Les gars de The Wealthy Hobos envoient leur son blues/rock\, barbu\, bien crade et lourd influencé de musiques du monde depuis bientôt 3 ans dans des concerts énergiques où ils jouent leurs singles et leur premier album « Everybody Needs Some Change » entre Paris\, Londres et Athènes. Appel aux Hobos\, accrochez-vous aux wagons\, venez twister !\nLeur prochain « EP » 5 Titres\, « Piece Of Chic » sortira le 27 Mai 2017 au Supersonic. \nLes 3 influences: The Rolling Stones\, Led Zeppelin\, Aerosmith \n► Liker : https://www.facebook.com/thewealthyhobos\n► Ecouter :https://thewealthyhobos.bandcamp.com/\n► Regarder: https://www.youtube.com/watch?v=4RMxZIK784w \n→ VOX POMPIDOU\n(Rock pop – Head records – Montpellier) \n« Vox\, c’est ça. Du sexe\, du rythme\, des mélodies\, une musique excitante qui va avec un look\, des riffs acérés et une voix qui déchire. La musique de Vox n’est pas unidimensionnelle : au milieu d’un déluge de décibels et de phéromones se glissent des morceaux atmosphériques de toute beauté. » \nLes 3 influences: Nina Hagen\, Led Zeppelin\, At The Drive-in \n► Liker : https://www.facebook.com/voxlegroupe\n► Ecouter :https://soundcloud.com/voxtracks\n► Regarder: https://www.youtube.com/user/cooldriveasso \n→ The STEAM Morrisler\n(Heavy Western Blues – Absaints production – Paris) \nC’est au milieu d’une épaisse volute de fumée\, en vous frottant les yeux\, que vous rencontrerez les Steam Morrisler. Quatre silhouettes baroques communiant autour d’un rock’n’roll psychédélique dont les arrangements font tape-écho aux bandes sons des western spaghettis ainsi qu’à l’insolence sauvage des séries z. \nLes 3 influences: Aerosmith\, Black Crowes\, Spindrift \n► Liker : https://www.facebook.com/steammorrisler\n► Ecouter :http://www.steammorrisler.com/\n► Regarder: https://www.youtube.com/watch?v=W5dhFhc-pR4&list=PLTDpVXM5kQmTPpi_2rILCzGmluiTGNT3e \nTarifs : Gratuit
URL:https://supersonic-club.fr/event/the-wealthy-hobos-%e2%80%a2-vox-pompidou-%e2%80%a2-the-steam-morrisler-free/
LOCATION:SUPERSONIC\, 9 Rue Biscornet\, Paris\, 75012\, France
CATEGORIES:Concert,Pop / Rock / Folk,The Steam Morrisler,The Wealthy Hobos,Vox Pompidou
ATTACH;FMTTYPE=image/jpeg:https://supersonic-club.fr/wp-content/uploads/2017/05/namethumb_w600px_img_event_7f3c0822-66ba-4ad7-ac37-a4069655f649.jpg
END:VEVENT
END:VCALENDAR