BEGIN:VCALENDAR
VERSION:2.0
PRODID:-//Supersonic - ECPv6.15.20//NONSGML v1.0//EN
CALSCALE:GREGORIAN
METHOD:PUBLISH
X-WR-CALNAME:Supersonic
X-ORIGINAL-URL:https://supersonic-club.fr
X-WR-CALDESC:Évènements pour Supersonic
REFRESH-INTERVAL;VALUE=DURATION:PT1H
X-Robots-Tag:noindex
X-PUBLISHED-TTL:PT1H
BEGIN:VTIMEZONE
TZID:Europe/London
BEGIN:DAYLIGHT
TZOFFSETFROM:+0000
TZOFFSETTO:+0100
TZNAME:BST
DTSTART:20210328T010000
END:DAYLIGHT
BEGIN:STANDARD
TZOFFSETFROM:+0100
TZOFFSETTO:+0000
TZNAME:GMT
DTSTART:20211031T010000
END:STANDARD
BEGIN:DAYLIGHT
TZOFFSETFROM:+0000
TZOFFSETTO:+0100
TZNAME:BST
DTSTART:20220327T010000
END:DAYLIGHT
BEGIN:STANDARD
TZOFFSETFROM:+0100
TZOFFSETTO:+0000
TZNAME:GMT
DTSTART:20221030T010000
END:STANDARD
BEGIN:DAYLIGHT
TZOFFSETFROM:+0000
TZOFFSETTO:+0100
TZNAME:BST
DTSTART:20230326T010000
END:DAYLIGHT
BEGIN:STANDARD
TZOFFSETFROM:+0100
TZOFFSETTO:+0000
TZNAME:GMT
DTSTART:20231029T010000
END:STANDARD
END:VTIMEZONE
BEGIN:VEVENT
DTSTART;TZID=Europe/London:20220912T190000
DTEND;TZID=Europe/London:20220912T230000
DTSTAMP:20260421T075124
CREATED:20220810T192828Z
LAST-MODIFIED:20220912T100352Z
UID:8343-1663009200-1663023600@supersonic-club.fr
SUMMARY:ANNULE ! The Snuts • Neeve • Dutch Criminal Record / Supersonic (Free entry)
DESCRIPTION:  \nNous venons d’apprendre que The Snuts et les groupes qui les accompagnent ne pourront pas venir à Paris ce soir..! La soirée est donc annulée et le Supersonic sera fermé 🙁 Nos excuses pour la gêne occasionnée. \n  \nTHE SNUTS(Indie rock – West Lothian\, FR)Following a tense chart battle with Demi Lovato\, The Snuts recently become the first Scottish band to achieve a UK Number 1 for 14 years with their debut album ‘W.L.’ – selling over 20\,000 sales. The album encapsulates the band’s journey from four working class kids growing up with a dream in Whitburn\, West Lothian\, to becoming one of the UK’s most exciting and vital bands of the new decade.   A ferocious 2020 first saw the band land a top 15 album chart position with their debut Mixtape EP\, a #1 spot on the UK vinyl chart\, #1 in the Scottish album charts\, an appearance and sync in a UK-wide multi million pound Strongbow ad campaign\, FIFA21 soundtrack sync and over 30 million streams.  https://open.spotify.com/artist/4AzAfQNuAyKOFG4DZMsdAo…https://www.youtube.com/watch?v=QF7BciUPNXU \nNEEVE(Indie rock – Germany)NEEVE from South Germany allows a name-dropping of a special kind. From a certain point of view\, NEEVE are a bit like The National\, nowhere near as toxic as Oasis. Similarly\, entangled as Kings of Leon and twice as many as the Kinks. In fact\, the 2018 formed band has a close family connection. They consist of two pairs of brothers who are also cousins: Felix Seyboth (vocals\, drums) and Axel Seyboth (production\, piano\, guitar) and Marius Spohrer (guitar) and Philipp Spohrer (bass). The band’s name NEEVE\, should therefore also be understood as a common\, fictitious family name. Musically\, NEEVE are closer to acts like The 1975\, Giant Rooks\, The Neighbourhood or even The Killers. They are not afraid of big pop moments\, which never sound overloaded in NEEVE. As they are always grounded by the very emotional\, open lyrics written by singer Felix Seyboth. For example\, about his ADHD diagnosis\, toxic masculinity\, mental health struggles\, but also about love and the relationship with his brother. The biggest surprise\, however\, might be that NEEVE produce their dazzling\, international-sounding sound mostly on their own!https://open.spotify.com/artist/6Ais7UkieGvrmSxQ8eAullhttps://youtu.be/cQpN8nzLFt0 \nDUTCH CRIMINAL RECORD(Indie pop – Chichester\, UK)Dutch Criminal Record are a south coast indie surf band from Portsmouth\, UK. Their sound is a blend of 60’s pop vocals\, interlinking riffs and blooming harmonies.   DCR have received airtime from BBC 6 Music and regular spins on Regional BBC Radio including a live performance from BBC Broadcasting House Brighton and BBC Solent. Their sunny surf sounds have garnered Spotify Editorial playlisting slots on Fresh Finds\, the United States Viral 50 and Hot New Bands. They have been touted by Wonderland\, Clash and The Guardian Guide\, not least\, ahead of their slot at Victorious festival.   “There’s something wonderful and wilfully gleeful about 00’s Nostalgia which despite the title rather reminds me of the great jangle-fest which was the mid 80’s” – Steve Lamacq\, BBC Radio 6 Music   « Choppy\, energetic\, supremely buoyant » – Clash Magazine   « A band I never tire of playing » – Charlie Ashcroft\, Amazing Radio.https://dutchcriminalrecord.bandcamp.com/https://www.youtube.com/watch?v=cVv0nMVjt9c——————————— \nTarifs : Gratuit
URL:https://supersonic-club.fr/event/the-snuts-zedmanest-supersonic-free-entry/
LOCATION:SUPERSONIC\, 9 Rue Biscornet\, Paris\, 75012\, France
CATEGORIES:Concert,Dutch Criminal Record,Neeve,Pop / Rock / Folk,Sowprog,The Snuts
ATTACH;FMTTYPE=image/jpeg:https://supersonic-club.fr/wp-content/uploads/2022/08/namethumb_w600px_img_event_155748b6-cf68-4f89-9b6b-83036051ad4c-2.jpg
END:VEVENT
END:VCALENDAR