BEGIN:VCALENDAR
VERSION:2.0
PRODID:-//Supersonic - ECPv6.15.20//NONSGML v1.0//EN
CALSCALE:GREGORIAN
METHOD:PUBLISH
X-WR-CALNAME:Supersonic
X-ORIGINAL-URL:https://supersonic-club.fr
X-WR-CALDESC:Évènements pour Supersonic
REFRESH-INTERVAL;VALUE=DURATION:PT1H
X-Robots-Tag:noindex
X-PUBLISHED-TTL:PT1H
BEGIN:VTIMEZONE
TZID:Europe/London
BEGIN:DAYLIGHT
TZOFFSETFROM:+0000
TZOFFSETTO:+0100
TZNAME:BST
DTSTART:20180325T010000
END:DAYLIGHT
BEGIN:STANDARD
TZOFFSETFROM:+0100
TZOFFSETTO:+0000
TZNAME:GMT
DTSTART:20181028T010000
END:STANDARD
BEGIN:DAYLIGHT
TZOFFSETFROM:+0000
TZOFFSETTO:+0100
TZNAME:BST
DTSTART:20190331T010000
END:DAYLIGHT
BEGIN:STANDARD
TZOFFSETFROM:+0100
TZOFFSETTO:+0000
TZNAME:GMT
DTSTART:20191027T010000
END:STANDARD
BEGIN:DAYLIGHT
TZOFFSETFROM:+0000
TZOFFSETTO:+0100
TZNAME:BST
DTSTART:20200329T010000
END:DAYLIGHT
BEGIN:STANDARD
TZOFFSETFROM:+0100
TZOFFSETTO:+0000
TZNAME:GMT
DTSTART:20201025T010000
END:STANDARD
END:VTIMEZONE
BEGIN:VEVENT
DTSTART;TZID=Europe/London:20190504T210000
DTEND;TZID=Europe/London:20190505T003000
DTSTAMP:20260419T220153
CREATED:20190329T173652Z
LAST-MODIFIED:20190329T173652Z
UID:4228-1557003600-1557016200@supersonic-club.fr
SUMMARY:The Anomalys • Frankie Teardrop Dead / Supersonic (Free entry)
DESCRIPTION:▬ Le Supersonic présente ▬ \n \n▬▬▬ ENTREE LIBRE JUSQU’A 23H ▬▬▬▬ \n→ THE ANOMALYS\n(Garage Punk – Slovenly Recordings – Amsterdam\,NL) \nThe Anomalys\, certainement le groupe européen de garage punk primitif le plus exporté du 21 éme siècle .. Sauvage\, frénétique\, provocant les ANOMALYS ont joué dans le monde entier sur tous les continents\, de la cave concert\, jusqu’à remplir des stades en Amérique du sud. Depuis 20 ans\, Bone guitariste chanteur du groupe\, prêche la bonne parole d’un rock’n’roll punk pur où l’on peut retrouver toutes ses influences rock’n’roll 50’s 60’s 70’s teintées de blues\, garage et punk … Après une pause de 2 ans\, Il est de retour avec un nouveau Line Up et pas des moindres. Plus détonnant et percutant que jamais: on y retrouve à la batterie: Remi (Escobar / Weird Omen) et pour la deuxième guitare Sir Looch Vibrato (Magnetix / King Khan LTD / Avenue Z) .. Après une première tournée Espagnole en septembre pour fêter la sortie du EP avec 4 nouveaux titres inédits sur Slovenly Recordings .. Le groupe annonce une nouvelle tournée en Europe pour 2019. \n► Liker : https://www.facebook.com/The.Anomalys/\n► Ecouter: https://theanomalys.bandcamp.com/\n► Regarder: https://www.youtube.com/watch?v=FdAE51-074I&feature=youtu.be \n→ FRANKIE TEARDROP DEAD\n(Psychedelic dream-gaze – London\,UK) \n«Frankie Teardrop Dead have been developing their sound for the past four years\, working from their sonic bunker deep inside the chaos of the concrete Fountayne Road in North London. Expertly connecting the energies of Neo-Psychedelia\, Shoegaze\, Dreampop and Post-Punk\, FTD released their debut album “Better than Some\, Worse than Others” late in 2015.\nThe six-piece\, comprising of Ben\, Carling\, The Sloth\, Luigi\, Daniel and Eric have since been conjuring up their most ambitious project to date-“All you Need is Love and Fucking Peace”\, set to melt minds in October 2018 with Echoes of Primal Scream\, Velvet Underground\, Brian Jonestown Massacre and The Cure to permeate the huge soundscapes of their second LP\, which looks poised to blow the lid off the UK Psych-scene.\nSince sharing the stage with such bands as The Brian Jonestown Massacre\, The Telescopes\, Vibravoid\, Dreamweapon and The Cambodian Space Project\, the band have attracted a devoted underground following for their cosmic London shows\, FTD are hitting the road for a UK tour along with a string of European dates.» \n► Liker : https://www.facebook.com/pg/frankieteardropdead/\n► Ecouter: https://soundcloud.com/frankieteardropdead \n▬▬▬ INFOS PRATIQUES ▬▬▬ \nSamedi 4 Mai 2019\nEntrée gratuite jusqu’à 23h \n– Ouverture des portes à 18h30\n– Début des concerts vers 20h\n– Happy Hour de 18h30 à 20h (3€50 la pinte)\n– Hot Dog au bar \n▬▬▬▬▬▬▬▬▬▬▬▬▬▬▬▬▬▬▬▬▬▬▬ \nSUPERSONIC\n9 rue Biscornet\, 75012 Paris\nMétro Bastille (sortie rue de lyon)\nhttp://supersonic-club.fr/\nInscription à la newsletter du Supersonic: http://bit.ly/1lWTnx4 \nTarifs : Gratuit
URL:https://supersonic-club.fr/event/the-anomalys-%e2%80%a2-frankie-teardrop-dead-supersonic-free-entry/
LOCATION:SUPERSONIC\, 9 Rue Biscornet\, Paris\, 75012\, France
CATEGORIES:Concert,Frankie Teardrop Dead,Pop / Rock / Folk,The Anomalys
ATTACH;FMTTYPE=image/jpeg:https://supersonic-club.fr/wp-content/uploads/2019/03/namethumb_w600px_img_event_cc2607f6-bb7b-4bdc-b245-a74f9810ad98.jpg
END:VEVENT
END:VCALENDAR