BEGIN:VCALENDAR
VERSION:2.0
PRODID:-//Supersonic - ECPv6.15.20//NONSGML v1.0//EN
CALSCALE:GREGORIAN
METHOD:PUBLISH
X-WR-CALNAME:Supersonic
X-ORIGINAL-URL:https://supersonic-club.fr
X-WR-CALDESC:Évènements pour Supersonic
REFRESH-INTERVAL;VALUE=DURATION:PT1H
X-Robots-Tag:noindex
X-PUBLISHED-TTL:PT1H
BEGIN:VTIMEZONE
TZID:Europe/London
BEGIN:DAYLIGHT
TZOFFSETFROM:+0000
TZOFFSETTO:+0100
TZNAME:BST
DTSTART:20160327T010000
END:DAYLIGHT
BEGIN:STANDARD
TZOFFSETFROM:+0100
TZOFFSETTO:+0000
TZNAME:GMT
DTSTART:20161030T010000
END:STANDARD
BEGIN:DAYLIGHT
TZOFFSETFROM:+0000
TZOFFSETTO:+0100
TZNAME:BST
DTSTART:20170326T010000
END:DAYLIGHT
BEGIN:STANDARD
TZOFFSETFROM:+0100
TZOFFSETTO:+0000
TZNAME:GMT
DTSTART:20171029T010000
END:STANDARD
BEGIN:DAYLIGHT
TZOFFSETFROM:+0000
TZOFFSETTO:+0100
TZNAME:BST
DTSTART:20180325T010000
END:DAYLIGHT
BEGIN:STANDARD
TZOFFSETFROM:+0100
TZOFFSETTO:+0000
TZNAME:GMT
DTSTART:20181028T010000
END:STANDARD
END:VTIMEZONE
BEGIN:VEVENT
DTSTART;TZID=Europe/London:20170516T210000
DTEND;TZID=Europe/London:20170517T003000
DTSTAMP:20260420T032054
CREATED:20170501T083126Z
LAST-MODIFIED:20170501T083126Z
UID:1370-1494968400-1494981000@supersonic-club.fr
SUMMARY:TAU (Fuzz Club\, Berlin) • Kasoar // Supersonic - Free
DESCRIPTION:Le Supersonic présente…la #Transcendental #Psychedelia de TAU du Fuzz Club accompagné du #garagepsyché de Kasoar. \n \n→ TAU\n(Transcendental Psychedelia – Fuzz Club – Berlin\, ALL) \nTAU est le projet formé par l’Irlandais Shaun Mulrooney ex-membre des Dead Skeletons et le Vénézuélien Gerald Pasqualin\, Leur premier album « TAU TAU TAU » enregistré à Berlin est sorti en septembre dernier chez Fuzz Club Records.\nInspiré des grands espaces désertiques du Wixarika (Mexique) et de leur pèlerinage à « Wirikuta sur les terres des indiens Huichol\, TAU signifie « Pére Soleil » dans les civilisations pré-hispaniques.\nLeur musique transpire la transe chamanique\, le psychédélisme le plus brut\, le tout chanté en Anglais\, Espagnol et Gaelic. De nombreuses collaborations sont à noter sur cet album\, tel que Kadavar\, The Soft Moon\, Moon Duo ou encore Pussywarmers. \n► Liker : https://www.facebook.com/tauberlin/?fref=ts\n► Ecouter : https://tauofficial.bandcamp.com/\n► Regarder: https://www.youtube.com/channel/UCVdVRgg1CIj3WdtK9i4l9kQ/videos \n→ KASOAR\n(Garage psych – Dijon) \nKasoar est un oiseau haut en couleur oscillant entre le rock psychédélique et la froideur mécanique du post-punk. Kasoar c’est un power trio\, une montée d’acide sonore\, un moteur V8 qui ronronne\, les années 90 qui résonnent à coup de space écho. \nLes 3 influences: The Brian Jonestown Massacre\, Joy division\, Dead Kennedys \n► Liker : https://www.facebook.com/kasoar/\n► Ecouter : https://kasoar.bandcamp.com/ \n+ GUEST \nTarifs : Gratuit
URL:https://supersonic-club.fr/event/tau-fuzz-club-berlin-%e2%80%a2-kasoar-supersonic-free/
LOCATION:SUPERSONIC\, 9 Rue Biscornet\, Paris\, 75012\, France
CATEGORIES:Concert,KASOAR,Pop / Rock / Folk,TAU
ATTACH;FMTTYPE=image/jpeg:https://supersonic-club.fr/wp-content/uploads/2017/05/namethumb_w600px_img_event_b8153a93-fa1f-4dbf-a698-a98f6e0ed824.jpg
END:VEVENT
END:VCALENDAR