BEGIN:VCALENDAR
VERSION:2.0
PRODID:-//Supersonic - ECPv6.15.20//NONSGML v1.0//EN
CALSCALE:GREGORIAN
METHOD:PUBLISH
X-WR-CALNAME:Supersonic
X-ORIGINAL-URL:https://supersonic-club.fr
X-WR-CALDESC:Évènements pour Supersonic
REFRESH-INTERVAL;VALUE=DURATION:PT1H
X-Robots-Tag:noindex
X-PUBLISHED-TTL:PT1H
BEGIN:VTIMEZONE
TZID:Europe/London
BEGIN:DAYLIGHT
TZOFFSETFROM:+0000
TZOFFSETTO:+0100
TZNAME:BST
DTSTART:20220327T010000
END:DAYLIGHT
BEGIN:STANDARD
TZOFFSETFROM:+0100
TZOFFSETTO:+0000
TZNAME:GMT
DTSTART:20221030T010000
END:STANDARD
BEGIN:DAYLIGHT
TZOFFSETFROM:+0000
TZOFFSETTO:+0100
TZNAME:BST
DTSTART:20230326T010000
END:DAYLIGHT
BEGIN:STANDARD
TZOFFSETFROM:+0100
TZOFFSETTO:+0000
TZNAME:GMT
DTSTART:20231029T010000
END:STANDARD
BEGIN:DAYLIGHT
TZOFFSETFROM:+0000
TZOFFSETTO:+0100
TZNAME:BST
DTSTART:20240331T010000
END:DAYLIGHT
BEGIN:STANDARD
TZOFFSETFROM:+0100
TZOFFSETTO:+0000
TZNAME:GMT
DTSTART:20241027T010000
END:STANDARD
END:VTIMEZONE
BEGIN:VEVENT
DTSTART;TZID=Europe/London:20230220T190000
DTEND;TZID=Europe/London:20230220T230000
DTSTAMP:20260420T033633
CREATED:20230118T180516Z
LAST-MODIFIED:20230118T180516Z
UID:9710-1676919600-1676934000@supersonic-club.fr
SUMMARY:Atlas For Home • Hype Lights • Take It Easy Mikey / Supersonic (Free entry)
DESCRIPTION:WELCOME TO SUPERSONIC\nConcerts gratuits\, Nuits rock et Disquaire à Paris ! \n \nATLAS FOR HOME\n(Pop punk – Red Toad Music – Paris\, FR)\nFollowing the release of 2 EPs (« More Than a Year » in 2014 et « Late Bloomer » in 2018) and many shows in Europe alongside bands like State Champs\, Four Year Strong or Judah & the Lion\, Atlas for Home is back in 2022 with « Keep Going »\, their brand new single and first song of their new EP to be released the same year. Afresh pop-punk/emo track with a heavy hook that shows the new Atlas for Home direction.\nOn May 2022\, Atlas for Home released « OMG »\, a brand new & fresh pop punk track\, through KROD Records / Red Toad Music. https://open.spotify.com/artist/37spg9xBapfjLG1oE8uv7a…\nhttps://youtu.be/UmzcTDFz4wg \nHYPE LIGHTS\n(Rock alternatif – RAS – Lyon\, FR)\nHype Lights\, est un groupe de Rock Alternatif français de originaire de Lyon (69)\, aux influences multiples marqué par des sonorités punk rock\, pop punk\, et metalcore. Les paroles et les messages soulignent et évoquent les problèmes du quotidien auxquels tout le monde est confronté. Le groupe a sorti récemment son nouveau single Fever Dream en Octobre 2022\, extrait du premier album du groupe\, Leave It All Behind\, prévu pour 2023.\nhttps://open.spotify.com/artist/2npU68D7kt0LE5zdDZYFJo…\nhttps://youtu.be/4-M1nRaYGVs \nTAKE IT EASY MIKEY\n(Indie rock – Paris\, FR)\nBackyard Indie Rock // Paris\, France // First Single Out Soon.\nhttps://www.instagram.com/takeiteasymikey\n———————————\nLundi 20 Février 2023\nEntrée gratuite\n• Ouverture des portes à 19h00\n• Happy Hour de 19h à 20h (3€50 la pinte)\n• Si vous êtes témoin ou victime d’une agression\, vous pouvez alerter le personnel du bar ou si vous préférez\, vous pouvez nous écrire à cette adresse: communication@supersonic-paris.fr\n———————————\nSUPERSONIC\n9 rue Biscornet\, 75012 Paris\nMétro Bastille (sortie rue de lyon) \nTarifs : Gratuit
URL:https://supersonic-club.fr/event/atlas-for-home-hype-lights-take-it-easy-mikey-supersonic-free-entry/
LOCATION:SUPERSONIC\, 9 Rue Biscornet\, Paris\, 75012\, France
CATEGORIES:ATLAS FOR HOME,Concert,Hype Lights,Pop / Rock / Folk,Sowprog,SUPERSONIC,Take It Easy Mikey
ATTACH;FMTTYPE=image/jpeg:https://supersonic-club.fr/wp-content/uploads/2023/01/namethumb_w600px_img_event_15db8090-1d50-4300-b02a-65b2489bac3b.jpg
END:VEVENT
END:VCALENDAR