BEGIN:VCALENDAR
VERSION:2.0
PRODID:-//Supersonic - ECPv6.15.20//NONSGML v1.0//EN
CALSCALE:GREGORIAN
METHOD:PUBLISH
X-ORIGINAL-URL:https://supersonic-club.fr
X-WR-CALDESC:Évènements pour Supersonic
REFRESH-INTERVAL;VALUE=DURATION:PT1H
X-Robots-Tag:noindex
X-PUBLISHED-TTL:PT1H
BEGIN:VTIMEZONE
TZID:Europe/London
BEGIN:DAYLIGHT
TZOFFSETFROM:+0000
TZOFFSETTO:+0100
TZNAME:BST
DTSTART:20220327T010000
END:DAYLIGHT
BEGIN:STANDARD
TZOFFSETFROM:+0100
TZOFFSETTO:+0000
TZNAME:GMT
DTSTART:20221030T010000
END:STANDARD
BEGIN:DAYLIGHT
TZOFFSETFROM:+0000
TZOFFSETTO:+0100
TZNAME:BST
DTSTART:20230326T010000
END:DAYLIGHT
BEGIN:STANDARD
TZOFFSETFROM:+0100
TZOFFSETTO:+0000
TZNAME:GMT
DTSTART:20231029T010000
END:STANDARD
BEGIN:DAYLIGHT
TZOFFSETFROM:+0000
TZOFFSETTO:+0100
TZNAME:BST
DTSTART:20240331T010000
END:DAYLIGHT
BEGIN:STANDARD
TZOFFSETFROM:+0100
TZOFFSETTO:+0000
TZNAME:GMT
DTSTART:20241027T010000
END:STANDARD
END:VTIMEZONE
BEGIN:VEVENT
DTSTART;TZID=Europe/London:20230803T230000
DTEND;TZID=Europe/London:20230804T040000
DTSTAMP:20260420T084626
CREATED:20230609T134005Z
LAST-MODIFIED:20230609T134005Z
UID:10881-1691103600-1691121600@supersonic-club.fr
SUMMARY:Summer Disco Nights : 3 Août / Supersonic
DESCRIPTION:WELCOME TO SUPERSONIC\nConcerts gratuits\, et nuits rock à Paris ! \n \nSUMMER DISCO NIGHTS\nCe n’est plus un secret\, la Dancing Queen\, la nuit disco paillettes du Supersonic est devenue une des soirées les plus mythiques du club de Bastille !\nPour faire briller votre été\, on a eu l’idée de vous organiser une saison « Summer Disco Nights » où tous les jeudis vous pourrez venir vous déhancher sur les sons disco des années 1970\, 1980 à nos jours !\nOn enfile sa plus belle tenue de lumière\, on sort les paillettes et on vient briller sous les boules à facettes de 23h à 4h du matin:\nJeudi 27 Juillet\nJeudi 3 Août\nJeudi 10 Août\nJeudi 17 Août\nJeudi 24 Août\nCette soirée est pour toi\, si tu aimes la Disco\, la Soul\, la Funk\, et notamment:\nABBA / Boney M / Donna Summer / Gloria Gaynor / Chic / Earth\, Wind & Fire / Kool & The Gang / The Jackson 5 / Bee Gees / Diana Ross / Giorgio Moroder / Village People…\n———————————\nEntrée à 5€ de 23h à 2h (puis 10€ jusqu’à 4h)\n• Vestiaire au 2ème étage\n• Entrée interdite aux mineur.e.s\n• Si vous êtes témoin ou victime d’une agression\, vous pouvez alerter le personnel du bar ou si vous préférez\, vous pouvez nous écrire à cette adresse: communication@supersonic-paris.fr\n———————————\nSUPERSONIC\n9 rue Biscornet\, 75012 Paris\nMétro Bastille (sortie rue de lyon) \nTarifs : Ticket : 5€ \nBilletteries : Dice
URL:https://supersonic-club.fr/event/summer-disco-nights-3-aout-supersonic/
LOCATION:SUPERSONIC\, 9 Rue Biscornet\, Paris\, 75012\, France
CATEGORIES:Clubbing,Pop / Rock / Folk,Sowprog,SUPERSONIC,Supersonic Productions
ATTACH;FMTTYPE=image/jpeg:https://supersonic-club.fr/wp-content/uploads/2023/06/namethumb_w600px_img_event_10176146-51f7-4d36-b66e-723e0c2c9749.jpg
END:VEVENT
BEGIN:VEVENT
DTSTART;TZID=Europe/London:20230810T230000
DTEND;TZID=Europe/London:20230811T040000
DTSTAMP:20260420T084626
CREATED:20230609T134009Z
LAST-MODIFIED:20230609T134009Z
UID:10883-1691708400-1691726400@supersonic-club.fr
SUMMARY:Summer Disco Nights : 10 Août / Supersonic
DESCRIPTION:WELCOME TO SUPERSONIC\nConcerts gratuits\, et nuits rock à Paris ! \n \nSUMMER DISCO NIGHTS\nCe n’est plus un secret\, la Dancing Queen\, la nuit disco paillettes du Supersonic est devenue une des soirées les plus mythiques du club de Bastille !\nPour faire briller votre été\, on a eu l’idée de vous organiser une saison « Summer Disco Nights » où tous les jeudis vous pourrez venir vous déhancher sur les sons disco des années 1970\, 1980 à nos jours !\nOn enfile sa plus belle tenue de lumière\, on sort les paillettes et on vient briller sous les boules à facettes de 23h à 4h du matin:\nJeudi 27 Juillet\nJeudi 3 Août\nJeudi 10 Août\nJeudi 17 Août\nJeudi 24 Août\nCette soirée est pour toi\, si tu aimes la Disco\, la Soul\, la Funk\, et notamment:\nABBA / Boney M / Donna Summer / Gloria Gaynor / Chic / Earth\, Wind & Fire / Kool & The Gang / The Jackson 5 / Bee Gees / Diana Ross / Giorgio Moroder / Village People…\n———————————\nEntrée à 5€ de 23h à 2h (puis 10€ jusqu’à 4h)\n• Vestiaire au 2ème étage\n• Entrée interdite aux mineur.e.s\n• Si vous êtes témoin ou victime d’une agression\, vous pouvez alerter le personnel du bar ou si vous préférez\, vous pouvez nous écrire à cette adresse: communication@supersonic-paris.fr\n———————————\nSUPERSONIC\n9 rue Biscornet\, 75012 Paris\nMétro Bastille (sortie rue de lyon) \nTarifs : Ticket : 5€ \nBilletteries : Dice
URL:https://supersonic-club.fr/event/summer-disco-nights-10-aout-supersonic/
LOCATION:SUPERSONIC\, 9 Rue Biscornet\, Paris\, 75012\, France
CATEGORIES:Clubbing,Pop / Rock / Folk,Sowprog,SUPERSONIC,Supersonic Productions
ATTACH;FMTTYPE=image/jpeg:https://supersonic-club.fr/wp-content/uploads/2023/06/namethumb_w600px_img_event_a31d1002-582a-415e-9ae1-9d687cfb8ac3.jpg
END:VEVENT
BEGIN:VEVENT
DTSTART;TZID=Europe/London:20230812T230000
DTEND;TZID=Europe/London:20230813T060000
DTSTAMP:20260420T084626
CREATED:20230614T134849Z
LAST-MODIFIED:20230614T134849Z
UID:10906-1691881200-1691906400@supersonic-club.fr
SUMMARY:Electric Feel / Nuit Indie & Modern Pop du Supersonic
DESCRIPTION:WELCOME TO SUPERSONIC\nConcerts gratuits\, et nuits rock à Paris ! \n \nL’Electric Feel de retour !\nL’Electric Feel vous embarque dans un voyage au sein d’un kaléidoscope de pop solaire et de rythmes électroniques nocturnes. Sélection de ce que l’indie pop a fait de meilleur ces 20 dernières années!\nDJ SET Indie & Modern Pop\nLive à 1h d’El Camino\nLa playlist pour te mettre dans l’ambiance :\nhttps://open.spotify.com/playlist/3BVRItWzE0mURghXU1lEMZ\nMGMT / Arcade Fire / Phoenix / Tame Impala / LCD Soundsystem / Hot Chip / Metronomy / Empire Of The Sun / Gossip / Cut Copy / The Drums / Foals / Grizzly Bear / Fever Ray / Animal Collective / The Flaming Lips / Crystal Castles / Deerhunter / !!! / The Rapture / Caribou / Soulwax / Ariel Pink / Mac DeMarco / Wild Nothing / King Krule / The XX / Passion Pit / Two Door Cinema Club / Vampire Weekend / Bloc Party / The Horrors / Bombay Bicycle Club / CSS / Ting Tings / La Roux / The Knife / Grimes / Warpaint …..\n———————————\nEntrée à 5€ de 23h à 2h (puis 10€ jusqu’à 6h)\n• Vestiaire au 2ème étage\n• Entrée interdite aux mineur.e.s\n• Si vous êtes témoin ou victime d’une agression\, vous pouvez alerter le personnel du bar ou si vous préférez\, vous pouvez nous écrire à cette adresse: communication@supersonic-paris.fr\n———————————\nSUPERSONIC\n9 rue Biscornet\, 75012 Paris\nMétro Bastille (sortie rue de lyon) \nTarifs : Ticket : 5€ \nBilletteries : Coupe-File
URL:https://supersonic-club.fr/event/electric-feel-nuit-indie-modern-pop-du-supersonic-16/
LOCATION:SUPERSONIC\, 9 Rue Biscornet\, Paris\, 75012\, France
CATEGORIES:Clubbing,Pop / Rock / Folk,Sowprog,SUPERSONIC,Supersonic Productions
ATTACH;FMTTYPE=image/jpeg:https://supersonic-club.fr/wp-content/uploads/2023/06/namethumb_w600px_img_event_9a7e1610-a275-4183-af4f-4d40555eb8de.jpg
END:VEVENT
BEGIN:VEVENT
DTSTART;TZID=Europe/London:20230817T230000
DTEND;TZID=Europe/London:20230818T040000
DTSTAMP:20260420T084626
CREATED:20230609T134013Z
LAST-MODIFIED:20230609T134013Z
UID:10885-1692313200-1692331200@supersonic-club.fr
SUMMARY:Summer Disco Nights : 17 Août / Supersonic
DESCRIPTION:WELCOME TO SUPERSONIC\nConcerts gratuits\, et nuits rock à Paris ! \n \nSUMMER DISCO NIGHTS\nCe n’est plus un secret\, la Dancing Queen\, la nuit disco paillettes du Supersonic est devenue une des soirées les plus mythiques du club de Bastille !\nPour faire briller votre été\, on a eu l’idée de vous organiser une saison « Summer Disco Nights » où tous les jeudis vous pourrez venir vous déhancher sur les sons disco des années 1970\, 1980 à nos jours !\nOn enfile sa plus belle tenue de lumière\, on sort les paillettes et on vient briller sous les boules à facettes de 23h à 4h du matin:\nJeudi 27 Juillet\nJeudi 3 Août\nJeudi 10 Août\nJeudi 17 Août\nJeudi 24 Août\nCette soirée est pour toi\, si tu aimes la Disco\, la Soul\, la Funk\, et notamment:\nABBA / Boney M / Donna Summer / Gloria Gaynor / Chic / Earth\, Wind & Fire / Kool & The Gang / The Jackson 5 / Bee Gees / Diana Ross / Giorgio Moroder / Village People…\n———————————\nEntrée à 5€ de 23h à 2h (puis 10€ jusqu’à 4h)\n• Vestiaire au 2ème étage\n• Entrée interdite aux mineur.e.s\n• Si vous êtes témoin ou victime d’une agression\, vous pouvez alerter le personnel du bar ou si vous préférez\, vous pouvez nous écrire à cette adresse: communication@supersonic-paris.fr\n———————————\nSUPERSONIC\n9 rue Biscornet\, 75012 Paris\nMétro Bastille (sortie rue de lyon) \nTarifs : Ticket : 5€ \nBilletteries : Dice
URL:https://supersonic-club.fr/event/summer-disco-nights-17-aout-supersonic/
LOCATION:SUPERSONIC\, 9 Rue Biscornet\, Paris\, 75012\, France
CATEGORIES:Clubbing,Pop / Rock / Folk,Sowprog,SUPERSONIC,Supersonic Productions
ATTACH;FMTTYPE=image/jpeg:https://supersonic-club.fr/wp-content/uploads/2023/06/namethumb_w600px_img_event_49075251-820d-4fc0-b1aa-066232a2b809.jpg
END:VEVENT
BEGIN:VEVENT
DTSTART;TZID=Europe/London:20230818T230000
DTEND;TZID=Europe/London:20230819T060000
DTSTAMP:20260420T084626
CREATED:20230628T152141Z
LAST-MODIFIED:20230628T152141Z
UID:10966-1692399600-1692424800@supersonic-club.fr
SUMMARY:Just Can’t Get Enough / New Wave Party du Supersonic
DESCRIPTION:WELCOME TO SUPERSONIC\nConcerts gratuits\, et nuits rock à Paris ! \n \nJust Can’t Get Enough !\nEntre fièvre froide et nappes synthétiques\, là où les lundis sont bleus et où les garçons ne pleurent pas\, on vous donne rendez-vous pour danser sur les meilleurs sons new wave post-punk des années 80s à nos jours.\nLive Tribute à 1h de Banga\nDj set newwave\, post-punk et coldwave\nSi tu aimes…\nDepeche Mode / New Order / Orchestral Manoeuvre in the Dark / The Human League / Kraftwerk / Ultravox / Soft Cell / Pet Shop Boys / Bronski Beat / Alphaville / Visage / Devo / Kaelan Mikla / The Cure / Yazoo / Kim Wild / A Flock Of Seagulls / Cold Cave / Visage / Lebanon Hanover / Eurythmics / Grauzone / Dead Or Alive / Lust For Youth…\nPour t’ambiancer dès maintenant\, on t’a préparé une petite playlist: https://spoti.fi/3CJkxjA\n———————————\nEntrée à 5€ de 23h à 2h (puis 10€ jusqu’à 6h)\n• Vestiaire au 2ème étage\n• Entrée interdite aux mineur.e.s\n• Si vous êtes témoin ou victime d’une agression\, vous pouvez alerter le personnel du bar ou si vous préférez\, vous pouvez nous écrire à cette adresse: communication@supersonic-paris.fr\n———————————\nSUPERSONIC\n9 rue Biscornet\, 75012 Paris\nMétro Bastille (sortie rue de lyon) \nTarifs : Ticket : 5€ \nBilletteries : Dice
URL:https://supersonic-club.fr/event/just-cant-get-enough-new-wave-party-du-supersonic-7/
LOCATION:SUPERSONIC\, 9 Rue Biscornet\, Paris\, 75012\, France
CATEGORIES:Concert,Pop / Rock / Folk,Sowprog,SUPERSONIC,Supersonic Productions
ATTACH;FMTTYPE=image/jpeg:https://supersonic-club.fr/wp-content/uploads/2023/06/namethumb_w600px_img_event_fc7f9d43-83f7-429a-919f-60b026939fbb.jpg
END:VEVENT
BEGIN:VEVENT
DTSTART;TZID=Europe/London:20230819T230000
DTEND;TZID=Europe/London:20230820T060000
DTSTAMP:20260420T084626
CREATED:20230622T185417Z
LAST-MODIFIED:20230622T185417Z
UID:10943-1692486000-1692511200@supersonic-club.fr
SUMMARY:Trilogie du Samedi // Nuit 90s 2000s du Supersonic
DESCRIPTION:WELCOME TO SUPERSONIC\nConcerts gratuits\, et nuits rock à Paris ! \n \nLa Trilogie du Samedi est de retour !\nUne nuit entière avec la bande à Buffy et les soeurs Halliwell !\nAu programme: Lives de nuits dont le mythique live de INDAL composé de reprises de génériques TV (Buffy\, Charmed\, Smallville\, Alias)…\nDj set des années 90s et début 2000’s par Marques de Sad et Sheitan.\navec dans la playlist :\nSpice Girls / Britney Spears / Céline Dion / Aqua / Natalie Imbuglia / Garou / Sum 41 / Alizée / KYO / Outkast / Louise Attaque / Blink 182 / Corona / Avril Lavigne / Backstreet Boys / The Offspring / Will Smith / Smash Mouth / Eminem…\nPour t’ambiancer dès maintenant https://open.spotify.com/playlist/0SZJ5tjkvXmdckN6d5tnc8…\nNotre Trilogie du Samedi en images\nhttps://youtu.be/MOrYSeF0sSw\n———————————\nEntrée à 5€ de 23h à 2h (puis 10€ jusqu’à 6h)\n• Vestiaire au 2ème étage\n• Entrée interdite aux mineur.e.s\n• Si vous êtes témoin ou victime d’une agression\, vous pouvez alerter le personnel du bar ou si vous préférez\, vous pouvez nous écrire à cette adresse: communication@supersonic-paris.fr\n———————————\nSUPERSONIC\n9 rue Biscornet\, 75012 Paris\nMétro Bastille (sortie rue de lyon) \nTarifs : Ticket : 5€ \nBilletteries : Dice
URL:https://supersonic-club.fr/event/trilogie-du-samedi-nuit-90s-2000s-du-supersonic-23/
LOCATION:SUPERSONIC\, 9 Rue Biscornet\, Paris\, 75012\, France
CATEGORIES:Clubbing,Pop / Rock / Folk,Sowprog,SUPERSONIC,Supersonic Productions
ATTACH;FMTTYPE=image/jpeg:https://supersonic-club.fr/wp-content/uploads/2023/06/namethumb_w600px_img_event_bb538cc1-da22-44fc-8858-af2a1cddf3f0.jpg
END:VEVENT
BEGIN:VEVENT
DTSTART;TZID=Europe/London:20230824T230000
DTEND;TZID=Europe/London:20230825T040000
DTSTAMP:20260420T084626
CREATED:20230609T134016Z
LAST-MODIFIED:20230609T134016Z
UID:10887-1692918000-1692936000@supersonic-club.fr
SUMMARY:Summer Disco Nights : 24 Août / Supersonic
DESCRIPTION:WELCOME TO SUPERSONIC\nConcerts gratuits\, et nuits rock à Paris ! \n \nSUMMER DISCO NIGHTS\nCe n’est plus un secret\, la Dancing Queen\, la nuit disco paillettes du Supersonic est devenue une des soirées les plus mythiques du club de Bastille !\nPour faire briller votre été\, on a eu l’idée de vous organiser une saison « Summer Disco Nights » où tous les jeudis vous pourrez venir vous déhancher sur les sons disco des années 1970\, 1980 à nos jours !\nOn enfile sa plus belle tenue de lumière\, on sort les paillettes et on vient briller sous les boules à facettes de 23h à 4h du matin:\nJeudi 27 Juillet\nJeudi 3 Août\nJeudi 10 Août\nJeudi 17 Août\nJeudi 24 Août\nCette soirée est pour toi\, si tu aimes la Disco\, la Soul\, la Funk\, et notamment:\nABBA / Boney M / Donna Summer / Gloria Gaynor / Chic / Earth\, Wind & Fire / Kool & The Gang / The Jackson 5 / Bee Gees / Diana Ross / Giorgio Moroder / Village People…\n———————————\nEntrée à 5€ de 23h à 2h (puis 10€ jusqu’à 4h)\n• Vestiaire au 2ème étage\n• Entrée interdite aux mineur.e.s\n• Si vous êtes témoin ou victime d’une agression\, vous pouvez alerter le personnel du bar ou si vous préférez\, vous pouvez nous écrire à cette adresse: communication@supersonic-paris.fr\n———————————\nSUPERSONIC\n9 rue Biscornet\, 75012 Paris\nMétro Bastille (sortie rue de lyon) \nTarifs : Ticket : 5€ \nBilletteries : Dice
URL:https://supersonic-club.fr/event/summer-disco-nights-24-aout-supersonic/
LOCATION:SUPERSONIC\, 9 Rue Biscornet\, Paris\, 75012\, France
CATEGORIES:Clubbing,Pop / Rock / Folk,Sowprog,SUPERSONIC,Supersonic Productions
ATTACH;FMTTYPE=image/jpeg:https://supersonic-club.fr/wp-content/uploads/2023/06/namethumb_w600px_img_event_44b2462a-73c9-4953-9c81-d80caca27022.jpg
END:VEVENT
BEGIN:VEVENT
DTSTART;TZID=Europe/London:20230826T230000
DTEND;TZID=Europe/London:20230827T060000
DTSTAMP:20260420T084626
CREATED:20230816T161114Z
LAST-MODIFIED:20230816T161114Z
UID:11352-1693090800-1693116000@supersonic-club.fr
SUMMARY:F*** Forever / Nuit indie rock 00s du Supersonic
DESCRIPTION:WELCOME TO SUPERSONIC\nConcerts gratuits\, et nuits rock à Paris ! \n \nF*** Forever !\nC’est la soirée 100% indie rock emblématique du Supersonic ! On t’attend sur la piste: I bet you look good on the dancefloor !\nLive tribute à 1h de Banga\nDJ Set Indie rock 00s de Marques de Sad et Jabba le Hut\nSi tu aimes: Arctic Monkeys / The Libertines / The Strokes / Babyshambles / Franz Ferdinand / The White Stripes / Kasabian / Kaiser Chiefs / The Killers / The Black Keys / Bloc Party / The Gossip / Interpol / Mgmt / Gorillaz / The Rapture / Muse / Editors / Queens Of The Stone Age / Foals / Metronomy / The Subways / The Hives / Razorlight / The Dandy Warhols / The Fratellis / The Kooks …\nPour t’ambiancer dès maintenant : https://spoti.fi/3AKkNxk\n———————————\nEntrée à 5€ de 23h à 2h (puis 10€ jusqu’à 6h)\n• Vestiaire au 2ème étage\n• Entrée interdite aux mineur.e.s\n• Si vous êtes témoin ou victime d’une agression\, vous pouvez alerter le personnel du bar ou si vous préférez\, vous pouvez nous écrire à cette adresse: communication@supersonic-paris.fr\n———————————\nSUPERSONIC\n9 rue Biscornet\, 75012 Paris\nMétro Bastille (sortie rue de lyon) \nTarifs : Ticket : 5€ \nBilletteries : Dice
URL:https://supersonic-club.fr/event/f-forever-nuit-indie-rock-00s-du-supersonic-24/
LOCATION:SUPERSONIC\, 9 Rue Biscornet\, Paris\, 75012\, France
CATEGORIES:Concert,Pop / Rock / Folk,Sowprog,SUPERSONIC,Supersonic Productions
ATTACH;FMTTYPE=image/jpeg:https://supersonic-club.fr/wp-content/uploads/2023/08/namethumb_w600px_img_event_6a8a6bb2-1b14-4108-ab28-4218f077ea90.jpg
END:VEVENT
BEGIN:VEVENT
DTSTART;TZID=Europe/London:20230831T230000
DTEND;TZID=Europe/London:20230901T060000
DTSTAMP:20260420T084626
CREATED:20230816T161132Z
LAST-MODIFIED:20230816T161132Z
UID:11360-1693522800-1693548000@supersonic-club.fr
SUMMARY:Dancing Queen / Nuit Disco Paillettes du Supersonic
DESCRIPTION:WELCOME TO SUPERSONIC\nConcerts gratuits\, et nuits rock à Paris ! \n \nDancing Queen !\nDes chimères à paillettes du studio 54 vous donnent rendez-vous entre soul\, funk et musique électronique multi facettes pour une nuit DISCO dans les années 70. De ABBA à Diana Ross en passant par Kool & The Gang\, on vous invite sur la piste de 23h à 4h!\nDJ SET par DJ Stepanoff\nSortez vos plus beaux habits de lumière !\nSi tu aimes… ABBA / Boney M / Donna Summer / Gloria Gaynor / Chic / Earth\, Wind & Fire / Kool & The Gang / The Jackson 5 / Bee Gees / Diana Ross / Giorgio Moroder / Village People…\n———————————\nEntrée à 5€ de 23h à 2h (puis 10€ jusqu’à 6h)\n• Vestiaire au 2ème étage\n• Entrée interdite aux mineur.e.s\n• Si vous êtes témoin ou victime d’une agression\, vous pouvez alerter le personnel du bar ou si vous préférez\, vous pouvez nous écrire à cette adresse: communication@supersonic-paris.fr\n———————————\nSUPERSONIC\n9 rue Biscornet\, 75012 Paris\nMétro Bastille (sortie rue de lyon) \nTarifs : Ticket : 5€ \nBilletteries : Dice
URL:https://supersonic-club.fr/event/dancing-queen-nuit-disco-paillettes-du-supersonic-10/
LOCATION:SUPERSONIC\, 9 Rue Biscornet\, Paris\, 75012\, France
CATEGORIES:Concert,Pop / Rock / Folk,Sowprog,SUPERSONIC,Supersonic Productions
ATTACH;FMTTYPE=image/jpeg:https://supersonic-club.fr/wp-content/uploads/2023/08/namethumb_w600px_img_event_3789478e-73de-41a3-8662-2e4e71f276bf.jpg
END:VEVENT
END:VCALENDAR