BEGIN:VCALENDAR
VERSION:2.0
PRODID:-//Supersonic - ECPv6.15.20//NONSGML v1.0//EN
CALSCALE:GREGORIAN
METHOD:PUBLISH
X-ORIGINAL-URL:https://supersonic-club.fr
X-WR-CALDESC:Évènements pour Supersonic
REFRESH-INTERVAL;VALUE=DURATION:PT1H
X-Robots-Tag:noindex
X-PUBLISHED-TTL:PT1H
BEGIN:VTIMEZONE
TZID:Europe/London
BEGIN:DAYLIGHT
TZOFFSETFROM:+0000
TZOFFSETTO:+0100
TZNAME:BST
DTSTART:20220327T010000
END:DAYLIGHT
BEGIN:STANDARD
TZOFFSETFROM:+0100
TZOFFSETTO:+0000
TZNAME:GMT
DTSTART:20221030T010000
END:STANDARD
BEGIN:DAYLIGHT
TZOFFSETFROM:+0000
TZOFFSETTO:+0100
TZNAME:BST
DTSTART:20230326T010000
END:DAYLIGHT
BEGIN:STANDARD
TZOFFSETFROM:+0100
TZOFFSETTO:+0000
TZNAME:GMT
DTSTART:20231029T010000
END:STANDARD
BEGIN:DAYLIGHT
TZOFFSETFROM:+0000
TZOFFSETTO:+0100
TZNAME:BST
DTSTART:20240331T010000
END:DAYLIGHT
BEGIN:STANDARD
TZOFFSETFROM:+0100
TZOFFSETTO:+0000
TZNAME:GMT
DTSTART:20241027T010000
END:STANDARD
END:VTIMEZONE
BEGIN:VEVENT
DTSTART;TZID=Europe/London:20230701T230000
DTEND;TZID=Europe/London:20230702T060000
DTSTAMP:20260420T114443
CREATED:20230608T135208Z
LAST-MODIFIED:20230608T135208Z
UID:10853-1688252400-1688277600@supersonic-club.fr
SUMMARY:Dancing With Myself / Supersonic 80's Party
DESCRIPTION:WELCOME TO SUPERSONIC\nConcerts gratuits\, et nuits rock à Paris ! \n \nDancing With Myself… Ta soirée 80s préférée !\nPour le meilleur comme pour le pire\, les 80s sont esthétiquement et musicalement le guilty pleasure de nos soirées! De la pop sulfureuse de Madonna aux hymnes de Queen en passant par le kitsch de Wham\, on enfile nos kway fluos et on vous ramène dans les années 1980 de 23h à 6h du matin.\nDj set 100% vinyles 80’s\nLive Tribute à 1h\nSi tu aimes…\nMadonna\, Queen\, Indochine\, Wham\, Billy Idol\, Blondie\, The Cure\, U2\, Culture Club\, Toto\, The Police\, Rick Asley\, Niagara\, Joan Jett\, The Smiths\, Nena\, New Order\, Bananarama\, Tear for Fears\, Elton John\, Bruce Springsteen…\nPour t’ambiancer dès maintenant : https://spoti.fi/3y26Fxv\n———————————\nEntrée à 5€ de 23h à 2h (puis 10€ jusqu’à 6h)\n• Vestiaire au 2ème étage\n• Entrée interdite aux mineur.e.s\n• Si vous êtes témoin ou victime d’une agression\, vous pouvez alerter le personnel du bar ou si vous préférez\, vous pouvez nous écrire à cette adresse: communication@supersonic-paris.fr\n———————————\nSUPERSONIC\n9 rue Biscornet\, 75012 Paris\nMétro Bastille (sortie rue de lyon) \nTarifs : Ticket : 5€ \nBilletteries : Dice
URL:https://supersonic-club.fr/event/dancing-with-myself-supersonic-80s-party-22/
LOCATION:SUPERSONIC\, 9 Rue Biscornet\, Paris\, 75012\, France
CATEGORIES:Concert,Pop / Rock / Folk,Sowprog,SUPERSONIC,Supersonic Productions
ATTACH;FMTTYPE=image/jpeg:https://supersonic-club.fr/wp-content/uploads/2023/06/namethumb_w600px_img_event_0cff0acb-2483-4ed6-8325-d34430dd9363.jpg
END:VEVENT
BEGIN:VEVENT
DTSTART;TZID=Europe/London:20230707T230000
DTEND;TZID=Europe/London:20230708T060000
DTSTAMP:20260420T114443
CREATED:20230509T144727Z
LAST-MODIFIED:20230509T144727Z
UID:10631-1688770800-1688796000@supersonic-club.fr
SUMMARY:What's Going On? Nuit Soul & Funk du Supersonic
DESCRIPTION:WELCOME TO SUPERSONIC\nConcerts gratuits\, Nuits rock et Disquaire à Paris ! \n \nWhat’s Going On? La Nuit Soul & Funk du Supersonic \nAu confluent de la soul music et de la funk\, entre la Stax Records et Motown Records\, entre Otis Redding et The Ronettes et de James Brown à Kool & The Gang\, on vous embarque dans les années 60s\, 70s de Detroit à Memphis à bord de notre Ford Mustang.\nLive Tribute à 1h00\nDj set soul funk\nSi tu aimes: ARETHA FRANKLIN / BIG MAYBELLE / CURTIS MAYFIELD / DIANA ROSS / EDWIN STARR / FOUR TOPS /JACKIE WILSON / JACKSON 5 / JAMES BROWN / MARVIN GAYE / MARY WELLS / MFSB / O’JAYS / OTIS REDDING / SAM & DAVE / STEVIE WONDER / THE CRYSTALS / THE ISLEY BROTHERS / THE MARVELETTES / THE RONETTES / THE SUPREMES / THE TEMPTATIONS / WILSON PICKETT & more…\nPour t’ambiancer dès maintenant\nhttps://spoti.fi/3DaVRjd\n———————————\nEntrée à 5€ de 23h à 2h (puis 10€ jusqu’à 6h)\n• Vestiaire au 2ème étage\n• Entrée interdite aux mineur.e.s\n• Si vous êtes témoin ou victime d’une agression\, vous pouvez alerter le personnel du bar ou si vous préférez\, vous pouvez nous écrire à cette adresse: communication@supersonic-paris.fr\n———————————\nSUPERSONIC\n9 rue Biscornet\, 75012 Paris\nMétro Bastille (sortie rue de lyon) \nTarifs : Ticket : 5€ \nBilletteries : Dice
URL:https://supersonic-club.fr/event/whats-going-on-nuit-soul-funk-du-supersonic-13/
LOCATION:SUPERSONIC\, 9 Rue Biscornet\, Paris\, 75012\, France
CATEGORIES:Clubbing,Pop / Rock / Folk,Sowprog,SUPERSONIC,Supersonic Productions
ATTACH;FMTTYPE=image/jpeg:https://supersonic-club.fr/wp-content/uploads/2023/05/namethumb_w600px_img_event_77656349-0fe5-4ae6-8bd0-147d8072e3d2.jpg
END:VEVENT
BEGIN:VEVENT
DTSTART;TZID=Europe/London:20230713T230000
DTEND;TZID=Europe/London:20230714T060000
DTSTAMP:20260420T114443
CREATED:20230622T185436Z
LAST-MODIFIED:20230622T185436Z
UID:10953-1689289200-1689314400@supersonic-club.fr
SUMMARY:Common people / La Nuit British Rock du Supersonic
DESCRIPTION:WELCOME TO SUPERSONIC\nConcerts gratuits\, et nuits rock à Paris ! \n \nBack to UK!\nLa Common People vous fera danser sur ses meilleurs sons british allant de David Bowie à Arctic Monkeys en passant par Oasis\, Joy Division et Franz Ferdinand…\nI’m Feeling Supersonic\, give me gin & tonic !\nLive tribute à 1h\nDJ Set British Rock\nOasis / Arctic Monkeys / David Bowie / Blur / Joy Division / Franz Ferdinand / The Cure / Radiohead / The Libertines / The Smiths / Pulp / The Clash / Suede / The Stone Roses / The Beatles / Placebo / Supergrass / The Rolling Stones / Pink Floyd / Queen / Muse / The Police / Kasabian / Primal Scream / The Who / Bloc Party / New Order / Kaiser Chiefs …\nPour t’ambiancer dès maintenant : https://spoti.fi/3skE59z\n———————————\nEntrée à 5€ de 23h à 2h (puis 10€ jusqu’à 6h)\n• Vestiaire au 2ème étage\n• Entrée interdite aux mineur.e.s\n• Si vous êtes témoin ou victime d’une agression\, vous pouvez alerter le personnel du bar ou si vous préférez\, vous pouvez nous écrire à cette adresse: communication@supersonic-paris.fr\n———————————\nSUPERSONIC\n9 rue Biscornet\, 75012 Paris\nMétro Bastille (sortie rue de lyon) \nTarifs : Ticket : 5€ \nBilletteries : Dice
URL:https://supersonic-club.fr/event/common-people-la-nuit-british-rock-du-supersonic-8/
LOCATION:SUPERSONIC\, 9 Rue Biscornet\, Paris\, 75012\, France
CATEGORIES:Clubbing,Pop / Rock / Folk,Sowprog,SUPERSONIC,Supersonic Productions
ATTACH;FMTTYPE=image/jpeg:https://supersonic-club.fr/wp-content/uploads/2023/06/namethumb_w600px_img_event_81de0795-035b-489e-a384-acc1551597f0.jpg
END:VEVENT
BEGIN:VEVENT
DTSTART;TZID=Europe/London:20230714T230000
DTEND;TZID=Europe/London:20230715T060000
DTSTAMP:20260420T114443
CREATED:20230519T150240Z
LAST-MODIFIED:20230519T150240Z
UID:10725-1689375600-1689400800@supersonic-club.fr
SUMMARY:Quand la ville dort / Nuit pop française du Supersonic
DESCRIPTION:WELCOME TO SUPERSONIC\nConcerts gratuits\, Nuits rock et Disquaire à Paris ! \n \nNotre soirée French Pop est de retour !\n« Quand la ville dort\, je laisse aller le sort\, je n’ai aucun\, je n’ai aucun remords ». Paris nous appartiendra le temps de cette soirée\, où nous rendrons hommage à nos chansons françaises libérées et originales. On dansera sur les pépites chantées en français des années 80s\, 90s\, 00s.\nLive Tribute à 1h par El Camino\nDJ set French Pop d’Alex Croq Mac et l’Affreux Jojo\nSi tu aimes: Niagara\, Indochine\, Etienne Daho\, Les Rita Mitsouko\, France Gall\, Alain Bashung\, Michel Polnareff\, Celine Dion\, Jean Jacques Goldman\, Serge Gainsbourg\, Lio\, Christophe\, Françoise Hardy\, Brigitte Bardot\, Michel Berger\, Jacques Dutronc\, Mylene Farmer\, Taxi Girl\, Elli & Jacno\, Axel Bauer\, Laurent Voulzy\, Alain Souchon…\nPour t’ambiancer dès maintenant : https://spoti.fi/3CUaGIg\n———————————\nEntrée à 5€ de 23h à 2h (puis 10€ jusqu’à 6h)\n• Vestiaire au 2ème étage\n• Entrée interdite aux mineur.e.s\n• Si vous êtes témoin ou victime d’une agression\, vous pouvez alerter le personnel du bar ou si vous préférez\, vous pouvez nous écrire à cette adresse: communication@supersonic-paris.fr\n———————————\nSUPERSONIC\n9 rue Biscornet\, 75012 Paris\nMétro Bastille (sortie rue de lyon) \nTarifs : Ticket : 5€ \nBilletteries : Dice
URL:https://supersonic-club.fr/event/quand-la-ville-dort-nuit-pop-francaise-du-supersonic-9/
LOCATION:SUPERSONIC\, 9 Rue Biscornet\, Paris\, 75012\, France
CATEGORIES:Concert,Pop / Rock / Folk,Sowprog,SUPERSONIC,Supersonic Productions
ATTACH;FMTTYPE=image/jpeg:https://supersonic-club.fr/wp-content/uploads/2023/05/namethumb_w600px_img_event_19cf3324-3bc5-4f3d-bb89-40ebfed773be.jpg
END:VEVENT
BEGIN:VEVENT
DTSTART;TZID=Europe/London:20230715T230000
DTEND;TZID=Europe/London:20230716T060000
DTSTAMP:20260420T114443
CREATED:20230622T185432Z
LAST-MODIFIED:20230622T185432Z
UID:10951-1689462000-1689487200@supersonic-club.fr
SUMMARY:Rock Around The Clock / La Nuit Retour Vers Le Futur du Supersonic
DESCRIPTION:WELCOME TO SUPERSONIC\nConcerts gratuits\, et nuits rock à Paris ! \n \nRock Around The Clock\, la nouvelle soirée retour vers le futur du rock !\nLe concept ? Un morceau = une décennie.\nVoyage à travers le temps en commençant par les années 50s jusqu’à nos jours !\nLive tributes par Les Reines du Baal\nDJ Set Rock 50s\, 60s\, 70s\, 80s\, 90s\, 00s\, 2010’s\nSi tu aimes:\nChuck Berry / The Beatles / ACDC / The Cure / Nirvana / Arctic Monkeys / Tame Impala / The Strokes / Oasis / Blondie / David Bowie / The Rolling Stones / Elvis Presley / Led Zeppelin / T Rex / Queen / Green Day / Linkin Park / The Black Keys / Muse / Red Hot Chili Peppers / The Clash / The Kinks / Johnny Cash / …\n———————————\nEntrée à 5€ de 23h à 2h (puis 10€ jusqu’à 6h)\n• Vestiaire au 2ème étage\n• Entrée interdite aux mineur.e.s\n• Si vous êtes témoin ou victime d’une agression\, vous pouvez alerter le personnel du bar ou si vous préférez\, vous pouvez nous écrire à cette adresse: communication@supersonic-paris.fr\n———————————\nSUPERSONIC\n9 rue Biscornet\, 75012 Paris\nMétro Bastille (sortie rue de lyon) \nTarifs : Ticket : 5€ \nBilletteries : Dice
URL:https://supersonic-club.fr/event/rock-around-the-clock-la-nuit-retour-vers-le-futur-du-supersonic-9/
LOCATION:SUPERSONIC\, 9 Rue Biscornet\, Paris\, 75012\, France
CATEGORIES:Clubbing,Pop / Rock / Folk,Sowprog,SUPERSONIC,Supersonic Productions
ATTACH;FMTTYPE=image/jpeg:https://supersonic-club.fr/wp-content/uploads/2023/06/namethumb_w600px_img_event_5e2ede7a-2126-4f0d-9938-541e6250b33e.jpg
END:VEVENT
BEGIN:VEVENT
DTSTART;TZID=Europe/London:20230716T190000
DTEND;TZID=Europe/London:20230716T230000
DTSTAMP:20260420T114443
CREATED:20230712T142336Z
LAST-MODIFIED:20230712T142336Z
UID:11125-1689534000-1689548400@supersonic-club.fr
SUMMARY:Sunday Tribute - AC/DC / Supersonic
DESCRIPTION:WELCOME TO SUPERSONIC\nConcerts gratuits et Nuits rock à Paris ! \n \nLes dimanches du Supersonic\nTous les dimanches (ou jours fériés)\, le club rock de Bastille rend hommage à des grands noms de l’histoire du rock en organisant ses mythiques soirées « Sunday Tribute » ou les plus récentes « Albums du dimanche ».\nCette semaine\, place au Sunday Tribute sur AC/DC\nPlusieurs groupes joueront chacun leur tour leur interprétation de leurs morceaux préférés des Légendes du Rock Australien.\n———————————\nDimanche 16 Juillet 2023\nEntrée gratuite\n• Ouverture des portes à 19h\n• Hot Dog au bar\n—\nSUPERSONIC\nConcerts gratuits\, Nuits rock et Disquaire à Paris\nhttp://supersonic-paris.fr/\n9 rue Biscornet\, 75012 Paris\nMétro Bastille (sortie rue de lyon) \nTarifs : Gratuit
URL:https://supersonic-club.fr/event/sunday-tribute-ac-dc-supersonic/
LOCATION:SUPERSONIC\, 9 Rue Biscornet\, Paris\, 75012\, France
CATEGORIES:Concert,Pop / Rock / Folk,Sowprog,SUPERSONIC,Supersonic Productions
ATTACH;FMTTYPE=image/jpeg:https://supersonic-club.fr/wp-content/uploads/2023/07/namethumb_w600px_img_event_008cc923-0e7c-4e9c-bba8-7a74e4521000.jpg
END:VEVENT
BEGIN:VEVENT
DTSTART;TZID=Europe/London:20230721T230000
DTEND;TZID=Europe/London:20230722T060000
DTSTAMP:20260420T114443
CREATED:20230622T185424Z
LAST-MODIFIED:20230622T185424Z
UID:10947-1689980400-1690005600@supersonic-club.fr
SUMMARY:Friday I'm In Love / New Wave Post-Punk du Supersonic
DESCRIPTION:WELCOME TO SUPERSONIC\nConcerts gratuits\, et nuits rock à Paris ! \n \nFriday I’m In Love is back !\nEntre fièvre froide et nappes synthétiques\, là où les lundis sont bleus et où les garçons ne pleurent pas\, rendez-vous pour danser sur les meilleurs sons new wave post-punk des années 80s à nos jours !\nLive Tribute à 1h du Racing Club des Gothos de France\nDj set New Wave\, Post-punk\nThe Cure / Depeche Mode / The Smiths / Joy Division / Blondie / David Bowie / Billy Idol / New Order / The Clash / Devo / Talk Talk / Simple Minds / Duran Duran / Eurythmics / Orchestral Manoeuvre In The Dark / A-Ha / Indochine / The Police / Pixies / INXS / Kim Wilde / REM / Tears For Fears / …\nLa playlist de la soirée : https://spoti.fi/3LEubIQ\n———————————\nEntrée à 5€ de 23h à 2h (puis 10€ jusqu’à 6h)\n• Vestiaire au 2ème étage\n• Entrée interdite aux mineur.e.s\n• Si vous êtes témoin ou victime d’une agression\, vous pouvez alerter le personnel du bar ou si vous préférez\, vous pouvez nous écrire à cette adresse: communication@supersonic-paris.fr\n———————————\nSUPERSONIC\n9 rue Biscornet\, 75012 Paris\nMétro Bastille (sortie rue de lyon) \nTarifs : Ticket : 5€ \nBilletteries : Dice
URL:https://supersonic-club.fr/event/friday-im-in-love-new-wave-post-punk-du-supersonic-5/
LOCATION:SUPERSONIC\, 9 Rue Biscornet\, Paris\, 75012\, France
CATEGORIES:Clubbing,Pop / Rock / Folk,Sowprog,SUPERSONIC,Supersonic Productions
ATTACH;FMTTYPE=image/jpeg:https://supersonic-club.fr/wp-content/uploads/2023/06/namethumb_w600px_img_event_dc5b04a7-989c-4178-a5ad-04e190028702.jpg
END:VEVENT
BEGIN:VEVENT
DTSTART;TZID=Europe/London:20230722T230000
DTEND;TZID=Europe/London:20230723T060000
DTSTAMP:20260420T114443
CREATED:20230622T185421Z
LAST-MODIFIED:20230622T185421Z
UID:10945-1690066800-1690092000@supersonic-club.fr
SUMMARY:Gimme Shelter / La Nuit Classic Rock du Supersonic
DESCRIPTION:WELCOME TO SUPERSONIC\nConcerts gratuits\, et nuits rock à Paris ! \n \nGimme Shelter\nUne Nuit sur la route du rock des 50’s au 90’s\, premier arrêt en Angleterre avec les Stones et T-Rex\, puis direction la Golden Coast avec Fleetwood Mac et les turbulents Nirvana\, en passant par le psychédélique festival Woodstock nous effectuerons notre dernier stop pour Graceland pour voir le King.\nLive tribute à 1h\nDJ Set Rock 50’s-90’s\nSi tu aimes…\nThe Rolling Stones / Queen / Chuck Berry / ACDC / Led Zeppelin / Creedance Clairwater Revival / Nirvana / Aerosmith / T Rex / Kiss / The Clash / Jimi Hendrix / Deep Purple / Elvis Presley / Eric Clapton / Bruce Springsteen / Joan Jett / Dire Straits / Pink Floyd / The Doors / Iggy Pop & The Stooges / Red Hot Chili Peppers / ZZ Top / Bon Jovi / Pearl Jam / Fleetwood Mac / Toto / …\n———————————\nEntrée à 5€ de 23h à 2h (puis 10€ jusqu’à 6h)\n• Vestiaire au 2ème étage\n• Entrée interdite aux mineur.e.s\n• Si vous êtes témoin ou victime d’une agression\, vous pouvez alerter le personnel du bar ou si vous préférez\, vous pouvez nous écrire à cette adresse: communication@supersonic-paris.fr\n———————————\nSUPERSONIC\n9 rue Biscornet\, 75012 Paris\nMétro Bastille (sortie rue de lyon) \nTarifs : Ticket : 5€ \nBilletteries : Dice
URL:https://supersonic-club.fr/event/gimme-shelter-la-nuit-classic-rock-du-supersonic-2/
LOCATION:SUPERSONIC\, 9 Rue Biscornet\, Paris\, 75012\, France
CATEGORIES:Concert,Pop / Rock / Folk,Sowprog,SUPERSONIC,Supersonic Productions
ATTACH;FMTTYPE=image/jpeg:https://supersonic-club.fr/wp-content/uploads/2023/06/namethumb_w600px_img_event_d12f3314-a0f7-43ec-afc5-f3a4fd69162c.jpg
END:VEVENT
BEGIN:VEVENT
DTSTART;TZID=Europe/London:20230727T230000
DTEND;TZID=Europe/London:20230728T040000
DTSTAMP:20260420T114443
CREATED:20230609T134001Z
LAST-MODIFIED:20230609T134001Z
UID:10879-1690498800-1690516800@supersonic-club.fr
SUMMARY:Summer Disco Nights : 27 Juillet / Supersonic
DESCRIPTION:WELCOME TO SUPERSONIC\nConcerts gratuits\, et nuits rock à Paris ! \n \nSUMMER DISCO NIGHTS\nCe n’est plus un secret\, la Dancing Queen\, la nuit disco paillettes du Supersonic est devenue une des soirées les plus mythiques du club de Bastille !\nPour faire briller votre été\, on a eu l’idée de vous organiser une saison « Summer Disco Nights » où tous les jeudis vous pourrez venir vous déhancher sur les sons disco des années 1970\, 1980 à nos jours !\nOn enfile sa plus belle tenue de lumière\, on sort les paillettes et on vient briller sous les boules à facettes de 23h à 4h du matin:\nJeudi 27 Juillet\nJeudi 3 Août\nJeudi 10 Août\nJeudi 17 Août\nJeudi 24 Août\nCette soirée est pour toi\, si tu aimes la Disco\, la Soul\, la Funk\, et notamment:\nABBA / Boney M / Donna Summer / Gloria Gaynor / Chic / Earth\, Wind & Fire / Kool & The Gang / The Jackson 5 / Bee Gees / Diana Ross / Giorgio Moroder / Village People…\n———————————\nEntrée à 5€ de 23h à 2h (puis 10€ jusqu’à 4h)\n• Vestiaire au 2ème étage\n• Entrée interdite aux mineur.e.s\n• Si vous êtes témoin ou victime d’une agression\, vous pouvez alerter le personnel du bar ou si vous préférez\, vous pouvez nous écrire à cette adresse: communication@supersonic-paris.fr\n———————————\nSUPERSONIC\n9 rue Biscornet\, 75012 Paris\nMétro Bastille (sortie rue de lyon) \nTarifs : Ticket : 5€ \nBilletteries : Dice
URL:https://supersonic-club.fr/event/summer-disco-nights-27-juillet-supersonic/
LOCATION:SUPERSONIC\, 9 Rue Biscornet\, Paris\, 75012\, France
CATEGORIES:Clubbing,Pop / Rock / Folk,Sowprog,SUPERSONIC,Supersonic Productions
ATTACH;FMTTYPE=image/jpeg:https://supersonic-club.fr/wp-content/uploads/2023/06/namethumb_w600px_img_event_8299b8fd-1940-4d52-9320-1b1039873e9c.jpg
END:VEVENT
BEGIN:VEVENT
DTSTART;TZID=Europe/London:20230728T230000
DTEND;TZID=Europe/London:20230729T060000
DTSTAMP:20260420T114443
CREATED:20230418T112630Z
LAST-MODIFIED:20230418T112630Z
UID:10440-1690585200-1690610400@supersonic-club.fr
SUMMARY:Where is My Mind? / Nuit Rock 90s au Supersonic
DESCRIPTION:WELCOME TO SUPERSONIC\nConcerts gratuits\, Nuits rock et Disquaire à Paris ! \n \nWhere is My Mind ?!\nMTV diffuse en continu les clips des guitar heroes de ton adolescence\, tu ne jures que par le grunge de Kurt Cobain\, les mélodies pop de Weezer\, les excentricités de Gwen Stefani ou de Bjork. De 23h à 6h du matin viens danser sur les meilleurs sons rock des années 90s !\nLive tribute à 1h des Reines du Baal\nDJ set rock 90s\nSi tu aimes: Nirvana / Pixies / Placebo / Red Hot Chili Peppers / The Cranberries / No Doubt / Blur / Oasis / Beatis Boys / Garbage / Texas / Lenny Kravitz / The Breeders / Pulp / Sonic Youth / Green Day / The Offsprings / Garbage / Rem / The Verve / Rage Against The Machine / Radiohead / The Cardigans..\nPour t’ambiancer dès maintenant\, on t’a préparé une petite playlist : https://spoti.fi/37MGiRH\n———————————\nEntrée à 5€ de 23h à 2h (puis 10€ jusqu’à 6h)\n• Vestiaire au 2ème étage\n• Entrée interdite aux mineur.e.s\n• Si vous êtes témoin ou victime d’une agression\, vous pouvez alerter le personnel du bar ou si vous préférez\, vous pouvez nous écrire à cette adresse: communication@supersonic-paris.fr\n———————————\nSUPERSONIC\n9 rue Biscornet\, 75012 Paris\nMétro Bastille (sortie rue de lyon) \nTarifs : Gratuit
URL:https://supersonic-club.fr/event/where-is-my-mind-nuit-rock-90s-au-supersonic-13/
LOCATION:SUPERSONIC\, 9 Rue Biscornet\, Paris\, 75012\, France
CATEGORIES:Concert,Pop / Rock / Folk,Sowprog,SUPERSONIC,Supersonic Productions
ATTACH;FMTTYPE=image/jpeg:https://supersonic-club.fr/wp-content/uploads/2023/04/namethumb_w600px_img_event_9a39a8ca-1b6f-4aa3-ae4e-e0d46459faa0.jpg
END:VEVENT
END:VCALENDAR