BEGIN:VCALENDAR
VERSION:2.0
PRODID:-//Supersonic - ECPv6.15.20//NONSGML v1.0//EN
CALSCALE:GREGORIAN
METHOD:PUBLISH
X-WR-CALNAME:Supersonic
X-ORIGINAL-URL:https://supersonic-club.fr
X-WR-CALDESC:Évènements pour Supersonic
REFRESH-INTERVAL;VALUE=DURATION:PT1H
X-Robots-Tag:noindex
X-PUBLISHED-TTL:PT1H
BEGIN:VTIMEZONE
TZID:Europe/London
BEGIN:DAYLIGHT
TZOFFSETFROM:+0000
TZOFFSETTO:+0100
TZNAME:BST
DTSTART:20220327T010000
END:DAYLIGHT
BEGIN:STANDARD
TZOFFSETFROM:+0100
TZOFFSETTO:+0000
TZNAME:GMT
DTSTART:20221030T010000
END:STANDARD
BEGIN:DAYLIGHT
TZOFFSETFROM:+0000
TZOFFSETTO:+0100
TZNAME:BST
DTSTART:20230326T010000
END:DAYLIGHT
BEGIN:STANDARD
TZOFFSETFROM:+0100
TZOFFSETTO:+0000
TZNAME:GMT
DTSTART:20231029T010000
END:STANDARD
BEGIN:DAYLIGHT
TZOFFSETFROM:+0000
TZOFFSETTO:+0100
TZNAME:BST
DTSTART:20240331T010000
END:DAYLIGHT
BEGIN:STANDARD
TZOFFSETFROM:+0100
TZOFFSETTO:+0000
TZNAME:GMT
DTSTART:20241027T010000
END:STANDARD
END:VTIMEZONE
BEGIN:VEVENT
DTSTART;TZID=Europe/London:20231204T190000
DTEND;TZID=Europe/London:20231204T230000
DTSTAMP:20260419T151252
CREATED:20230728T170402Z
LAST-MODIFIED:20231018T144343Z
UID:11331-1701716400-1701730800@supersonic-club.fr
SUMMARY:Man On Man • Qonfiture • Hélice Island / Supersonic Club (Free entry)
DESCRIPTION:Welcome to Supersonic: Concerts gratuits et Nuits Rock à Paris ! \n \nMAN ON MAN (22h30)\n(Indie rock – New York\, USA)\nYou remember your pandemic project\, don’t you? Maybe it was baking bread\, cultivating a garden\, or finally committing to Proust? But for Roddy Bottum and Joey Holman—back then\, a new couple of longtime musicians\, en route from New York City to California to care for Roddy’s ailing mother—it was writing songs\, meant only to entertain themselves in those suddenly idle days. Joey\, after all\, had his guitar in the car; during the road trip west\, they ordered a microphone\, waiting for them in California where they’d live and work from a cozy beachside A-frame. They got to work but\, really\, to play\, shaping a dynamic string of new-love songs about tender infatuation\, the ache of all-consuming lust\, and the excitement of a full future\, together. “It’s so fun\,” they cooed in content unison\, “to be gay\,” their own birds-and-bees ode to joy. Those songs stuck around\, accreting not only into an album but into the band MAN ON MAN\, lauded by Rolling Stone and loved for music videos that documented the real romance of two fully grown gay men. That pandemic project? Suddenly\, a little hit.\nMAN ON MAN’s triumphant and pop-powered return\, Provincetown is the result of an accidental band moving with sudden intention and two once-new partners growing into a deeper relationship. Written largely in that tip-of-the Cape haven that gives the record its name\, Provincetown cavorts even as it poses complicated questions about what it means to be queer\, alive\, and in love in the first quarter of this anxious American century. There are peppy hookup-app blues\, queer history lessons set to contagious electroclash\, unfettered celebrations of sex and summertime fun—glitter bombs all\, set off to light up these often-dark times. “Windows down\, let ’em see/We’ve got nothing to hide\,” they sing during the enormous and insistent “I Feel Good\,” boldly answering the title’s refrain with “I feel great/In these United States.” It is\, like all of Provincetown\, a massive rainbow flag in the ground—not a statement of existence so much as a proclamation of defiant thriving. Cum\, if you will\, and take it.\nhttps://manonman.bandcamp.com/album/provincetown\nhttps://www.youtube.com/watch?v=ukyt_1jTFSk \nQONFITURE (21h30)\n(Rock approximatif – Paris\, FR)\nFormation parisienne purement instrumentale gélifiée au suqre moissonnant dans un univers approximatif de Prog/Heavy/Psyche/Métal avec une appétence pour l’improvisation.\nhttps://qonfiture.bandcamp.com/\nhttps://www.youtube.com/@qonfiture \nHÉLICE ISLAND (20h30)\n(Sadcore – Araki Records – Paris\, FR)\nPop lo-fi vaguement tristounette avec guitare\, batterie et violoncelle\, et un peu de trompette\nFFO / Si vous aimez : Smog / Velvet Underground / Cat Power\nhttps://heliceisland.bandcamp.com/album/medico\nhttps://youtu.be/wCrNMr2IRTI?si=dPiX3B0KkE2mdG1N\n———————————\nLundi 4 Décembre 2023\nEntrée gratuite\n• Ouverture des portes à 19h00\n• Happy Hour de 19h à 20h\n• Si vous êtes témoin ou victime d’une agression\, vous pouvez alerter le personnel du bar ou si vous préférez\, vous pouvez nous écrire à cette adresse: communication@supersonic-paris.fr\n———————————\nSUPERSONIC\n9 rue Biscornet\, 75012 Paris\nMétro Bastille (sortie rue de lyon) \nTarifs : Gratuit
URL:https://supersonic-club.fr/event/man-on-man-supersonic-club-free-entry/
LOCATION:SUPERSONIC\, 9 Rue Biscornet\, Paris\, 75012\, France
CATEGORIES:Concert,Hélice Island,Man On Man,Pop / Rock / Folk,Qonfiture,Sowprog,SUPERSONIC
ATTACH;FMTTYPE=image/jpeg:https://supersonic-club.fr/wp-content/uploads/2023/07/namethumb_w600px_img_event_473e7657-84f0-40ed-98bb-ef047b6c4f0f-2.jpg
END:VEVENT
END:VCALENDAR