BEGIN:VCALENDAR
VERSION:2.0
PRODID:-//Supersonic - ECPv6.15.20//NONSGML v1.0//EN
CALSCALE:GREGORIAN
METHOD:PUBLISH
X-ORIGINAL-URL:https://supersonic-club.fr
X-WR-CALDESC:Évènements pour Supersonic
REFRESH-INTERVAL;VALUE=DURATION:PT1H
X-Robots-Tag:noindex
X-PUBLISHED-TTL:PT1H
BEGIN:VTIMEZONE
TZID:Europe/London
BEGIN:DAYLIGHT
TZOFFSETFROM:+0000
TZOFFSETTO:+0100
TZNAME:BST
DTSTART:20220327T010000
END:DAYLIGHT
BEGIN:STANDARD
TZOFFSETFROM:+0100
TZOFFSETTO:+0000
TZNAME:GMT
DTSTART:20221030T010000
END:STANDARD
BEGIN:DAYLIGHT
TZOFFSETFROM:+0000
TZOFFSETTO:+0100
TZNAME:BST
DTSTART:20230326T010000
END:DAYLIGHT
BEGIN:STANDARD
TZOFFSETFROM:+0100
TZOFFSETTO:+0000
TZNAME:GMT
DTSTART:20231029T010000
END:STANDARD
BEGIN:DAYLIGHT
TZOFFSETFROM:+0000
TZOFFSETTO:+0100
TZNAME:BST
DTSTART:20240331T010000
END:DAYLIGHT
BEGIN:STANDARD
TZOFFSETFROM:+0100
TZOFFSETTO:+0000
TZNAME:GMT
DTSTART:20241027T010000
END:STANDARD
END:VTIMEZONE
BEGIN:VEVENT
DTSTART;TZID=Europe/London:20230608T190000
DTEND;TZID=Europe/London:20230608T230000
DTSTAMP:20260421T044819
CREATED:20230509T144719Z
LAST-MODIFIED:20230509T144719Z
UID:10627-1686250800-1686265200@supersonic-club.fr
SUMMARY:Peach Tinted • Fleur Bleu.e • CaptainCaptain / Supersonic (Free entry)
DESCRIPTION:WELCOME TO SUPERSONIC\nConcerts gratuits\, Nuits rock et Disquaire à Paris ! \n \nPEACH TINTED\n(Indie – Vienne\, AUT)\npeach tinted is an electronic indie duo known for their style-bending EP “Cinematic Youth”. Expect dreamy guitars and creamy vocals over pumping disco drums and basslines. With a brand new EP on the way\, their 2023 “Hard to Get” tour will take them to Supersonic Paris on June 8th\, as well as shows in London\, Prague and Vienna\, to name a few.\nhttps://open.spotify.com/artist/0jAu9Z9QrpYwY1vBenZs9Y…\nhttps://www.youtube.com/watch?v=yzJwSruLeAY \nFLEUR BLEU.E\n(Dream pop – Pan European Recording – Paris\, FR)\nFleur bleu.e brode une musique à partir de rêves et de cauchemars\, qui engage nos\nfragilités\, et s’adresse à tous.tes celleux qui ne se retrouvent pas dans l’injonction à\nla confiance et au « cool ».\nhttps://fleurbleu-e.bandcamp.com/\nhttps://www.youtube.com/channel/UCbmn4svX8ljZuR0vt3ihkqg \nCAPTAINCAPTAIN\n(Indie pop – Paris\, FR)\n“Je suis déprimé et je pars danser”\nC’est dans cet état d’esprit que CaptainCaptain déroule son Indie-pop rageuse et sensible martelée de beats disco et teintée de mélodies électro accrocheuses.\nCaptainCaptain est parisien mais son âme est de l’autre côté de la Manche. C’est de là-bas que vient l’ironie des textes écrits par son chanteur franco-\nanglais.\nSon premier album « Don’t let it bring you down » sort au printemps 2023.\nhttps://soundcloud.com/wearecaptaincaptain\n———————————\nJeudi 8 Juin 2023\nEntrée gratuite\n• Ouverture des portes à 19h00\n• Happy Hour de 19h à 20h (3€50 la pinte)\n• Si vous êtes témoin ou victime d’une agression\, vous pouvez alerter le personnel du bar ou si vous préférez\, vous pouvez nous écrire à cette adresse: communication@supersonic-paris.fr\n———————————\nSUPERSONIC\n9 rue Biscornet\, 75012 Paris\nMétro Bastille (sortie rue de lyon) \nTarifs : Gratuit
URL:https://supersonic-club.fr/event/peach-tinted-fleur-bleu-e-captaincaptain-supersonic-free-entry-2/
LOCATION:SUPERSONIC\, 9 Rue Biscornet\, Paris\, 75012\, France
CATEGORIES:CAPTAIN CAPTAIN,Concert,Fleur Bleu.e,Peach Tinted,Pop / Rock / Folk,Sowprog,SUPERSONIC
ATTACH;FMTTYPE=image/jpeg:https://supersonic-club.fr/wp-content/uploads/2023/05/namethumb_w600px_img_event_0f0ea946-eae6-4390-93d7-1721d5466683.jpg
END:VEVENT
END:VCALENDAR