BEGIN:VCALENDAR
VERSION:2.0
PRODID:-//Supersonic - ECPv6.15.20//NONSGML v1.0//EN
CALSCALE:GREGORIAN
METHOD:PUBLISH
X-ORIGINAL-URL:https://supersonic-club.fr
X-WR-CALDESC:Évènements pour Supersonic
REFRESH-INTERVAL;VALUE=DURATION:PT1H
X-Robots-Tag:noindex
X-PUBLISHED-TTL:PT1H
BEGIN:VTIMEZONE
TZID:Europe/London
BEGIN:DAYLIGHT
TZOFFSETFROM:+0000
TZOFFSETTO:+0100
TZNAME:BST
DTSTART:20220327T010000
END:DAYLIGHT
BEGIN:STANDARD
TZOFFSETFROM:+0100
TZOFFSETTO:+0000
TZNAME:GMT
DTSTART:20221030T010000
END:STANDARD
BEGIN:DAYLIGHT
TZOFFSETFROM:+0000
TZOFFSETTO:+0100
TZNAME:BST
DTSTART:20230326T010000
END:DAYLIGHT
BEGIN:STANDARD
TZOFFSETFROM:+0100
TZOFFSETTO:+0000
TZNAME:GMT
DTSTART:20231029T010000
END:STANDARD
BEGIN:DAYLIGHT
TZOFFSETFROM:+0000
TZOFFSETTO:+0100
TZNAME:BST
DTSTART:20240331T010000
END:DAYLIGHT
BEGIN:STANDARD
TZOFFSETFROM:+0100
TZOFFSETTO:+0000
TZNAME:GMT
DTSTART:20241027T010000
END:STANDARD
END:VTIMEZONE
BEGIN:VEVENT
DTSTART;TZID=Europe/London:20230221T190000
DTEND;TZID=Europe/London:20230221T230000
DTSTAMP:20260420T080651
CREATED:20230110T155710Z
LAST-MODIFIED:20230110T155710Z
UID:9610-1677006000-1677020400@supersonic-club.fr
SUMMARY:Thank • Nothing Works • Mata Hari / Supersonic (Free entry)
DESCRIPTION:WELCOME TO SUPERSONIC\nConcerts gratuits\, Nuits rock et Disquaire à Paris ! \n \nTHANK\n(Electro punk – Leeds\, UK)\n‘Thoughtless Cruelty’ is a stark observation of human cruelty filtered through the band’s grim fascinations including long term nuclear warnings\, CNN’s Turner Doomsday Video (opening song ‘From Heaven’ is a partial reworking of the Latin verse from ‘Nearer My God To Thee’\, the hymn performed in that video)\, the writings of Saint Ignatius of Loyola\, and the « business as usual » liberal politics which has given way to the global rise of the far right.\nUnlike THANK’s previous material\, which was largely honed at gigs and then recorded almost entirely live\, the pandemic found the band in unchartered territory as they hit the studio having not been in the same building for months\, including most of the album’s writing period.\nhttps://thankleeds.bandcamp.com/\nhttps://www.youtube.com/watch?v=_dh2W2Cpfq8 \nNOTHING WORKS\n(Noise shoegaze – Poitiers\, FR)\nNothing Works est un duo poitevin qui oscille entre Noise et Shoegaze. Une guitare fournie\, une batterie qui tape : Nothing Works c’est le genre de truc qui frappe et qui prend aux tripes. Leur premier EP « From February to May » \, sortie en octobre 2021\, n’est pas sans rappeler Girl Band\, Unwound ou encore King Krule.\nDepuis le groupe enchaîne les dates dont les premières parties de CAMERA\, Birds in Row\, Bass Drum of Death et W!ZARD\, et Il s’est aussi exporté l’été dernier avec une tournée en Angleterre.\nhttps://open.spotify.com/artist/4LfXpHC4G9rAXxxD61PIRw…\nhttps://www.youtube.com/watch?v=jO7ptF0NyRw \nMATA HARI\n(Garage punk – Montpellier\, FR)\nOriginaire de Montpellier\, voici le jeune groupe rock dont vous n’avez pas fini d’entendre parler.\nEn quelques mois seulement les 4 morveux de Mata Hari se sont crées une véritable identité : concerts sauvages\, guitares post punk acérés\, textes revendicateurs\, rythmique martiale et synthétiseurs hypnotiques. Très marqués par le mouvement punk anglo-saxon\, le post punk des 80’s( Joy Division\, The Stooges\, The Clash ) le groupe n’en est pas pour le moins résolument moderne\, au travers des paroles notamment\, qui reflètent une certaine société et une génération à la dérive.\nhttps://www.youtube.com/watch?v=Nd8rsbiRSQs\n———————————\nMardi 21 Février 2023\nEntrée gratuite\n• Ouverture des portes à 19h00\n• Happy Hour de 19h à 20h (3€50 la pinte)\n• Si vous êtes témoin ou victime d’une agression\, vous pouvez alerter le personnel du bar ou si vous préférez\, vous pouvez nous écrire à cette adresse: communication@supersonic-paris.fr\n———————————\nSUPERSONIC\n9 rue Biscornet\, 75012 Paris\nMétro Bastille (sortie rue de lyon) \nTarifs : Gratuit
URL:https://supersonic-club.fr/event/thank-nothing-works-mata-hari-supersonic-free-entry/
LOCATION:SUPERSONIC\, 9 Rue Biscornet\, Paris\, 75012\, France
CATEGORIES:Concert,Mata Hari,Nothing Works,Pop / Rock / Folk,Sowprog,SUPERSONIC,Thank
ATTACH;FMTTYPE=image/jpeg:https://supersonic-club.fr/wp-content/uploads/2023/01/namethumb_w600px_img_event_0a52fc5e-59df-4930-9fea-9702759cc2ea.jpg
END:VEVENT
END:VCALENDAR