BEGIN:VCALENDAR
VERSION:2.0
PRODID:-//Supersonic - ECPv6.15.20//NONSGML v1.0//EN
CALSCALE:GREGORIAN
METHOD:PUBLISH
X-ORIGINAL-URL:https://supersonic-club.fr
X-WR-CALDESC:Évènements pour Supersonic
REFRESH-INTERVAL;VALUE=DURATION:PT1H
X-Robots-Tag:noindex
X-PUBLISHED-TTL:PT1H
BEGIN:VTIMEZONE
TZID:Europe/London
BEGIN:DAYLIGHT
TZOFFSETFROM:+0000
TZOFFSETTO:+0100
TZNAME:BST
DTSTART:20220327T010000
END:DAYLIGHT
BEGIN:STANDARD
TZOFFSETFROM:+0100
TZOFFSETTO:+0000
TZNAME:GMT
DTSTART:20221030T010000
END:STANDARD
BEGIN:DAYLIGHT
TZOFFSETFROM:+0000
TZOFFSETTO:+0100
TZNAME:BST
DTSTART:20230326T010000
END:DAYLIGHT
BEGIN:STANDARD
TZOFFSETFROM:+0100
TZOFFSETTO:+0000
TZNAME:GMT
DTSTART:20231029T010000
END:STANDARD
BEGIN:DAYLIGHT
TZOFFSETFROM:+0000
TZOFFSETTO:+0100
TZNAME:BST
DTSTART:20240331T010000
END:DAYLIGHT
BEGIN:STANDARD
TZOFFSETFROM:+0100
TZOFFSETTO:+0000
TZNAME:GMT
DTSTART:20241027T010000
END:STANDARD
END:VTIMEZONE
BEGIN:VEVENT
DTSTART;TZID=Europe/London:20231030T190000
DTEND;TZID=Europe/London:20231030T230000
DTSTAMP:20260419T213915
CREATED:20230906T150442Z
LAST-MODIFIED:20231018T144414Z
UID:11550-1698692400-1698706800@supersonic-club.fr
SUMMARY:Nature Morte • Montagne • Karaba F.C / Supersonic (Free entry)
DESCRIPTION:Pour les fans de… Deafheaven\, Alcest\, Downfall of Gaia \n \nNATURE MORTE (22h30)\n(Post black – Frozen Records – Paris\, FR)\nBrouillant la frontière entre Shoegaze et Black Metal\, la musique de Nature Morte ne laisse pas indifférent. Aussi sensible que destructeur\, le trio parisien crée un mur de son ne laissant aucune place à l’espoir. Néanmoins\, une lueur apparait dans cette chute dans les abysses. Véritable voyage aux confins des âmes\, la puissance de leur musique réside dans la maitrise de son écriture : voix criée\, atmosphére unique\, vagues mélancoliques n’hésitant pas à tout emporter sur son passage…\nFFO / Si vous voulez : Deafheaven\, Alcest\, Downfall of Gaia\nhttps://ntrmrt.bandcamp.com/album/oddity \nMONTAGNE (21h30)\n(Post hardcore – Paris\, FR)\nEntre passages ultra intenses\, breakdowns Doom aux riffs Sabbathiens et envolées Post Hardcore pleine d’émotions\, Montagne ne laisse personne indifférent. Ne laissant aucune place\, leur musique lourde et abrasive aux reflets Death Metal met une énorme claque en live.\nFFO / Si vous aimez : Deftones\, Birds in Row\, Year of No Light\nhttps://montagneoutdoor.bandcamp.com/album/poudreuse \nKARABA F.C (20h30)\n(Post hardcore – Paris\, FR)\nL’énergie du post-hardcore\, la légèreté de l’indie rock des années 2000\, la douce mélancolie du rock alternatif 90s : c’est ainsi qu’on pourrait tenter de résumer Karaba FC\, jeune quatuor parisien au sens aigu du timing puisque formé fin 2019\, pile à l’heure pour le grand nulle part musical de 2020.\nPeu importe : c’est entre les confinements que se construira leur premier EP Empty Rooms\, mis en boîte début 2021 au studio Firgun de Fontainebleau et masterisé par Serge Morattel (Ventura\, Untitled with drums).\nEt si vous les avez sûrement déjà croisés dans la fosse des salles de Paris ou d’ailleurs\, c’est maintenant sur la scène qu’il faudra vous habituer à retrouver Karaba FC.\nhttps://karabafc.bandcamp.com/\nhttps://www.youtube.com/watch?v=zPwLwzbASlk\n———————————\nLundi 30 Octobre 2023\nEntrée gratuite\n• Ouverture des portes à 19h00\n• Happy Hour de 19h à 20h\n• Si vous êtes témoin ou victime d’une agression\, vous pouvez alerter le personnel du bar ou si vous préférez\, vous pouvez nous écrire à cette adresse: communication@supersonic-paris.fr\n———————————\nSUPERSONIC\n9 rue Biscornet\, 75012 Paris\nMétro Bastille (sortie rue de lyon) \nTarifs : Gratuit
URL:https://supersonic-club.fr/event/nature-morte-montagne-karaba-f-c-supersonic-free-entry/
LOCATION:SUPERSONIC\, 9 Rue Biscornet\, Paris\, 75012\, France
CATEGORIES:Concert,Karaba F.C,Montagne,Nature Morte,Pop / Rock / Folk,Sowprog,SUPERSONIC
ATTACH;FMTTYPE=image/jpeg:https://supersonic-club.fr/wp-content/uploads/2023/09/namethumb_w600px_img_event_caec4991-e81f-4de6-808f-a5e01a9e00c3-1.jpg
END:VEVENT
END:VCALENDAR