BEGIN:VCALENDAR
VERSION:2.0
PRODID:-//Supersonic - ECPv6.15.20//NONSGML v1.0//EN
CALSCALE:GREGORIAN
METHOD:PUBLISH
X-ORIGINAL-URL:https://supersonic-club.fr
X-WR-CALDESC:Évènements pour Supersonic
REFRESH-INTERVAL;VALUE=DURATION:PT1H
X-Robots-Tag:noindex
X-PUBLISHED-TTL:PT1H
BEGIN:VTIMEZONE
TZID:Europe/London
BEGIN:DAYLIGHT
TZOFFSETFROM:+0000
TZOFFSETTO:+0100
TZNAME:BST
DTSTART:20220327T010000
END:DAYLIGHT
BEGIN:STANDARD
TZOFFSETFROM:+0100
TZOFFSETTO:+0000
TZNAME:GMT
DTSTART:20221030T010000
END:STANDARD
BEGIN:DAYLIGHT
TZOFFSETFROM:+0000
TZOFFSETTO:+0100
TZNAME:BST
DTSTART:20230326T010000
END:DAYLIGHT
BEGIN:STANDARD
TZOFFSETFROM:+0100
TZOFFSETTO:+0000
TZNAME:GMT
DTSTART:20231029T010000
END:STANDARD
BEGIN:DAYLIGHT
TZOFFSETFROM:+0000
TZOFFSETTO:+0100
TZNAME:BST
DTSTART:20240331T010000
END:DAYLIGHT
BEGIN:STANDARD
TZOFFSETFROM:+0100
TZOFFSETTO:+0000
TZNAME:GMT
DTSTART:20241027T010000
END:STANDARD
END:VTIMEZONE
BEGIN:VEVENT
DTSTART;TZID=Europe/London:20230704T190000
DTEND;TZID=Europe/London:20230704T230000
DTSTAMP:20260421T014538
CREATED:20230425T151949Z
LAST-MODIFIED:20230509T144317Z
UID:10576-1688497200-1688511600@supersonic-club.fr
SUMMARY:Narrow Head • Half Cab • Holydanger / Supersonic (Free entry)
DESCRIPTION:WELCOME TO SUPERSONIC\nConcerts gratuits\, Nuits rock et Disquaire à Paris ! \n \nNARROW HEAD\n(Alternative rock – Run for Cover Records – Texas\, USA)\nTruly great pop songs do not require a cheery outlook in order to work\, nor do they pander to expectations of syrupy sweet easy-listening. Rather\, the best pop music is a matter of refinement and pure intention\, of dialing\ngroove to melody so that the two might puncture the malaise of everyday living in unison\, revealing some brief\, sober truth about our shared human condition. On their third LP\, Moments of Clarity (Run for Cover)\, Narrow Head have achieved precisely this feat. Traversing the depths of massive\, churning riffs\, often distorted to the point of violence\, bouncing\, lock-grooved rhythms\, and crystalline\, gorgeously constructed hooks\, the Houston-based outfit puts on a masterclass in the art of writing songs that\nmatch the pain\, pleasure\, and confusion of modern living. Each track is sentimental without being precious\, heavy without unnecessary griminess\, pop-forward without letting the listener off the hook easy: these songs ask for some form of hurt or desire to be paid back to them in return\, some promise that the listener is putting equal skin into the game.\nhttps://narrowheadtx.bandcamp.com/\nhttps://www.youtube.com/watch?v=moQiJhJk2Oo \nHALF CAB\n(Punk rock – Paris\, FR)\nHALF CAB is a young rock band from The Hague\, The Netherlands. With the energy of punk and the catchiness of pop\, they wreck every town they visit\, even the ones they don’t. With roots in punk and hardcore\, the guys wanted to try something else and take their underground ethics with them.\nHALF CAB has been ambitious from the start and will do everything in their power to live on the road for as long as they can\, starting of with their debut album “I’d Rather Be Dead Than 40”.\nhttps://halfcabskiffa.bandcamp.com/…/id-rather-be-dead… \nHOLYDANGER\n(Alt rock – Paris\, FR)\nHOLYDANGER was born in Paris\, France during the year 2021. After a few months locked up in a cave\, they choose to team up with English producer Jim Spencer and Abbey Road Studios engineer Frank Arkwright to give life to their first album. Now they may be broke forever but hey\, at least they sound fantastic.\nhttps://holydanger.bandcamp.com/track/nowhere-near-prepared\n———————————\nMardi 4 Juillet 2023\nEntrée gratuite\n• Ouverture des portes à 19h00\n• Happy Hour de 19h à 20h (3€50 la pinte)\n• Si vous êtes témoin ou victime d’une agression\, vous pouvez alerter le personnel du bar ou si vous préférez\, vous pouvez nous écrire à cette adresse: communication@supersonic-paris.fr\n———————————\nSUPERSONIC\n9 rue Biscornet\, 75012 Paris\nMétro Bastille (sortie rue de lyon) \nTarifs : Gratuit
URL:https://supersonic-club.fr/event/narrow-head-en-concert-au-supersonic-free-entry/
LOCATION:SUPERSONIC\, 9 Rue Biscornet\, Paris\, 75012\, France
CATEGORIES:Concert,Half Cab,Holydanger,Narrow Head,Pop / Rock / Folk,Sowprog,SUPERSONIC
ATTACH;FMTTYPE=image/jpeg:https://supersonic-club.fr/wp-content/uploads/2023/04/namethumb_w600px_img_event_e57c2297-d441-4a71-aa4a-1bdea425b9a3-1.jpg
END:VEVENT
END:VCALENDAR