BEGIN:VCALENDAR
VERSION:2.0
PRODID:-//Supersonic - ECPv6.15.20//NONSGML v1.0//EN
CALSCALE:GREGORIAN
METHOD:PUBLISH
X-WR-CALNAME:Supersonic
X-ORIGINAL-URL:https://supersonic-club.fr
X-WR-CALDESC:Évènements pour Supersonic
REFRESH-INTERVAL;VALUE=DURATION:PT1H
X-Robots-Tag:noindex
X-PUBLISHED-TTL:PT1H
BEGIN:VTIMEZONE
TZID:Europe/London
BEGIN:DAYLIGHT
TZOFFSETFROM:+0000
TZOFFSETTO:+0100
TZNAME:BST
DTSTART:20220327T010000
END:DAYLIGHT
BEGIN:STANDARD
TZOFFSETFROM:+0100
TZOFFSETTO:+0000
TZNAME:GMT
DTSTART:20221030T010000
END:STANDARD
BEGIN:DAYLIGHT
TZOFFSETFROM:+0000
TZOFFSETTO:+0100
TZNAME:BST
DTSTART:20230326T010000
END:DAYLIGHT
BEGIN:STANDARD
TZOFFSETFROM:+0100
TZOFFSETTO:+0000
TZNAME:GMT
DTSTART:20231029T010000
END:STANDARD
BEGIN:DAYLIGHT
TZOFFSETFROM:+0000
TZOFFSETTO:+0100
TZNAME:BST
DTSTART:20240331T010000
END:DAYLIGHT
BEGIN:STANDARD
TZOFFSETFROM:+0100
TZOFFSETTO:+0000
TZNAME:GMT
DTSTART:20241027T010000
END:STANDARD
END:VTIMEZONE
BEGIN:VEVENT
DTSTART;TZID=Europe/London:20231018T190000
DTEND;TZID=Europe/London:20231018T230000
DTSTAMP:20260420T073745
CREATED:20230830T143226Z
LAST-MODIFIED:20230830T180012Z
UID:11463-1697655600-1697670000@supersonic-club.fr
SUMMARY:TGBB#15 : Zzzahara • Naked Lungs • Winter Gardens • Tummyache • Nightbus
DESCRIPTION:Véritables coups de cœur de l’équipe\, talents encore bruts de la scène de demain\, on vous invite à découvrir ces groupes étrangers pour leur toute première date à Paris ! \n \nZZZAHARA\n22h50 – Supersonic Club\n(Dream Pop / Los Angeles\, USA)\nIssu du projet Eyedress\, Zzzahara est un voyage illuminé en plein trip rêveur dans les rues de Los Angeles. Leur dream pop noyé dans la reverb n’est pas sans rappeler les groupes du fameux label Captured Tracks. Et pour leur première scène Française ca sera au Supersonic !\n—\nComing from the Eyedress project\, Zzzahara is an illuminated trip through the dreamy streets of Los Angeles. Their dream pop drowned in reverb is reminiscent of the bands on the famous Captured Tracks label. And their first French show will be at Supersonic!\nFFO : DIIV\, Beach Fossils & Vacations\n• Le clip : https://www.youtube.com/watch?v=EuF1JfjE1WU\n• Le live : https://youtu.be/MjW49Kw9NuE?si=sVbtok0_JbTP6lrE\n• Instagram : @zzzahara.wav \nNAKED LUNGS\n22h00 – Supersonic Club\n(Post Punk Noise / Dublin\, IRE)\nLa nouvelle scène noise irlandaise n’est pas prête d’arrêter de nous bombarder d’obus soniques. Après Enola Gay\, Chalk ou Mhaol\, c’est au tour du quatuor Naked Lungs d’envoyer leur déflagration ! A découvrir en exclusivité (encore) lors d’une TGBB !\n—\nThe new Irish noise scene isn’t about to stop bombarding us with sonic shells. Following in the footsteps of Enola Gay\, Chalk and Mhaol\, it’s now the turn of quartet Naked Lungs to unleash their blast! To be discovered in exclusivity (again) as part of a TGBB!\nFFO : Gilla Band\, The Psychotic Monks & Ditz\n• Le clip : https://www.youtube.com/watch?v=KaGgv2mmm_w\n• Le live : https://www.youtube.com/watch?v=v-peYmMoZ4Y\n• Instagram : @naked_lungs \nWINTER GARDENS\n21h20 – Supersonic Records\n(Dream Pop Shoegaze / UK)\nDécouvert lors de notre virée anglaise au festival Rockaway Beach\, le quintet a mis toute l’équipe d’accord. La beauté de Slowdive\, l’étrangeté de Kate Bush\, la new wave de New Order et l’efficacité de Blood Red Shoes\, il y en a pour tous les goûts. Bienvenue dans le melting pot de Winter Gardens !\n—\nDiscovered during our British trip to the Rockaway Beach festival\, the quintet got the whole team hooked. The beauty of Slowdive\, the strangeness of Kate Bush\, the new wave of New Order and the efficiency of Blood Red Shoes\, there’s something for everyone. Welcome to the Winter Gardens melting pot!\nFFO : Slowdive\, Kate Bush & Blood Red Shoes\n• Le clip : https://www.youtube.com/watch?v=MkfX3kP_lAs\n• Instagram : @wintergardensband \nTUMMYACHE\n20h40 – Supersonic Club\n(Indie Rock / London\, UK)\nEntre dream pop et grunge\, il y a Tummyache. Sa musique est à la fois énervée et aérienne\, captivante et sincère\, tout en contraste. Ses performances live le prouvent\, on a jamais le droit au même concert ! A découvrir pour la première fois en France au Supersonic !\n—\nIn between dream pop and grunge\, there’s Tummyache. Their music is both energetic and ethereal\, captivating and sincere\, full of contrasts. The live performances prove it: you never get the same concert! To be discovered for the first time in France at Supersonic!\nFFO : Porridge Radio\, Honeyglaze & The Breeders\n• Le clip : https://www.youtube.com/watch?v=ZFgXPfQwi6w\n• Le live : https://youtu.be/wv3ezFSmrGQ?si=CilAN2s5ucubTgTu\n• Instagram : @tummyachemusic \nNIGHTBUS\n20h00 – Supersonic Records\n(Dream Pop / Manchester\, UK)\nOn commence la soirée avec de la musique de fin de soirée (ouai on est des fous tavu) ! Rarement un groupe a aussi bien porté son nom. Enorme coup de cœur de la programmation\, toute en douceur et mélancolique de Nightbus nous présentera son univers sombre pour sa première date hors UK.\n—\nWe kick off the evening with some late-night music (yeah\, we’re crazy\, aren’t we?)! Rarely has a band lived up to its name so well. One of the line-up’s big favourites\, the gentle\, melancholic Nightbus will be showcasing their dark world on their first date outside the UK.\nFFO : BDRMM\, Siouxie and the Banshees & Portishead\n• Le clip : https://www.youtube.com/watch?v=PZhlV5jxM00\n• Le live : https://youtu.be/CiEQQyYIWG4?si=QebzRmcRIOTZjld_\n• Instagram : @nightbus__\n———————————\nMercredi 18 Octobre 2023\nEntrée gratuite\n• Ouverture des portes à 19h00\n• Si vous êtes témoin ou victime d’une agression\, vous pouvez alerter le personnel du bar ou si vous préférez\, vous pouvez nous écrire à cette adresse: communication@supersonic-paris.fr\n———————————\nSUPERSONIC (Club & Records)\n9 rue Biscornet\, 75012 Paris\nMétro Bastille (sortie rue de lyon) \nTarifs : Gratuit
URL:https://supersonic-club.fr/event/15-zzzahara-naked-lungs-winter-gardens-tummyache-nightbus/
LOCATION:SUPERSONIC\, 9 Rue Biscornet\, Paris\, 75012\, France
CATEGORIES:Concert,Naked Lungs,Nightbus,Pop / Rock / Folk,Sowprog,SUPERSONIC,Tummyache,Winter Gardens,Zzzahara
ATTACH;FMTTYPE=image/jpeg:https://supersonic-club.fr/wp-content/uploads/2023/08/namethumb_w600px_img_event_21e76a06-8f3e-4472-905e-0d5fa9304360-1.jpg
END:VEVENT
END:VCALENDAR