BEGIN:VCALENDAR
VERSION:2.0
PRODID:-//Supersonic - ECPv6.15.20//NONSGML v1.0//EN
CALSCALE:GREGORIAN
METHOD:PUBLISH
X-WR-CALNAME:Supersonic
X-ORIGINAL-URL:https://supersonic-club.fr
X-WR-CALDESC:Évènements pour Supersonic
REFRESH-INTERVAL;VALUE=DURATION:PT1H
X-Robots-Tag:noindex
X-PUBLISHED-TTL:PT1H
BEGIN:VTIMEZONE
TZID:Europe/London
BEGIN:DAYLIGHT
TZOFFSETFROM:+0000
TZOFFSETTO:+0100
TZNAME:BST
DTSTART:20160327T010000
END:DAYLIGHT
BEGIN:STANDARD
TZOFFSETFROM:+0100
TZOFFSETTO:+0000
TZNAME:GMT
DTSTART:20161030T010000
END:STANDARD
BEGIN:DAYLIGHT
TZOFFSETFROM:+0000
TZOFFSETTO:+0100
TZNAME:BST
DTSTART:20170326T010000
END:DAYLIGHT
BEGIN:STANDARD
TZOFFSETFROM:+0100
TZOFFSETTO:+0000
TZNAME:GMT
DTSTART:20171029T010000
END:STANDARD
BEGIN:DAYLIGHT
TZOFFSETFROM:+0000
TZOFFSETTO:+0100
TZNAME:BST
DTSTART:20180325T010000
END:DAYLIGHT
BEGIN:STANDARD
TZOFFSETFROM:+0100
TZOFFSETTO:+0000
TZNAME:GMT
DTSTART:20181028T010000
END:STANDARD
END:VTIMEZONE
BEGIN:VEVENT
DTSTART;TZID=Europe/London:20170624T210000
DTEND;TZID=Europe/London:20170625T003000
DTSTAMP:20260420T192554
CREATED:20170501T083125Z
LAST-MODIFIED:20170501T083125Z
UID:1362-1498338000-1498350600@supersonic-club.fr
SUMMARY:Mnnqns • Jelly Bean • Pastel Coast // Supersonic - Free
DESCRIPTION:Noord Sfeer Records et le Supersonic présentent… le #postpunk de MNNQNS\, la #pop festive de Jelly Bean et la #dreampop de Pastel Coast. \n \n→ MNNQNS\n(Post-punk – Rouen) \nNe parlons pas\, ici\, d’une énième formation française appliquant le grimoire du rock\, mais de jeunes hommes élégants en prise directe avec la nécessité de vivre le rock jusqu’à l’usure\, jusqu’à la perte de soi. L’humour de MNNQNS évite la lourdeur cathartique de la même façon qu’il envoie bouler le professionnalisme bien peigné. C’est sale\, méchant\, mais toujours à la cool\, furieusement rythmique\, dur dehors et souple dedans. \nLes 3 influences: Television\, Stone Roses\, The Smiths \n► Liker : https://www.facebook.com/mnnqns\n► Ecouter : https://mnnqns.bandcamp.com/\n► Regarder: https://www.youtube.com/watch?v=qJy4pUm5jaA \n→ JELLY BEAN\n(Birthday Party Pop – Lille) \nL’amour pop de Jelly Bean remonte probablement à la mixtape maison bloquée dans l’autoradio d’une voiture qui traverse la France à la fin de l’été 86. Bercés alors par les tempos fous des Sugarcubes\, puis charmés par l’orfèvrerie pop de Peter Bjorn & John\, ces quatre mauvais French Kissers bricolent à leur tour des pop-songs naïves et métronomiques.\nDeux ans après la sortie de leur EP «Empty Space»\, Jelly Bean signe avec un nouveau maxi «Never Enough» une déclaration d’amour à la gloire et à la beauté des micro-sillons et des claviers qu’on appelle encore « synthétiseurs ». La scène prend des airs de Beach Parties en maillot de bain. On retrouve ces souvenirs qui font toujours danser en dedans. C’est comme retomber sur les posters qui tapissaient la chambre de notre première fois : pas de Guitar Hero\, seulement des dandies au cœur grenadine \nLes 3 influences: Sugarcubes\, Peter Bjorn & John \n► Liker : https://www.facebook.com/jellybean.sound/\n► Ecouter : https://wearejellybean.bandcamp.com/ \n→ PASTEL COAST\n(Dream Pop – Noord Sfeer Records – Lille) \nEn grande partie influencé par l’Indie Pop de Manchester\, la période Shoegaze du début 90’s jusqu’à la Dream pop électrique actuelle\, le projet\, lauréat du Tour de Chauffe 2017 assume sans rougir une teinte anglo-saxonne. The Cure\, Ride\, Slowdive\, The Smiths en grande partie\, en passant par la fausse douceur des Velvet jusqu’au rythme enjouée des MGMT\,\, Pastel Coast interprète un parcours intemporel\, un éternel voyage intérieur.\nSeul sur scène\, le projet rassemble Son et image. Des vidéos sont projetées donnant corps à la musique. Les sons se révèlent alors par leur couleur\, leur matière et participent ainsi à une réelle ambiance visuelle. Batterie\, synthétiseur et secondes voix ont été enregistrées en amont\, ce qui permet au compositeur de jouer et chanter à l’unisson avec la bande son. Le projet est donc personnel de la création à sa réalisation\, tant dans la composition\, l’enregistrement que son interprétation sur scène. \nLes 3 influences: The Cure\, Slowdive\, The Smiths \n► Liker : https://www.facebook.com/pastelcoast/\n► Ecouter : https://soundcloud.com/pastel-coast\n► Regarder: https://www.youtube.com/watch?v=FUEOpJcjbFk \nTarifs : Gratuit
URL:https://supersonic-club.fr/event/mnnqns-%e2%80%a2-jelly-bean-%e2%80%a2-pastel-coast-supersonic-free/
LOCATION:SUPERSONIC\, 9 Rue Biscornet\, Paris\, 75012\, France
CATEGORIES:Concert,Jelly Bean,MNNQNS,Pastel Coast,Pop / Rock / Folk
ATTACH;FMTTYPE=image/jpeg:https://supersonic-club.fr/wp-content/uploads/2017/05/namethumb_w600px_img_event_2a283181-0064-45df-8aef-c8b5b2bbc096.jpg
END:VEVENT
END:VCALENDAR