BEGIN:VCALENDAR
VERSION:2.0
PRODID:-//Supersonic - ECPv6.15.20//NONSGML v1.0//EN
CALSCALE:GREGORIAN
METHOD:PUBLISH
X-ORIGINAL-URL:https://supersonic-club.fr
X-WR-CALDESC:Évènements pour Supersonic
REFRESH-INTERVAL;VALUE=DURATION:PT1H
X-Robots-Tag:noindex
X-PUBLISHED-TTL:PT1H
BEGIN:VTIMEZONE
TZID:Europe/London
BEGIN:DAYLIGHT
TZOFFSETFROM:+0000
TZOFFSETTO:+0100
TZNAME:BST
DTSTART:20170326T010000
END:DAYLIGHT
BEGIN:STANDARD
TZOFFSETFROM:+0100
TZOFFSETTO:+0000
TZNAME:GMT
DTSTART:20171029T010000
END:STANDARD
BEGIN:DAYLIGHT
TZOFFSETFROM:+0000
TZOFFSETTO:+0100
TZNAME:BST
DTSTART:20180325T010000
END:DAYLIGHT
BEGIN:STANDARD
TZOFFSETFROM:+0100
TZOFFSETTO:+0000
TZNAME:GMT
DTSTART:20181028T010000
END:STANDARD
BEGIN:DAYLIGHT
TZOFFSETFROM:+0000
TZOFFSETTO:+0100
TZNAME:BST
DTSTART:20190331T010000
END:DAYLIGHT
BEGIN:STANDARD
TZOFFSETFROM:+0100
TZOFFSETTO:+0000
TZNAME:GMT
DTSTART:20191027T010000
END:STANDARD
END:VTIMEZONE
BEGIN:VEVENT
DTSTART;TZID=Europe/London:20181108T200000
DTEND;TZID=Europe/London:20181108T233000
DTSTAMP:20260420T020034
CREATED:20181002T145140Z
LAST-MODIFIED:20181002T145140Z
UID:3476-1541707200-1541719800@supersonic-club.fr
SUMMARY:Dark Door • Katzkab • Minkovski / Supersonic - Entrée gratuite
DESCRIPTION:▬ Le Supersonic présente ▬ \n \n▬▬▬ ENTREE LIBRE ▬▬▬▬▬▬▬▬▬▬▬▬ \n→ DARK DOOR\n(Electro/Darkwave/Synthwave – Napoli\,IT) \nDark Door are an italian duo from Napoli\, Italy. Band founded in 2012. « Inferno » is a new chapter that marks a major breakthrough for the band in a dark mix of electronic sounds (released in December 2018 in collaboration with Synth Religion and BatCave Production). We also self produced an album « Post Mortem » and two ep « Abracadabe » and « 53 ° ».\nWith these works we managed to play in different parts of Europe and some of the most prestigious European festivals. \nLes 3 influences: David Bowie\, Depeche Mode\, Nine Inch Nails \n► Liker : https://www.facebook.com/darkdoorband/\n► Ecouter : https://goo.gl/VFzGCK\n► Regarder : https://goo.gl/G7QB58  \n→ KATZKAB\n(Post-punk\, Cabaret – FR/ALL) \nKatzkab est un groupe bordélique: post-punk\, cabaret\, electro-rock avec avec des accents free jazz. Batterie et saxophone sont venus s’ajouter au trio pour un son plus nerveux et hystérique mais toujours aussi mélodique. \nLes 3 influences: Siouxsie and the Banshees\, Bauhaus\, B52s \n► Liker: https://www.facebook.com/katzkab/\n► Ecouter: http://katzkab.bandcamp.com/ \n→ MINKOVSKI\n(Rock sombre – Paris\,FR) \n« Néons avares\, voix brumeuses\, et claquements secs à la table de snooker. Dans la salle du bar flottait un vieux thème d’Henry Mancini\, Minkovski arrachait ses rêveries à un verre d’Irish.  Hasard  des nuits errantes\, c’est dans ce rade de Studio City (L.A.)  proche de Mulholland Drive qu’il croise la route de Paul Kimble. Peu de mots\, mais quelques accords fraternels scelleront l’amitié et le travail commun du musicien et du producteur.\nLa nuit même Minkovski filait vers le Bob Hope airport\, Denver puis l’ Europe. Il est rejoint par Paul à Paris quelques mois plus tard. Tous deux prennent la route sous un ciel d’hiver et disparaissent dans les arcanes d’un manoir isolé. C’est dans cette discrète et lointaine campagne qu’ils enregistreront un premier Ep. De cet opus\, tour à tour fiévreux ou lancinant\,  électrique et acoustique\, surgissent par fragments les ombres du passé de Minkovski. » \n► Liker: https://www.facebook.com/Minkovskimusic/\n► Ecouter: https://www.minkovski-music.com/ \n▬▬▬ INFOS PRATIQUES ▬▬▬▬▬▬▬▬▬▬▬ \nJeudi 8 Novembre 2018\nEntrée gratuite \n– Ouverture des portes à 18h30\n– Début des concerts vers 20h\n– Happy Hour de 18h30 à 20h (3€50 la pinte)\n– Hot Dog au bar \n▬▬▬▬▬▬▬▬▬▬▬▬▬▬▬▬▬▬▬▬▬▬▬ \nSUPERSONIC\n9 rue Biscornet\, 75012 Paris\nMétro Bastille (sortie rue de lyon)\nhttp://supersonic-club.fr/\nInscription à la newsletter du Supersonic: http://bit.ly/1lWTnx4 \nTarifs : Gratuit
URL:https://supersonic-club.fr/event/dark-door-%e2%80%a2-katzkab-%e2%80%a2-minkovski-supersonic-entree-gratuite/
LOCATION:SUPERSONIC\, 9 Rue Biscornet\, Paris\, 75012\, France
CATEGORIES:Concert,Dark Door,Katzkab,Minkovski,Pop / Rock / Folk
ATTACH;FMTTYPE=image/jpeg:https://supersonic-club.fr/wp-content/uploads/2018/10/namethumb_w600px_img_event_f2571586-b16a-408e-93d4-75daa450f3cf.jpg
END:VEVENT
END:VCALENDAR