BEGIN:VCALENDAR
VERSION:2.0
PRODID:-//Supersonic - ECPv6.15.20//NONSGML v1.0//EN
CALSCALE:GREGORIAN
METHOD:PUBLISH
X-ORIGINAL-URL:https://supersonic-club.fr
X-WR-CALDESC:Évènements pour Supersonic
REFRESH-INTERVAL;VALUE=DURATION:PT1H
X-Robots-Tag:noindex
X-PUBLISHED-TTL:PT1H
BEGIN:VTIMEZONE
TZID:Europe/London
BEGIN:DAYLIGHT
TZOFFSETFROM:+0000
TZOFFSETTO:+0100
TZNAME:BST
DTSTART:20210328T010000
END:DAYLIGHT
BEGIN:STANDARD
TZOFFSETFROM:+0100
TZOFFSETTO:+0000
TZNAME:GMT
DTSTART:20211031T010000
END:STANDARD
BEGIN:DAYLIGHT
TZOFFSETFROM:+0000
TZOFFSETTO:+0100
TZNAME:BST
DTSTART:20220327T010000
END:DAYLIGHT
BEGIN:STANDARD
TZOFFSETFROM:+0100
TZOFFSETTO:+0000
TZNAME:GMT
DTSTART:20221030T010000
END:STANDARD
BEGIN:DAYLIGHT
TZOFFSETFROM:+0000
TZOFFSETTO:+0100
TZNAME:BST
DTSTART:20230326T010000
END:DAYLIGHT
BEGIN:STANDARD
TZOFFSETFROM:+0100
TZOFFSETTO:+0000
TZNAME:GMT
DTSTART:20231029T010000
END:STANDARD
END:VTIMEZONE
BEGIN:VEVENT
DTSTART;TZID=Europe/London:20220823T190000
DTEND;TZID=Europe/London:20220823T230000
DTSTAMP:20260420T090306
CREATED:20220723T230802Z
LAST-MODIFIED:20220723T230802Z
UID:8188-1661281200-1661295600@supersonic-club.fr
SUMMARY:Meatbodies • Black Boys On Moped / Supersonic (Free entry)
DESCRIPTION:WELCOME TO SUPERSONIC\nConcerts gratuits\, Nuits rock et Disquaire à Paris ! \n \nMEATBODIES\n(Garage Punk – In The Red – Los Angeles\, USA)\nWithin the fertile West Coast rock scene of the 2010s\, Meatbodies’ Chad Ubovich was a perennial candidate for MVP. Over the course of the decade\, the Los Angeles native could be seen peeling off guitar solos in Mikal Cronin’s backing band\, supplying the Sabbath-sized low end for Ty Segall and Charlie Moothart as the bassist for Fuzz\, and\, of course\, fronting his own Meatbodies.\nhttps://meatbodies-band.bandcamp.com/\nhttps://www.youtube.com/watch?v=DqN_7wJDst8 \nBLACK BOYS ON MOPED\n(Garage punk – Castagne Records – Rennes\, FR)\nUne guitare fuzz\, une batterie qui bastonne\, le tout baignant dans la sueur\, soupoudré d’un soupçon de groove. Ce duo originaire de Rennes est influencé par des artistes tels que Jay Reatard\, Black Box Revelation\, les Pixies ou encore Bass Drum of Death.\nhttps://blackboysonmoped.bandcamp.com/music\nhttps://www.youtube.com/watch?v=UJTFR-vI4f8\n———————————\nMardi 23 Août 2022\nEntrée gratuite jusqu’à 23h\n• Ouverture des portes à 19h00\n• Happy Hour de 19h à 20h (3€50 la pinte)\n———————————\nSUPERSONIC\n9 rue Biscornet\, 75012 Paris\nMétro Bastille (sortie rue de lyon)\nhttp://supersonic-club.fr/ \nTarifs : Gratuit
URL:https://supersonic-club.fr/event/meatbodies-black-boys-on-moped-supersonic-free-entry/
LOCATION:SUPERSONIC\, 9 Rue Biscornet\, Paris\, 75012\, France
CATEGORIES:Black Boys On Moped,Concert,Meatbodies,Pop / Rock / Folk,Sowprog
ATTACH;FMTTYPE=image/jpeg:https://supersonic-club.fr/wp-content/uploads/2022/07/namethumb_w600px_img_event_f3f8f01a-88ed-4e04-9b97-0c58a696db39.jpg
END:VEVENT
END:VCALENDAR