BEGIN:VCALENDAR
VERSION:2.0
PRODID:-//Supersonic - ECPv6.15.20//NONSGML v1.0//EN
CALSCALE:GREGORIAN
METHOD:PUBLISH
X-ORIGINAL-URL:https://supersonic-club.fr
X-WR-CALDESC:Évènements pour Supersonic
REFRESH-INTERVAL;VALUE=DURATION:PT1H
X-Robots-Tag:noindex
X-PUBLISHED-TTL:PT1H
BEGIN:VTIMEZONE
TZID:Europe/London
BEGIN:DAYLIGHT
TZOFFSETFROM:+0000
TZOFFSETTO:+0100
TZNAME:BST
DTSTART:20220327T010000
END:DAYLIGHT
BEGIN:STANDARD
TZOFFSETFROM:+0100
TZOFFSETTO:+0000
TZNAME:GMT
DTSTART:20221030T010000
END:STANDARD
BEGIN:DAYLIGHT
TZOFFSETFROM:+0000
TZOFFSETTO:+0100
TZNAME:BST
DTSTART:20230326T010000
END:DAYLIGHT
BEGIN:STANDARD
TZOFFSETFROM:+0100
TZOFFSETTO:+0000
TZNAME:GMT
DTSTART:20231029T010000
END:STANDARD
BEGIN:DAYLIGHT
TZOFFSETFROM:+0000
TZOFFSETTO:+0100
TZNAME:BST
DTSTART:20240331T010000
END:DAYLIGHT
BEGIN:STANDARD
TZOFFSETFROM:+0100
TZOFFSETTO:+0000
TZNAME:GMT
DTSTART:20241027T010000
END:STANDARD
END:VTIMEZONE
BEGIN:VEVENT
DTSTART;TZID=Europe/London:20230601T190000
DTEND;TZID=Europe/London:20230601T230000
DTSTAMP:20260420T084522
CREATED:20230130T123125Z
LAST-MODIFIED:20230321T121116Z
UID:9793-1685646000-1685660400@supersonic-club.fr
SUMMARY:The Pearl Harts • Bou • Martine / Supersonic (Free entry)
DESCRIPTION:WELCOME TO SUPERSONIC\nConcerts gratuits\, Nuits rock et Disquaire à Paris ! \n \nTHE PEARL HARTS\n(Rock – Londres\, UK)\nThe Pearl Harts were born out of love and a desire to make hi-octane rock n’ roll when they first burst onto the scene with a stunningly filmed live video\, ‘Black Blood’ immediately picking up fans from XFM\, Clash\, and BBC Introducing.\nQuickly making a name for themselves with their wild attitude\, DIY spirit and incredible live shows\, The Pearl Harts were soon showcasing their magic on stages all over the UK and Europe – with support from Garbage’s Shirley Manson who described them as “badass girls\, with all the right stuff »\nThe Pearl Harts raw energy and intense delivery has won them fans across the UK and Europe and seen them opening for the likes of Skunk Anansie and Garbage\, with less than a handful of singles under their belt.\nhttps://thepearlharts.bandcamp.com/\nhttps://www.youtube.com/watch?v=l_oZ1S1nChQ \nBOU\n(Indie rock – Rennes\, FR)\nBlaize\, Go\, Léonard\, Atide et Illy incarnent bou. D’influences éclectiques et de joies intenses\, bou ose le mélange. Plongeant dans le rock de ton père\, la pop de ta mère\, le hip-hop de ta sœur et le prog de ton chien\, bou passe des chansons berçantes aux improvisations absurdes. Le groupe cultive un aspect théâtral et insouciant tout en gardant son humour et sa spontanéité. bou est ton ami.\nhttps://bouesttonami.bandcamp.com/\nhttps://www.youtube.com/watch?v=wBeq-av6nI8 \nMARTINE\n(Rock – Paris\, FR)\nA coups de riffs acides et brutaux\, d’un drum and bass indus qui percutera votre cerveau et votre corps\, MARTINE embrase la folie du monde.\nDénonçant le capitalisme\, le travail et le productivisme\, MARTINE vous invite à danser sur les cendres de notre humanité.\nLe rock est mort\,\nVive le rock.\nhttp://martinefaitdurock.fr/\nhttps://www.youtube.com/watch?v=4e4I6pWg9oc\n———————————\nJeudi 1 Juin 2023\nEntrée gratuite\n• Ouverture des portes à 19h00\n• Happy Hour de 19h à 20h (3€50 la pinte)\n• Si vous êtes témoin ou victime d’une agression\, vous pouvez alerter le personnel du bar ou si vous préférez\, vous pouvez nous écrire à cette adresse: communication@supersonic-paris.fr\n———————————\nSUPERSONIC\n9 rue Biscornet\, 75012 Paris\nMétro Bastille (sortie rue de lyon) \nTarifs : Gratuit
URL:https://supersonic-club.fr/event/the-pearl-harts-bou-supersonic-free-entry/
LOCATION:SUPERSONIC\, 9 Rue Biscornet\, Paris\, 75012\, France
CATEGORIES:bou,Concert,Martine,Pop / Rock / Folk,Sowprog,SUPERSONIC,THE PEARL HARTS
ATTACH;FMTTYPE=image/jpeg:https://supersonic-club.fr/wp-content/uploads/2023/01/namethumb_w600px_img_event_cdeb738b-11aa-43b6-b91b-9ab0b0744df5-1.jpg
END:VEVENT
END:VCALENDAR