BEGIN:VCALENDAR
VERSION:2.0
PRODID:-//Supersonic - ECPv6.15.20//NONSGML v1.0//EN
CALSCALE:GREGORIAN
METHOD:PUBLISH
X-ORIGINAL-URL:https://supersonic-club.fr
X-WR-CALDESC:Évènements pour Supersonic
REFRESH-INTERVAL;VALUE=DURATION:PT1H
X-Robots-Tag:noindex
X-PUBLISHED-TTL:PT1H
BEGIN:VTIMEZONE
TZID:Europe/London
BEGIN:DAYLIGHT
TZOFFSETFROM:+0000
TZOFFSETTO:+0100
TZNAME:BST
DTSTART:20170326T010000
END:DAYLIGHT
BEGIN:STANDARD
TZOFFSETFROM:+0100
TZOFFSETTO:+0000
TZNAME:GMT
DTSTART:20171029T010000
END:STANDARD
BEGIN:DAYLIGHT
TZOFFSETFROM:+0000
TZOFFSETTO:+0100
TZNAME:BST
DTSTART:20180325T010000
END:DAYLIGHT
BEGIN:STANDARD
TZOFFSETFROM:+0100
TZOFFSETTO:+0000
TZNAME:GMT
DTSTART:20181028T010000
END:STANDARD
BEGIN:DAYLIGHT
TZOFFSETFROM:+0000
TZOFFSETTO:+0100
TZNAME:BST
DTSTART:20190331T010000
END:DAYLIGHT
BEGIN:STANDARD
TZOFFSETFROM:+0100
TZOFFSETTO:+0000
TZNAME:GMT
DTSTART:20191027T010000
END:STANDARD
END:VTIMEZONE
BEGIN:VEVENT
DTSTART;TZID=Europe/London:20180713T200000
DTEND;TZID=Europe/London:20180714T070000
DTSTAMP:20260419T222810
CREATED:20180524T172717Z
LAST-MODIFIED:20180612T120959Z
UID:2943-1531512000-1531551600@supersonic-club.fr
SUMMARY:Festival Restons Sérieux / 13 Juillet 2018 / Bertrand Burgalatt • MARIETTA • Biche • Pastel Coast • Daisy Mortem • Grotte
DESCRIPTION:▬ Le Supersonic présente ▬ \n \n▬▬▬ RESTONS SERIEUX ▬▬▬▬▬▬▬▬ \nCette année encore\, la prise de (la) Bastille aura lieu au Supersonic. Entre effets pyrotechniques DIY et larmes de bière\, le super club met une nouvelle fois à l’honneur ces belles gueules cramées de la musique française libre et décomplexée. \nJOUR 4 : Bertrand Burgalatt • guillaume MARIETTA • Biche • Pastel Coast • Daisy Mortem • Grotte \n▬▬▬ LINE UP ▬▬▬▬▬▬▬▬▬▬▬▬▬▬▬▬ \n BERTRAND BURGALAT\n(Chanson Francaise – Paris) \nOn le croit musicien\, il est cinéaste. Burgalat est un magicien d’Ose qui éveille en chacun ce qu’il a de plus intime. En panoramique\, sa musique ouvre les portes de l’imaginaire. D’album en album il sème ses petits cailloux\, « qui m‘aime me suive »\, semble dire sa musique inventive. À sa manière fluide\, à peine appuyée\, elle laisse entendre le rire\, et parfois les larmes muettes\, celles de l’enfant abandonné qui sait que personne ne l’écoute.  \n► Liker : https://www.facebook.com/BertrandBurgalat/\n► Ecouter : https://soundcloud.com/bertrandburgalat\n► Regarder : https://www.youtube.com/watch?v=EZZfzdzaHJg \nMARIETTA\n(Psychedelic pop – Paris) \nGuillaume Marietta\, revient avec neuf chansons écrites\, pour la première fois\, en français. « La Passagère » habité par les fantômes de Syd Barret et de Lou Reed fait également écho aux productions contemporaines d’artistes comme Kurt Vile\, Cate Lebon\, Tim Presley\, Kevin Morby et bien sûre Chris Cohen. Un disque charnel\, sensuel\, mélancolique et halluciné\, irrigué par les figures de la femme\, de la ville moderne\, de l’abandon\, de la paranoïa et de la rédemption.  \n► Liker : https://www.facebook.com/guillaumemarietta/\n► Ecouter : https://guillaumemarietta.bandcamp.com/\n► Regarder : https://youtu.be/pqAys8WnDM8 \nBICHE\n(Amour Pop – Paris) \n1. Femelle du cerf & mère du faon.\n2. fam. S’emploie comme un terme d’affection. Ma Biche.\n3. Entité sonore douce\, cosmique\, parfois candide\, mais toujours sauvage.» \n► Liker : https://www.facebook.com/bichemusic\n► Ecouter : https://bichemusic.bandcamp.com/releases\n► Regarder : https://www.youtube.com/watch?v=QRg0RnSJVe8 \nPASTEL COAST\n(Indie Pop – Côte d’Opale) \nPastel Coast souligne les teintes colorées des plages du Nord. Une apnée aérienne bercée par les réverbérations des guitares\, tel l’écho des vagues venant s’échouer sur le sable froid. A travers ce projet\, Pastel Coast invite à la mélancolie\, au rêve éveillé. Les voix résonnent alors; chuchotant les chants d’été que l’on fredonne en secret\, les amours éphémères et les questionnements éperdus. \n► Liker : https://www.facebook.com/pastelcoast/\n► Ecouter : https://pastelcoast.bandcamp.com/\n► Regarder : https://youtu.be/cENdC5bwWTk \nDAISY MORTEM\n(Dark Dance – Bordeaux) \nAprès avoir partagé la scène avec des artistes aussi variés que The Garden\, Casio Judiciaire\, Les Hôpitaux ou Infecticide\, entre des beats electro happy hardcore et des atmosphères gothiques\, le tout dans une esthétique burlesque et une énergie sexuelle indécente\, Daisy Mortem viennent de sortir leur premier EP\, «»La vie c’est mort»»\, chantant non sans poésie leurs obsessions macabres et romantiques.  \n► Liker : https://www.facebook.com/daisymortem/\n► Ecouter : https://daisymortem.bandcamp.com/album/la-vie-cest-mort \nGROTTE\n(Krautrock – Paris) \nGrotte\, réunion cosmique à l’air libre et esprit naïf.\nLes frères Hengstenberg et Talamon donnent un gros kraut: grotte. \n▬▬▬ INFOS PRATIQUES ▬▬▬▬▬▬▬▬▬▬▬ \nDu Mardi 10 Juillet au Samedi 14 Juillet 2018\nEntrée gratuite\n5 € à partir de 23h pour\nles nuits du Vendredi 13 et Samedi 14 \n Nos Partenaires : Manifesto XXI\, Noisey\, Limonadier\, Gonzaï\, Magic\, Revue Pop Moderne\, Kiblind et Balades Sonores \n▬▬▬▬▬▬▬▬▬▬▬▬▬▬▬▬▬▬▬▬▬▬▬\nSUPERSONIC\n9 rue Biscornet\, 75012 Paris\nMétro Bastille (sortie rue de lyon)\nhttp://supersonic-club.fr/\nInscription à la newsletter du Supersonic: http://bit.ly/1lWTnx4 \nTarifs : Gratuit
URL:https://supersonic-club.fr/event/festival-restons-serieux-13-juillet-2018-bertrand-burgalat-%e2%80%a2-cite-lumiere-%e2%80%a2-biche/
LOCATION:SUPERSONIC\, 9 Rue Biscornet\, Paris\, 75012\, France
CATEGORIES:Bertrand Burgalat,Biche,Concert,Daisy Mortem,Grotte,MARIETTA,Pastel Coast,Pop / Rock / Folk
ATTACH;FMTTYPE=image/jpeg:https://supersonic-club.fr/wp-content/uploads/2018/05/namethumb_w600px_img_event_9d489fbc-86c3-4207-8edc-223fe8f5292a-1.jpg
END:VEVENT
END:VCALENDAR