BEGIN:VCALENDAR
VERSION:2.0
PRODID:-//Supersonic - ECPv6.15.20//NONSGML v1.0//EN
CALSCALE:GREGORIAN
METHOD:PUBLISH
X-WR-CALNAME:Supersonic
X-ORIGINAL-URL:https://supersonic-club.fr
X-WR-CALDESC:Évènements pour Supersonic
REFRESH-INTERVAL;VALUE=DURATION:PT1H
X-Robots-Tag:noindex
X-PUBLISHED-TTL:PT1H
BEGIN:VTIMEZONE
TZID:Europe/London
BEGIN:DAYLIGHT
TZOFFSETFROM:+0000
TZOFFSETTO:+0100
TZNAME:BST
DTSTART:20220327T010000
END:DAYLIGHT
BEGIN:STANDARD
TZOFFSETFROM:+0100
TZOFFSETTO:+0000
TZNAME:GMT
DTSTART:20221030T010000
END:STANDARD
BEGIN:DAYLIGHT
TZOFFSETFROM:+0000
TZOFFSETTO:+0100
TZNAME:BST
DTSTART:20230326T010000
END:DAYLIGHT
BEGIN:STANDARD
TZOFFSETFROM:+0100
TZOFFSETTO:+0000
TZNAME:GMT
DTSTART:20231029T010000
END:STANDARD
BEGIN:DAYLIGHT
TZOFFSETFROM:+0000
TZOFFSETTO:+0100
TZNAME:BST
DTSTART:20240331T010000
END:DAYLIGHT
BEGIN:STANDARD
TZOFFSETFROM:+0100
TZOFFSETTO:+0000
TZNAME:GMT
DTSTART:20241027T010000
END:STANDARD
END:VTIMEZONE
BEGIN:VEVENT
DTSTART;TZID=Europe/London:20231216T190000
DTEND;TZID=Europe/London:20231216T223000
DTSTAMP:20260419T171823
CREATED:20231128T144143Z
LAST-MODIFIED:20231128T144143Z
UID:12273-1702753200-1702765800@supersonic-club.fr
SUMMARY:Mando Diao en concert à Paris !
DESCRIPTION:Le quatuor suédois fête ses 20 ans avec une tournée exceptionnelle qui s’achèvera à Paris\, le 16 Décembre 2023\, au Trabendo ! \n \nTake Me Out présente…\nMando Diao en concert à Paris ! \nMando Diao a toujours eu un esprit libre\, a toujours suivi sa propre voie\, résisté à l’autorité et apprécié le côté hédoniste de la vie. Il fête cette année son 20e anniversaire avec le personnage de Boblikov\, symbole du nouvel album studio « Boblikov’s Magical World »\, qui sortira le 28 avril chez Playground Music Scandinavia. \nAprès une longue et triomphale tournée suédoise qui a suivi la sortie de l’album « I solnedgången »\, numéro 1 des ventes et disque d’or\, Mando Diao s’est réuni en studio avec le producteur Charlie Storm dans le but de créer un album Rock pour leur 11ème opus. \nLes suédois viendront vous le présenter en live lors d’une tournée européenne de 8 pays et 16 villes jusqu’au 16 décembre\, date à laquelle la tournée s’achèvera à Paris ! \nÉcouter : https://bit.ly/3MOjqa1\nAimer : https://bit.ly/41wqs7t \nInformations pratiques\nSamedi 16 décembre 2023 à 20h\nLe Trabendo\, Parc de la Villette\,\n211 avenue Jean Jaurès\, 75019 Paris\nBilletterie : https://bit.ly/3mQwCAR \nhttps://takemeout-production.fr\nInscription à la newsletter: http://eepurl.com/hV38UT \nTarifs : Billet : 27.00€ \nBilletteries : Billetterie
URL:https://supersonic-club.fr/event/mando-diao-en-concert-a-paris/
LOCATION:Trabendo\, 211 Avenue Jean Jaurès\, Paris\, 75019\, France
CATEGORIES:Concert,Mando Diao,Pop / Rock / Folk,Sowprog,Trabendo
ATTACH;FMTTYPE=image/jpeg:https://supersonic-club.fr/wp-content/uploads/2023/11/namethumb_w600px_img_event_e3a7e054-4d7b-4076-8e90-f4d942c9aae9.jpg
END:VEVENT
END:VCALENDAR