BEGIN:VCALENDAR
VERSION:2.0
PRODID:-//Supersonic - ECPv6.15.20//NONSGML v1.0//EN
CALSCALE:GREGORIAN
METHOD:PUBLISH
X-ORIGINAL-URL:https://supersonic-club.fr
X-WR-CALDESC:Évènements pour Supersonic
REFRESH-INTERVAL;VALUE=DURATION:PT1H
X-Robots-Tag:noindex
X-PUBLISHED-TTL:PT1H
BEGIN:VTIMEZONE
TZID:Europe/London
BEGIN:DAYLIGHT
TZOFFSETFROM:+0000
TZOFFSETTO:+0100
TZNAME:BST
DTSTART:20210328T010000
END:DAYLIGHT
BEGIN:STANDARD
TZOFFSETFROM:+0100
TZOFFSETTO:+0000
TZNAME:GMT
DTSTART:20211031T010000
END:STANDARD
BEGIN:DAYLIGHT
TZOFFSETFROM:+0000
TZOFFSETTO:+0100
TZNAME:BST
DTSTART:20220327T010000
END:DAYLIGHT
BEGIN:STANDARD
TZOFFSETFROM:+0100
TZOFFSETTO:+0000
TZNAME:GMT
DTSTART:20221030T010000
END:STANDARD
BEGIN:DAYLIGHT
TZOFFSETFROM:+0000
TZOFFSETTO:+0100
TZNAME:BST
DTSTART:20230326T010000
END:DAYLIGHT
BEGIN:STANDARD
TZOFFSETFROM:+0100
TZOFFSETTO:+0000
TZNAME:GMT
DTSTART:20231029T010000
END:STANDARD
END:VTIMEZONE
BEGIN:VEVENT
DTSTART;TZID=Europe/London:20220719T190000
DTEND;TZID=Europe/London:20220719T230000
DTSTAMP:20260421T044751
CREATED:20220607T130330Z
LAST-MODIFIED:20220719T082521Z
UID:7909-1658257200-1658271600@supersonic-club.fr
SUMMARY:Little Tybee • Flora Hibberd • Madlen Keys / Supersonic (Free entry)
DESCRIPTION:WELCOME TO SUPERSONIC\nConcerts gratuits\, Nuits rock et Disquaire à Paris ! \n \nLITTLE TYBEE\n(Indie Folk – Atlanta\, USA)\nLittle Tybee is an experimental\, progressive folk-rock band based out of Atlanta\, GA. Since their beginnings in 2009\, the band has released 4 full length albums and conducted numerous tours\, the most recent being a full-US run in support of CHON and Tera Melos. Stylistically\, the band fuses together elements from folk\, psychedelic rock\, indie music\, jazz\, soul\, and other diverse influences.\nhttps://littletybee.bandcamp.com/\nhttps://www.youtube.com/watch?v=LqE9mNzXhdA \nFLORA HIBBERD\n(Indie folk – Paris\,FR)\nFlora Hibberd is a singer-songwriter from London. She lives in Paris\, where she writes and performs songs that provide a bridge between ordinary life and the mystic world\, recalling Josephine Foster\, Jason Molina\, Aldous Harding.\nhttps://flora-hibberd.bandcamp.com/\nhttps://www.youtube.com/watch?v=D4cako1l3wU \nMADLEN KEYS\n(Rock alternatif -Paris\, FR)\nSi rock et musique électronique donnent le ton sur l’identité du groupe\, c’est dans des origines plus intimes et personnelles qu’éclate la créativité du groupe.\nInitialement fondé par Caroline Calen\, chanteuse\, musicienne et compositrice\, Madlen Keys dévoile un univers riche\, une poésie moderne aux nombreuses références cinématographiques qui dévoile\, au fil des morceaux\, l’imaginaire de sa fondatrice.\nhttps://madlenkeys.bandcamp.com/\nhttps://www.youtube.com/watch?v=9WP42nTuQm0\n———————————\nMardi 19 Juillet 2022\nEntrée gratuite jusqu’à 23h puis 5 euros\n• Ouverture des portes à 19h00\n• Happy Hour de 19h à 20h (3€50 la pinte)\n———————————\nSUPERSONIC\n9 rue Biscornet\, 75012 Paris\nMétro Bastille (sortie rue de lyon)\nhttp://supersonic-club.fr/ \nTarifs : Gratuit
URL:https://supersonic-club.fr/event/little-tybee-yard-on-madlen-keys-supersonic-free-entry/
LOCATION:SUPERSONIC\, 9 Rue Biscornet\, Paris\, 75012\, France
CATEGORIES:Concert,Flora Hibberd,Little Tybee,Madlen Keys,Pop / Rock / Folk,Sowprog
ATTACH;FMTTYPE=image/jpeg:https://supersonic-club.fr/wp-content/uploads/2022/06/namethumb_w600px_img_event_16a7b588-f11e-4a7e-aa20-439fd8c0c67e-1.jpg
END:VEVENT
END:VCALENDAR