BEGIN:VCALENDAR
VERSION:2.0
PRODID:-//Supersonic - ECPv6.15.20//NONSGML v1.0//EN
CALSCALE:GREGORIAN
METHOD:PUBLISH
X-ORIGINAL-URL:https://supersonic-club.fr
X-WR-CALDESC:Évènements pour Supersonic
REFRESH-INTERVAL;VALUE=DURATION:PT1H
X-Robots-Tag:noindex
X-PUBLISHED-TTL:PT1H
BEGIN:VTIMEZONE
TZID:Europe/London
BEGIN:DAYLIGHT
TZOFFSETFROM:+0000
TZOFFSETTO:+0100
TZNAME:BST
DTSTART:20160327T010000
END:DAYLIGHT
BEGIN:STANDARD
TZOFFSETFROM:+0100
TZOFFSETTO:+0000
TZNAME:GMT
DTSTART:20161030T010000
END:STANDARD
BEGIN:DAYLIGHT
TZOFFSETFROM:+0000
TZOFFSETTO:+0100
TZNAME:BST
DTSTART:20170326T010000
END:DAYLIGHT
BEGIN:STANDARD
TZOFFSETFROM:+0100
TZOFFSETTO:+0000
TZNAME:GMT
DTSTART:20171029T010000
END:STANDARD
BEGIN:DAYLIGHT
TZOFFSETFROM:+0000
TZOFFSETTO:+0100
TZNAME:BST
DTSTART:20180325T010000
END:DAYLIGHT
BEGIN:STANDARD
TZOFFSETFROM:+0100
TZOFFSETTO:+0000
TZNAME:GMT
DTSTART:20181028T010000
END:STANDARD
END:VTIMEZONE
BEGIN:VEVENT
DTSTART;TZID=Europe/London:20170317T235500
DTEND;TZID=Europe/London:20170318T060000
DTSTAMP:20260420T080632
CREATED:20170310T124839Z
LAST-MODIFIED:20170310T124839Z
UID:996-1489794900-1489816800@supersonic-club.fr
SUMMARY:Gang Bambi : Spring break my ass !
DESCRIPTION:Double Dose invite Gang Bambi! \n \nSalut les Chatounes ! Alors ? Vous le sentez venir ce printemps ?\nNous on peut vous dire que cette coquine de Bambi est prête pour un “walk of no shame” hors du terrier !  \nLa Gang Bambi au Supersonic\, c’est un peu l’académie d’amours forestière sur le dance floor. \nAlors pour vous donner la becquée et satisfaire vos ouïes ce n’est pas un mais bien deux DJ guests qui vous feront vivre un Sacre du printemps en mode déprav’. Flawd (chanteur des 3Somesisters) vous chauffera les miches dans un warm up de rut en crescendo & Bosco (ex performer chez Crisis et au Balcon) vous prendra en pleine montée jusqu’à l’orgasme auditif.  \nNos Drags du love et des câlins performeront dans cette grâce animale qui leur est propre\, et animeront des ateliers chic et choc rien que pour vous !!! \nUn tohu bohu des sous bois régenté d’une patte sensuelle par vos Gang Bamberz Djs qui vous chérissent : Nannä Volta\, Jean Rémi et Loki Starfish. \nAu menu : Électro musquée\, disco lubrifiée et Guests à poils iridescents (voire indécents) !!!! \n▬▬▬ LINE UP \nGuest DJ :\nFlawd\nhttps://soundcloud.com/flawdfm\nBosco\nhttps://www.mixcloud.com/Boscoparis/ \nGang Bamberz Djs :\nNannä Volta\nhttps://www.mixcloud.com/nannavolta/\nJean Rémi\nhttps://www.mixcloud.com/jeanremi/\nLoki Starfish\nhttps://www.mixcloud.com/lokistarfish/ \n▬▬▬ PARTENAIRES  \nToute la culture\nWyylde\nHeeboo\nQweek\nGarçon Magazine\nSouslajupe\nTSUGI \nArtwork : © Jean Rémi \n▬▬▬ INFORMATIONS PRATIQUES \n5€ all night long ! \n▬▬▬ SUPERSONIC NUIT \n9 rue Biscornet\, 75012\, Paris\nMétro : Bastille\nSupersonic Nuit\nLes mineurs ne sont pas autorisés dans notre établissement. \nTarifs : SUR PLACE : 5€
URL:https://supersonic-club.fr/event/gang-bambi-spring-break-my-ass/
LOCATION:SUPERSONIC\, 9 Rue Biscornet\, Paris\, 75012\, France
CATEGORIES:Bosco,Concert,FLAWD,JEAN REMI,LOKI STARFISH,NANNÄ VOLTA,Pop / Rock / Folk
END:VEVENT
END:VCALENDAR