BEGIN:VCALENDAR
VERSION:2.0
PRODID:-//Supersonic - ECPv6.15.20//NONSGML v1.0//EN
CALSCALE:GREGORIAN
METHOD:PUBLISH
X-WR-CALNAME:Supersonic
X-ORIGINAL-URL:https://supersonic-club.fr
X-WR-CALDESC:Évènements pour Supersonic
REFRESH-INTERVAL;VALUE=DURATION:PT1H
X-Robots-Tag:noindex
X-PUBLISHED-TTL:PT1H
BEGIN:VTIMEZONE
TZID:Europe/London
BEGIN:DAYLIGHT
TZOFFSETFROM:+0000
TZOFFSETTO:+0100
TZNAME:BST
DTSTART:20160327T010000
END:DAYLIGHT
BEGIN:STANDARD
TZOFFSETFROM:+0100
TZOFFSETTO:+0000
TZNAME:GMT
DTSTART:20161030T010000
END:STANDARD
BEGIN:DAYLIGHT
TZOFFSETFROM:+0000
TZOFFSETTO:+0100
TZNAME:BST
DTSTART:20170326T010000
END:DAYLIGHT
BEGIN:STANDARD
TZOFFSETFROM:+0100
TZOFFSETTO:+0000
TZNAME:GMT
DTSTART:20171029T010000
END:STANDARD
BEGIN:DAYLIGHT
TZOFFSETFROM:+0000
TZOFFSETTO:+0100
TZNAME:BST
DTSTART:20180325T010000
END:DAYLIGHT
BEGIN:STANDARD
TZOFFSETFROM:+0100
TZOFFSETTO:+0000
TZNAME:GMT
DTSTART:20181028T010000
END:STANDARD
END:VTIMEZONE
BEGIN:VEVENT
DTSTART;TZID=Europe/London:20170217T235500
DTEND;TZID=Europe/London:20170218T060000
DTSTAMP:20260420T223807
CREATED:20170206T162115Z
LAST-MODIFIED:20170206T162115Z
UID:793-1487375700-1487397600@supersonic-club.fr
SUMMARY:Gang Bambi : Gotta Bang them all !
DESCRIPTION:Double Dose invite Gang Bambi! \n \nChères Loutres\, Chers Marcassins ! Vous êtes bien courageux cet hiver et c’est bientôt la dernière ligne droite jusqu’au printemps !\nPour cette sagouine de Bambi l’hibernation n’a été qu’un prétexte pour recevoir en scred les animaux de la forêt que vous êtes pour la jouer bromance de boules de poils et soeurs ciseaux. \nSa nouvelle tanière\, le Supersonic\, est désormais un terrier de la débauche et on vous a préparé un prequel de la saison des amours façon chaleur du brasier !\nSur le dancefloor vous pourrez vous exercer aux rites printaniers\, y aller du Frotti-frottas de museau\, et comparez vos poils d’hiver. \nUn lupanar forestier ambiancé par les suaves mélopées de Sophie Morello qui nous donnera la tétée avec un set déglingo et grivois ! \nCookie Kunty\, Enza Fragola et Sativa Blaze\, nos Drags de l’amour et du stupre\, vous gâteront comme des hérissons et animeront des ateliers surprises pour vous !!! \nDes galipettes présidées d’une patte de chat sauvage par vos Gang Bamberz Djs qui ont tant de love à régurgiter : Nannä Volta\, Jean Rémi et Loki Starfish. \nAu menu : Électro salace\, Phéromones disco et Guests au pelage de mille feux !!!! \n▬▬▬ LINE UP \nGuest DJ :\nSophie Morello (La Kidnapping)\nhttps://www.mixcloud.com/LaKidnapping/ \nGang Bamberz Djs :\nNannä Volta\nhttps://www.mixcloud.com/nannavolta/\nJean Rémii\nhttps://www.mixcloud.com/jeanremi/\nLoki Starfish\nhttps://www.mixcloud.com/lokistarfish/ \nHotesses de Charme\nEnza Fragola\nCookie Kunty\nSativa Blaze \n▬▬▬ PARTENAIRES  \nToute la culture\nWyylde\nGreenroom\nWell Well Well\nHeeboo\nQweek\nGarçon Magazine\nSouslajupe \nArtwork : © Jean Rémi \n▬▬▬ INFORMATIONS PRATIQUES \n6€ en prévente: https://yurplan.com/event/Gang-Bambi-Gotta-Bang-them-all/14108\n8€ sur place : all night long \n▬▬▬ SUPERSONIC NUIT \n9 rue Biscornet\, 75012\, Paris\nMétro : Bastille\nSupersonic Nuit\nLes mineurs ne sont pas autorisés dans notre établissement. \nTarifs : SUR PLACE : 8€ \nBilletteries : Yurplan / Préventes
URL:https://supersonic-club.fr/event/gang-bambi-gotta-bang-them-all/
LOCATION:SUPERSONIC\, 9 Rue Biscornet\, Paris\, 75012\, France
CATEGORIES:Clubbing,JEAN REMI,LOKI STARFISH,Musiques electroniques,NANNÄ VOLTA
ATTACH;FMTTYPE=image/jpeg:https://supersonic-club.fr/wp-content/uploads/2017/02/namethumb_w600px_img_event_5bbcc776-aeb9-4386-8488-736fd61dcc6d.jpg
END:VEVENT
END:VCALENDAR