BEGIN:VCALENDAR
VERSION:2.0
PRODID:-//Supersonic - ECPv6.15.20//NONSGML v1.0//EN
CALSCALE:GREGORIAN
METHOD:PUBLISH
X-WR-CALNAME:Supersonic
X-ORIGINAL-URL:https://supersonic-club.fr
X-WR-CALDESC:Évènements pour Supersonic
REFRESH-INTERVAL;VALUE=DURATION:PT1H
X-Robots-Tag:noindex
X-PUBLISHED-TTL:PT1H
BEGIN:VTIMEZONE
TZID:Europe/London
BEGIN:DAYLIGHT
TZOFFSETFROM:+0000
TZOFFSETTO:+0100
TZNAME:BST
DTSTART:20220327T010000
END:DAYLIGHT
BEGIN:STANDARD
TZOFFSETFROM:+0100
TZOFFSETTO:+0000
TZNAME:GMT
DTSTART:20221030T010000
END:STANDARD
BEGIN:DAYLIGHT
TZOFFSETFROM:+0000
TZOFFSETTO:+0100
TZNAME:BST
DTSTART:20230326T010000
END:DAYLIGHT
BEGIN:STANDARD
TZOFFSETFROM:+0100
TZOFFSETTO:+0000
TZNAME:GMT
DTSTART:20231029T010000
END:STANDARD
BEGIN:DAYLIGHT
TZOFFSETFROM:+0000
TZOFFSETTO:+0100
TZNAME:BST
DTSTART:20240331T010000
END:DAYLIGHT
BEGIN:STANDARD
TZOFFSETFROM:+0100
TZOFFSETTO:+0000
TZNAME:GMT
DTSTART:20241027T010000
END:STANDARD
END:VTIMEZONE
BEGIN:VEVENT
DTSTART;TZID=Europe/London:20230923T190000
DTEND;TZID=Europe/London:20230923T230000
DTSTAMP:20260419T161830
CREATED:20230721T165026Z
LAST-MODIFIED:20230728T170346Z
UID:11248-1695495600-1695510000@supersonic-club.fr
SUMMARY:Early James • Kingz Mansion • The Odds / Supersonic (Free entry)
DESCRIPTION:WELCOME TO SUPERSONIC\nConcerts gratuits\, et nuits rock à Paris ! \n \nCette soirée plaira aux fans de… Nick Waterhouse\, Theo Lawrence & Allah-Las \nEARLY JAMES (22h30)\n(Folk rock – Easy Eye Sound – Alabama\, USA)\nAlabama’s native son\, Early James\, released his sophomore album\, Strange Time To Be Alive\, on August 19th\, 2022. The lyrical wordsmith conjures the ghosts of great southern gothic writers from Eudora Welty to William Faulkner\, while channeling the haunted spirits of Tom Waits and Townes Van Zandt. The album evokes a timeless amalgam of forsaken blues\, wistful folk\, and Tin Pan Alley crooning\, anchored by the singer’s unmistakable voice that sways from gravel-filled shouts to pained\, forlorn whispers – and songs that tread in the waters of darkly themed broken hearts\, with the wry humor of the sad clown.\nhttps://open.spotify.com/…/artist/6fJpluuZmZ2tX2AviJ3bNY\nhttps://www.youtube.com/watch?v=NjappD3n168 \nKINGZ MANSION (21h30)\n(Garage indie rock – Rennes\, FR)\nKingz Mansion c’est de l’énergie live\, des riffs entêtants remplis de Fuzz et des mélodies percutantes.\nActif depuis février 2022\, ces quatre rennais prouve malgré leur jeunesse une véritable cohésion de groupe amenant à chaque composition un nouvel univers sonore.\nQue ça soit Garage\, punk\, ou Indie Rock\, Kingz Mansion s’y aventure sans peur\, et après un premier EP démo sorti en janvier 2023\, le groupe est sur sa lancée et ne compte pas s’y arrêter de si peu.\nFFO / Si vous aimez : King Gizzard & The Lizard Wizard\, The Strokes\nhttps://soundcloud.com/kingzmansion\nhttps://www.youtube.com/@kingzmansiontheband \nTHE ODDS (20h30)\n(Rock – Bonus Track Records – Paris\, FR)\nThe Odds est la relève audacieuse et punchy du rock français. Ils se libèrent sur scène et se transcendent pour être sans limite et jouer avec une énergie débordante\nFFO / Si vous aimez : BB Brunes\, The Clash et Téléphone\nhttps://li.sten.to/theodds\nhttps://www.youtube.com/@lesodds\n———————————\nSamedi 23 Septembre 2023\nEntrée gratuite\n• Ouverture des portes à 19h00\n• Happy Hour de 19h à 20h (3€50 la pinte)\n• Si vous êtes témoin ou victime d’une agression\, vous pouvez alerter le personnel du bar ou si vous préférez\, vous pouvez nous écrire à cette adresse: communication@supersonic-paris.fr\n———————————\nSUPERSONIC\n9 rue Biscornet\, 75012 Paris\nMétro Bastille (sortie rue de lyon) \nTarifs : Gratuit
URL:https://supersonic-club.fr/event/early-james-kingz-mansion-supersonic-free-entry/
LOCATION:SUPERSONIC\, 9 Rue Biscornet\, Paris\, 75012\, France
CATEGORIES:Concert,Early James,Kingz Mansion,Pop / Rock / Folk,Sowprog,SUPERSONIC,The Odds
ATTACH;FMTTYPE=image/jpeg:https://supersonic-club.fr/wp-content/uploads/2023/07/namethumb_w600px_img_event_eb473e91-a0c3-4f01-bb15-be258d8b0eb5-1.jpg
END:VEVENT
END:VCALENDAR