BEGIN:VCALENDAR
VERSION:2.0
PRODID:-//Supersonic - ECPv6.15.20//NONSGML v1.0//EN
CALSCALE:GREGORIAN
METHOD:PUBLISH
X-ORIGINAL-URL:https://supersonic-club.fr
X-WR-CALDESC:Évènements pour Supersonic
REFRESH-INTERVAL;VALUE=DURATION:PT1H
X-Robots-Tag:noindex
X-PUBLISHED-TTL:PT1H
BEGIN:VTIMEZONE
TZID:Europe/London
BEGIN:DAYLIGHT
TZOFFSETFROM:+0000
TZOFFSETTO:+0100
TZNAME:BST
DTSTART:20180325T010000
END:DAYLIGHT
BEGIN:STANDARD
TZOFFSETFROM:+0100
TZOFFSETTO:+0000
TZNAME:GMT
DTSTART:20181028T010000
END:STANDARD
BEGIN:DAYLIGHT
TZOFFSETFROM:+0000
TZOFFSETTO:+0100
TZNAME:BST
DTSTART:20190331T010000
END:DAYLIGHT
BEGIN:STANDARD
TZOFFSETFROM:+0100
TZOFFSETTO:+0000
TZNAME:GMT
DTSTART:20191027T010000
END:STANDARD
BEGIN:DAYLIGHT
TZOFFSETFROM:+0000
TZOFFSETTO:+0100
TZNAME:BST
DTSTART:20200329T010000
END:DAYLIGHT
BEGIN:STANDARD
TZOFFSETFROM:+0100
TZOFFSETTO:+0000
TZNAME:GMT
DTSTART:20201025T010000
END:STANDARD
END:VTIMEZONE
BEGIN:VEVENT
DTSTART;TZID=Europe/London:20190601T210000
DTEND;TZID=Europe/London:20190602T003000
DTSTAMP:20260420T125608
CREATED:20190513T114459Z
LAST-MODIFIED:20190513T114459Z
UID:4415-1559422800-1559435400@supersonic-club.fr
SUMMARY:Order #1 /// VOWWS - Katzkab - Amablanc
DESCRIPTION:▬ Le Supersonic présente ▬ \n \nORDER #1 – 01/06/2019 – FREE FREE FREE \n► VOWWS (Death Pop / Anti Language Records / Los Angeles) \n► KATZKAB (Jazz Post Punk / Berlin)  \n► AMABLANC (Post Rock – Crème Brulée Records – Rennes) \nVOWWS :  \nRizz & Matt de VOWWS enchainent les riffs de guitare hypnotiques sur des mélodies cinématographiques\, et distillent leur chant avec leur voix nettes et  lyriques. Sur scène\, les VOWWS sont calmes et sobres\, ce qui n’empêche pas leur musique d’être puissante et possédée. \nBandcamp : https://vowwsband.bandcamp.com/music\nFacebook : https://www.facebook.com/vowwsband/ \nKATZKAB :  \nKatzkab est un groupe bordélique: post-punk\, cabaret\, electro-rock avec avec des accents free jazz. Batterie et saxophone sont venus s’ajouter au trio pour un son plus nerveux et hystérique mais toujours aussi mélodique. \nBandcamp : https://katzkab.bandcamp.com/album/objet-no-2-i-iii\nFacebook : https://www.facebook.com/katzkab/ \nAMABLANC :  \nMélodies mantras et structures façon matriochkas\, Amablanc fait dans le post rock et signe un long format classieux à la production claire et efficace. Dans un genre maintes fois rabâché\, le groupe évite l’écueil de l’ennui grâce à une science de la mélodie et de la structure suffisamment pop et immédiate qui parvient à capter l’auditeur sur la longueur […]. Là où certains se perdent dans leurs propres labyrinthes mélodiques\, Amablanc ne lâche jamais son fil d’Ariane et tisse une dentelle toute en nuances entre coton ouaté et toile émeri\, ascensions maîtrisées et fuzz abrasif\, lignes de voix glacées et plages instrumentales contemplatives. \nBandcamp : https://amablanc.bandcamp.com/\nFacebook : https://www.facebook.com/Ama \nTarifs : Gratuit
URL:https://supersonic-club.fr/event/order-1-vowws-katzkab-amablanc/
LOCATION:SUPERSONIC\, 9 Rue Biscornet\, Paris\, 75012\, France
CATEGORIES:AMABLANC,Concert,Katzkab,Pop / Rock / Folk,VOWWS
ATTACH;FMTTYPE=image/jpeg:https://supersonic-club.fr/wp-content/uploads/2019/05/namethumb_w600px_img_event_e9d68829-8015-48da-881c-820babf26797.jpg
END:VEVENT
END:VCALENDAR