BEGIN:VCALENDAR
VERSION:2.0
PRODID:-//Supersonic - ECPv6.15.20//NONSGML v1.0//EN
CALSCALE:GREGORIAN
METHOD:PUBLISH
X-ORIGINAL-URL:https://supersonic-club.fr
X-WR-CALDESC:Évènements pour Supersonic
REFRESH-INTERVAL;VALUE=DURATION:PT1H
X-Robots-Tag:noindex
X-PUBLISHED-TTL:PT1H
BEGIN:VTIMEZONE
TZID:Europe/London
BEGIN:DAYLIGHT
TZOFFSETFROM:+0000
TZOFFSETTO:+0100
TZNAME:BST
DTSTART:20220327T010000
END:DAYLIGHT
BEGIN:STANDARD
TZOFFSETFROM:+0100
TZOFFSETTO:+0000
TZNAME:GMT
DTSTART:20221030T010000
END:STANDARD
BEGIN:DAYLIGHT
TZOFFSETFROM:+0000
TZOFFSETTO:+0100
TZNAME:BST
DTSTART:20230326T010000
END:DAYLIGHT
BEGIN:STANDARD
TZOFFSETFROM:+0100
TZOFFSETTO:+0000
TZNAME:GMT
DTSTART:20231029T010000
END:STANDARD
BEGIN:DAYLIGHT
TZOFFSETFROM:+0000
TZOFFSETTO:+0100
TZNAME:BST
DTSTART:20240331T010000
END:DAYLIGHT
BEGIN:STANDARD
TZOFFSETFROM:+0100
TZOFFSETTO:+0000
TZNAME:GMT
DTSTART:20241027T010000
END:STANDARD
END:VTIMEZONE
BEGIN:VEVENT
DTSTART;TZID=Europe/London:20230620T190000
DTEND;TZID=Europe/London:20230620T230000
DTSTAMP:20260420T063112
CREATED:20230202T171032Z
LAST-MODIFIED:20230330T181841Z
UID:9913-1687287600-1687302000@supersonic-club.fr
SUMMARY:Jen Cloher • Hachiku • Joni Île / Supersonic (Free entry)
DESCRIPTION:WELCOME TO SUPERSONIC\nConcerts gratuits\, Nuits rock et Disquaire à Paris ! \n \nJEN CLOHER\n(Indie rock – Milk! Records – Melbourne\, AUS)\nJen Cloher (Ngāpuhi & Ngāti Kahu) is a songwriter and performer living on unceded Wurundjeri land in Naarm. Cloher’s taut\, terse brand of rock is charged with static tension. Admirers have naturally gravitated towards Cloher’s incisive\, generous songwriting. Over the course of five albums\, they have won a J Award and an AIR Award and been nominated for an ARIA and the Australian Music Prize.\nhttps://jencloher.bandcamp.com/\nhttps://www.youtube.com/watch?v=kP7OSL2VOxk \nHACHIKU\n(Alternativ pop – Melbourne\, AUS)\nInspired by other DIY artists (think: Grimes\, Perfume Genius and early CocoRosie)\, Hachiku\, a.k.a Anika Ostendorf\, writes and produces dream pop with an an avant garde twist from whichever bedroom she is currently inhabiting. � Originally from Germany\, Ostendorf moved to Australia from London as a biology exchange student. In Melbourne\, she found both a job and music community at Milk! Records and expanded her bedroom project into a band. Since releasing her self-titled debut EP in 2017\, Hachiku has taken her catchy melodies\, highly tasteful\, textural guitar playing and shimmering walls of sound across the world touring with the likes of Courtney Barnett\, The Breeders\, Jose Gonzales\, Jen Cloher and Snail Mail\, Stella Donnelly\, Aldous Harding and Hand Habits across the US\, EU and Australia.\nhttps://open.spotify.com/artist/5HfeTpsKxVyfweIfKsSvIT\nhttps://youtu.be/jMgLiG0sx0w \nJONI ÎLE\n(Bedroom pop – Bruit Blanc – Lille\, FR)\nJoni Île : 1. Nom pop regroupant des états d’âme jetés sans scrupules sur des accords majeurs.\n2. Bedroom indé\, artisanale et spontanée.\n3. Personne pensant être dans sa chambre comme Robinson Crusoé dans le Pacifique.\n4. Nom pouvant désigner une ou trois personnes. 5. Insulaire venant de Lille écoutant Courtney Barnett\, Daniel Johnston\, Frankie Cosmos\, Alain Bashung et tant d’autres.\n6. Ensemble instrumental : batterie minimaliste\, basse\, guitare\, synthé et voix.\n7. Surtout\, savoir nager.\nhttps://joniile.bandcamp.com/album/m-t-orage\nhttps://www.youtube.com/watch?v=NhrfSzwZlAs\n———————————\nMardi 20 Juin 2023\nEntrée gratuite\n• Ouverture des portes à 19h00\n• Happy Hour de 19h à 20h (3€50 la pinte)\n• Si vous êtes témoin ou victime d’une agression\, vous pouvez alerter le personnel du bar ou si vous préférez\, vous pouvez nous écrire à cette adresse: communication@supersonic-paris.fr\n———————————\nSUPERSONIC\n9 rue Biscornet\, 75012 Paris\nMétro Bastille (sortie rue de lyon) \nTarifs : Gratuit
URL:https://supersonic-club.fr/event/jen-cloher-en-concert-au-supersonic-free-entry/
LOCATION:SUPERSONIC\, 9 Rue Biscornet\, Paris\, 75012\, France
CATEGORIES:Concert,Hachiku,Jen Cloher,Joni Île,Pop / Rock / Folk,Sowprog,SUPERSONIC
ATTACH;FMTTYPE=image/jpeg:https://supersonic-club.fr/wp-content/uploads/2023/02/namethumb_w600px_img_event_f713834f-f599-4cf8-91a9-cba937eb3828-1.jpg
END:VEVENT
END:VCALENDAR