BEGIN:VCALENDAR
VERSION:2.0
PRODID:-//Supersonic - ECPv6.15.20//NONSGML v1.0//EN
CALSCALE:GREGORIAN
METHOD:PUBLISH
X-ORIGINAL-URL:https://supersonic-club.fr
X-WR-CALDESC:Évènements pour Supersonic
REFRESH-INTERVAL;VALUE=DURATION:PT1H
X-Robots-Tag:noindex
X-PUBLISHED-TTL:PT1H
BEGIN:VTIMEZONE
TZID:Europe/London
BEGIN:DAYLIGHT
TZOFFSETFROM:+0000
TZOFFSETTO:+0100
TZNAME:BST
DTSTART:20170326T010000
END:DAYLIGHT
BEGIN:STANDARD
TZOFFSETFROM:+0100
TZOFFSETTO:+0000
TZNAME:GMT
DTSTART:20171029T010000
END:STANDARD
BEGIN:DAYLIGHT
TZOFFSETFROM:+0000
TZOFFSETTO:+0100
TZNAME:BST
DTSTART:20180325T010000
END:DAYLIGHT
BEGIN:STANDARD
TZOFFSETFROM:+0100
TZOFFSETTO:+0000
TZNAME:GMT
DTSTART:20181028T010000
END:STANDARD
BEGIN:DAYLIGHT
TZOFFSETFROM:+0000
TZOFFSETTO:+0100
TZNAME:BST
DTSTART:20190331T010000
END:DAYLIGHT
BEGIN:STANDARD
TZOFFSETFROM:+0100
TZOFFSETTO:+0000
TZNAME:GMT
DTSTART:20191027T010000
END:STANDARD
END:VTIMEZONE
BEGIN:VEVENT
DTSTART;TZID=Europe/London:20180604T210000
DTEND;TZID=Europe/London:20180605T003000
DTSTAMP:20260420T041706
CREATED:20180511T141920Z
LAST-MODIFIED:20180528T130202Z
UID:2862-1528146000-1528158600@supersonic-club.fr
SUMMARY:Mugstar • The Scaners • Grotte / Supersonic - Free
DESCRIPTION:▬ Le Supersonic présente ▬ \n \n▬▬▬ ENTREE LIBRE ▬▬▬▬ \n→ MUGSTAR\n(Noise psych – Rock Action Records – Liverpool\, UK) \nMugstar est un groupe de Liverpool actif depuis plus de 10 ans au sein de la foisonnante scène psyché noise anglaise (avec des groupes comme The Cosmic Dead\, Gnod\, Hey Colossus…) et a pu ouvrir au long de sa carrière pour des groupes tels que Melt Banana\, Oneida\, Acid Mothers Temple mais également Mogwai. Les écossais ont d’ailleurs décidé de sortir le dernier album de Mugstar\, Magnetic Seasons\, sur leur propre label\, Rock Action Records et le groupe a pu également être représenté par les meilleures maisons de disque du genre\, telles que Rocket Recordings ou Important Records\, leur permettant notamment de collaborer au gré de leurs réalisations avec Mudhoney ou Damo Suzuki. \n►Liker: https://www.facebook.com/MUGSTAR-127591997334111/\n►Regarder: https://www.youtube.com/watch?v=x3UvK6CYdFI&feature=youtu.be \n→ THE SCANERS\n(Killer Punk 2077 – Dirty Water Records\, Casbah Records – Lyon\,FR) \n« The Scaners\, Killer punk 2077 from Lyon\, France. Cocktail explosif entre du garage punk et du synth punk fait pour les pilotes d’OVNI et les extraterrestres chelous. Fonce si tu aimes les Ramones\, The Spits\, The Dickies\, The Briefs… Premier 45 tours sorti en octobre 2017 chez No Front Teeth Records. Premier album prévu pour février 2018 chez Dirty Water Records et Dirty Water Records USA\, Adrenalin Fix Music\, Casbah Records\, Dangerhouse Skylab\, Teenage Hate Records\, Stryckhnine Recordz et Trokson Records. Enregistré par Lo Spider à Swampland\, Toulouse\, France.\nTu les as peut-être vus sur scène aux côtés des New Bomb Turks\, UK Subs\, Frustration\, Ausmuteants\, Zeke\, JC Satan\, Los Pepes\, Les Lullies\, Royal Headache… » \n►Liker: https://www.facebook.com/thescaners/\n►Ecouter : https://thescaners.bandcamp.com/\n►Regarder : https://www.youtube.com/watch?v=vaRxYfKqIQE \n→ GROTTE\nGrotte\, réunion cosmique à l’air libre et esprit naïf. Les frères Hengstenberg et Talamon donnent un gros kraut: grotte.\nAvec des membres de TERRITORY et Human Teorema. \n▬▬▬ INFOS PRATIQUES ▬▬▬ \nLundi 4 Juin 2018\nEntrée gratuite \n– Ouverture des portes à 18h30\n– Début des concerts vers 20h\n– Happy Hour de 18h30 à 20h (3€50 la pinte)\n– Hot Dog au bar \n▬▬▬▬▬▬▬▬▬▬▬▬▬▬▬▬▬▬▬▬▬▬▬ \nSUPERSONIC\n9 rue Biscornet\, 75012 Paris\nMétro Bastille (sortie rue de lyon)\nhttp://supersonic-club.fr/\nInscription à la newsletter du Supersonic: http://bit.ly/1lWTnx4 \nTarifs : Gratuit
URL:https://supersonic-club.fr/event/mugstar-%e2%80%a2-the-scaners-supersonic-free/
LOCATION:SUPERSONIC\, 9 Rue Biscornet\, Paris\, 75012\, France
CATEGORIES:Concert,Grotte,Mugstar,Pop / Rock / Folk,The Scaners
ATTACH;FMTTYPE=image/jpeg:https://supersonic-club.fr/wp-content/uploads/2018/05/namethumb_w600px_img_event_d9313b19-7b39-4be9-9cf6-edc01248f7b9-1.jpg
END:VEVENT
END:VCALENDAR