BEGIN:VCALENDAR
VERSION:2.0
PRODID:-//Supersonic - ECPv6.15.20//NONSGML v1.0//EN
CALSCALE:GREGORIAN
METHOD:PUBLISH
X-ORIGINAL-URL:https://supersonic-club.fr
X-WR-CALDESC:Évènements pour Supersonic
REFRESH-INTERVAL;VALUE=DURATION:PT1H
X-Robots-Tag:noindex
X-PUBLISHED-TTL:PT1H
BEGIN:VTIMEZONE
TZID:Europe/London
BEGIN:DAYLIGHT
TZOFFSETFROM:+0000
TZOFFSETTO:+0100
TZNAME:BST
DTSTART:20220327T010000
END:DAYLIGHT
BEGIN:STANDARD
TZOFFSETFROM:+0100
TZOFFSETTO:+0000
TZNAME:GMT
DTSTART:20221030T010000
END:STANDARD
BEGIN:DAYLIGHT
TZOFFSETFROM:+0000
TZOFFSETTO:+0100
TZNAME:BST
DTSTART:20230326T010000
END:DAYLIGHT
BEGIN:STANDARD
TZOFFSETFROM:+0100
TZOFFSETTO:+0000
TZNAME:GMT
DTSTART:20231029T010000
END:STANDARD
BEGIN:DAYLIGHT
TZOFFSETFROM:+0000
TZOFFSETTO:+0100
TZNAME:BST
DTSTART:20240331T010000
END:DAYLIGHT
BEGIN:STANDARD
TZOFFSETFROM:+0100
TZOFFSETTO:+0000
TZNAME:GMT
DTSTART:20241027T010000
END:STANDARD
END:VTIMEZONE
BEGIN:VEVENT
DTSTART;TZID=Europe/London:20231123T190000
DTEND;TZID=Europe/London:20231123T230000
DTSTAMP:20260420T035510
CREATED:20231026T182039Z
LAST-MODIFIED:20231114T164644Z
UID:11975-1700766000-1700780400@supersonic-club.fr
SUMMARY:Liquid Bear • Kahani • Good Afternoon / Supersonic (Free entry)
DESCRIPTION:Pour les fans de… Deep Purple\, King Crimson\, Opeth \n \nLIQUID BEAR (22h30)\n(Prog rock – Paris\, FR)\nConfronter leurs influences respectives\, briser les barrières des genres musicaux\, voici la volonté des membres de Liquid Bear.\nTraitant des thèmes tels que la dépendance\, la quête de sens ou le temps qui passe\, l’ours liquide dévoile un rock brutal et enchanteur\, aux compositions audacieuses magnifiées par une certaine maîtrise instrumentale.\nFFO / Si vous aimez : Deep Purple\, King Crimson\, Opeth\nhttps://liquidbear.bandcamp.com/\nhttps://www.youtube.com/channel/UC662KF5482SOyjVQqvs1Zlg \nKAHANI (21h30)\n(Rock progressif – Paris\, FR)\nNaviguer entre le réel et le rêve\, la douceur et la violence\, le mystique et l’universel : c’est là l’enjeu de la musique de Kahani. Le groupe propose un rock progressif qui exprime les paradoxes et la dualité inhérente à chaque être\, en puisant dans des influences musicales allant de Radiohead et Tool à Massive Attack ou King Crimson. Kahani se démarque également par des paroles écrites principalement en français.\nMais Kahani puisent aussi toute leur inspiration dans la littérature et le cinéma\, offrant ainsi un déroulé narratif à leurs compositions. Après tout\, Kahani signifie histoire…\nFFO / Si vous aimez : Radiohead\, Tool\, Led Zeppelin\nhttps://soundcloud.com/kahanim…/sets/la-nouvelle-aurore… \nGOOD AFTERNOON (20h30)\n(Indie rock – Paris\, FR)\nMusiciens autodidactes\, GOOD AFTERNOON est un groupe née sous l’étoile Essonnienne et Liverpoolienne. Les membres ayant grandi dans le même quartier ont décidé en plein milieu de leur vingtaine de monter un groupe aux influences franco-britanniques.\nDurant l’été 2022 ils décident de s’enfermer dans un appartement Parisien et d’enregistrer leur premier EP. Tout les morceaux sont auto-produits.\nEn parallèle\, ils décident de jouer leurs titres dans toutes les opens mics d’Ile de France\, en passant par Le Plan\, l’Oasis 244… En 2023\, ils remportent le tremplin de la Javelle et celui du Poisson Lune. Ils auront l’occasion de jouer sur la scène mythique de la Bellevilloise.\nOn qualifiera leur musique d’Indie ou Alternatif\, inspirée des Fontaines D.C\, Cage the Elephant\, Babyshambles\, Death in Vegas ou encore Arctic Monkeys.\nIls comptent bien tirer leur épingle du jeu avec leurs sonorités pop et mélodiques\, et leurs efforts d’imposer une langue poétique moderne.\nFFO / Si vous aimez : Cage the Elephant\, Fontaines D.C\, The Cure\nhttps://www.youtube.com/channel/UCV7PLQz5jAC3ERFbja689YA\n———————————\nJeudi 23 Novembre 2023\nEntrée gratuite\n• Ouverture des portes à 19h00\n• Happy Hour de 19h à 20h\n• Si vous êtes témoin ou victime d’une agression\, vous pouvez alerter le personnel du bar ou si vous préférez\, vous pouvez nous écrire à cette adresse: communication@supersonic-paris.fr\n———————————\nSUPERSONIC\n9 rue Biscornet\, 75012 Paris\nMétro Bastille (sortie rue de lyon) \nTarifs : Gratuit
URL:https://supersonic-club.fr/event/liquid-bear-en-concert-au-supersonic-free-entry/
LOCATION:SUPERSONIC\, 9 Rue Biscornet\, Paris\, 75012\, France
CATEGORIES:Concert,Good Afternoon,Kahani,Liquid Bear,Pop / Rock / Folk,Sowprog,SUPERSONIC
ATTACH;FMTTYPE=image/jpeg:https://supersonic-club.fr/wp-content/uploads/2023/10/namethumb_w600px_img_event_917f4a48-7645-4865-9c7d-c8c8b154421a-2.jpg
END:VEVENT
END:VCALENDAR