BEGIN:VCALENDAR
VERSION:2.0
PRODID:-//Supersonic - ECPv6.15.20//NONSGML v1.0//EN
CALSCALE:GREGORIAN
METHOD:PUBLISH
X-WR-CALNAME:Supersonic
X-ORIGINAL-URL:https://supersonic-club.fr
X-WR-CALDESC:Évènements pour Supersonic
REFRESH-INTERVAL;VALUE=DURATION:PT1H
X-Robots-Tag:noindex
X-PUBLISHED-TTL:PT1H
BEGIN:VTIMEZONE
TZID:Europe/London
BEGIN:DAYLIGHT
TZOFFSETFROM:+0000
TZOFFSETTO:+0100
TZNAME:BST
DTSTART:20180325T010000
END:DAYLIGHT
BEGIN:STANDARD
TZOFFSETFROM:+0100
TZOFFSETTO:+0000
TZNAME:GMT
DTSTART:20181028T010000
END:STANDARD
BEGIN:DAYLIGHT
TZOFFSETFROM:+0000
TZOFFSETTO:+0100
TZNAME:BST
DTSTART:20190331T010000
END:DAYLIGHT
BEGIN:STANDARD
TZOFFSETFROM:+0100
TZOFFSETTO:+0000
TZNAME:GMT
DTSTART:20191027T010000
END:STANDARD
BEGIN:DAYLIGHT
TZOFFSETFROM:+0000
TZOFFSETTO:+0100
TZNAME:BST
DTSTART:20200329T010000
END:DAYLIGHT
BEGIN:STANDARD
TZOFFSETFROM:+0100
TZOFFSETTO:+0000
TZNAME:GMT
DTSTART:20201025T010000
END:STANDARD
END:VTIMEZONE
BEGIN:VEVENT
DTSTART;TZID=Europe/London:20190318T200000
DTEND;TZID=Europe/London:20190318T233000
DTSTAMP:20260421T044604
CREATED:20190304T133800Z
LAST-MODIFIED:20190304T173048Z
UID:4090-1552939200-1552951800@supersonic-club.fr
SUMMARY:Edgär • Genoux Vener / Supersonic (Free entry)
DESCRIPTION:  \n▬ Le Supersonic présente ▬ \n  \n▬▬▬ ENTREE LIBRE ▬▬▬▬ \n→ EDGÄR\n(Electro Pop – Amiens\,FR) \n«Edgär\, au service de la pop depuis 2015\, s’offre un palmarès remarqué. Près de 130 concerts\, lauréat des iNOUïS du Printemps de Bourges 2018\, un EP qui fait plus d’2 millions d’écoutes sur Spotify et un clip qui totalise 80 passages TV (dont 40 sur M6) … et un peu plus depuis le début de votre lecture.\nAir\, Alb\, Alt-J\, la liste des références est longue. Résumons cela ! Edgär c’est le songwriting de Simon\, les harmonies de Garfunkel et la puissance de Justice le tout pour annoncer une pop élégante.» \n► Liker : https://www.facebook.com/pg/Edgarofficiel/\n► Ecouter: https://soundcloud.com/edg-r-1\n► Regarder: https://www.youtube.com/watch?v=6wy_U_2IoFI \n→ GENOUX VENER\n(Synthpop – Paris\,FR) \n«Genoux Vener est un duo parisien développant des compositions synthpop\, inspirées des démons de Gainsbourg et des paillettes de Vendredi sur Mer. Pauline et Chloé construisent leur bulle musicale en jouant sur les paradoxes et les contradictions.» \nLes 3 influences: Gainsbourg\, Vendredi sur Mer\, Agar Agar \n► Liker : https://www.facebook.com/gnxvnr/\n► Ecouter: https://soundcloud.com/user-681870130\n► Regarder: https://www.youtube.com/watch?v=Fx7l2ZBjloU \n▬▬▬ INFOS PRATIQUES ▬▬▬ \nLundi 18 Mars 2019\nEntrée gratuite \n– Ouverture des portes à 18h30\n– Début des concerts vers 20h\n– Happy Hour de 18h30 à 20h (3€50 la pinte)\n– Hot Dog au bar \n▬▬▬▬▬▬▬▬▬▬▬▬▬▬▬▬▬▬▬▬▬▬▬ \nSUPERSONIC\n9 rue Biscornet\, 75012 Paris\nMétro Bastille (sortie rue de lyon) \nAccueil \n\nInscription à la newsletter du Supersonic: http://bit.ly/1lWTnx4 \nTarifs : Gratuit
URL:https://supersonic-club.fr/event/edgar-%e2%80%a2-genoux-vener-supersonic-free-entry/
LOCATION:SUPERSONIC\, 9 Rue Biscornet\, Paris\, 75012\, France
CATEGORIES:Concert,Edgär,Genoux Vener,Pop / Rock / Folk
ATTACH;FMTTYPE=image/jpeg:https://supersonic-club.fr/wp-content/uploads/2019/03/Affiche_1803_A3_Concert.jpg
END:VEVENT
END:VCALENDAR