BEGIN:VCALENDAR
VERSION:2.0
PRODID:-//Supersonic - ECPv6.15.20//NONSGML v1.0//EN
CALSCALE:GREGORIAN
METHOD:PUBLISH
X-ORIGINAL-URL:https://supersonic-club.fr
X-WR-CALDESC:Évènements pour Supersonic
REFRESH-INTERVAL;VALUE=DURATION:PT1H
X-Robots-Tag:noindex
X-PUBLISHED-TTL:PT1H
BEGIN:VTIMEZONE
TZID:Europe/London
BEGIN:DAYLIGHT
TZOFFSETFROM:+0000
TZOFFSETTO:+0100
TZNAME:BST
DTSTART:20250330T010000
END:DAYLIGHT
BEGIN:STANDARD
TZOFFSETFROM:+0100
TZOFFSETTO:+0000
TZNAME:GMT
DTSTART:20251026T010000
END:STANDARD
BEGIN:DAYLIGHT
TZOFFSETFROM:+0000
TZOFFSETTO:+0100
TZNAME:BST
DTSTART:20260329T010000
END:DAYLIGHT
BEGIN:STANDARD
TZOFFSETFROM:+0100
TZOFFSETTO:+0000
TZNAME:GMT
DTSTART:20261025T010000
END:STANDARD
BEGIN:DAYLIGHT
TZOFFSETFROM:+0000
TZOFFSETTO:+0100
TZNAME:BST
DTSTART:20270328T010000
END:DAYLIGHT
BEGIN:STANDARD
TZOFFSETFROM:+0100
TZOFFSETTO:+0000
TZNAME:GMT
DTSTART:20271031T010000
END:STANDARD
END:VTIMEZONE
BEGIN:VEVENT
DTSTART;TZID=Europe/London:20260502T190000
DTEND;TZID=Europe/London:20260502T230000
DTSTAMP:20260421T044816
CREATED:20260123T151504Z
LAST-MODIFIED:20260325T173211Z
UID:18175-1777748400-1777762800@supersonic-club.fr
SUMMARY:Tin Fingers • Felicien Adam • Simon Roz
DESCRIPTION:Cette soirée plaira aux fans de… Balthazar\, Timber Timbre & Arcade Fire \n \nTIN FINGERS (22h30)\n(Alt indie rock – Unday Records – Antwerp\, BEL)\nTin Fingers est un groupe indie basé à Anvers\, connu pour son son mélancolique aux rebondissements inattendus. Le groupe est composé de Felix Machtelinckx (qui chante souvent en live avec Arsenal)\, Marnix Van Soom\, Simen Wouters et Quinten De Cuyper (Calicos). Ils ont fait leurs débuts en 2017 avec l’EP « No Hero »\, proposant une pop alternative vintage et entraînante qui a rapidement trouvé sa place sur la scène indie culte belge. Avec des mélodies rêveuses et des concerts explosifs mais romantiques\, le groupe a conquis les salles avec une présence nonchalante mais captivante. Des singles comme « Boy Boy » et « Young Mother » sont devenus des succès radiophoniques\, et leur première grande tournée a culminé avec un concert intense et coloré au Pukkelpop.\nAvec leur troisième album\, « Balconies » (Unday Records\, mars 2026)\, Tin Fingers a complètement relevé la barre. Enregistré pendant quatre jours étouffants à The Old Carpet Factory à Hydra\, en Grèce\, le groupe a dépouillé son son jusqu’à l’os. Des morceaux vifs et énergiques dominent désormais\, conçus pour la scène mais toujours ancrés dans le cœur mélancolique du groupe. L’album canalise l’intensité de ces jours d’enregistrement\, où la chaleur\, l’isolement et la mer environnante se sont infiltrés dans la musique\, créant des chansons qui équilibrent l’urgence brute et la profondeur introspective.\nLes 3 influences : Thom Yorke\, The War on Drugs\, Kevin Morby\nhttps://open.spotify.com/artist/4tLOVSDLiCDwmJtaHEJJZu…\nhttps://www.youtube.com/@tinfingers3555 \nFELICIEN ADAM (21h30)\n(Alt pop rock – Paris\, FR)\nLes compositions de félicien adam sont inspirées par ce qui l’entoure\, un quotidien\, des situations\, ses relations.\nIl s’exprime comme il le souhaite\, de maniere intime et sensible. Il se plaît à rechercher des sonorités différentes et nouvelles tout en gardant ses inspirations pop et vintage allant de finneas\, the do aux classiques des années 60 (beatles\, the zombies..). Il travaille à partir de son instinct\, laissant primer ses emotions dans les premiers instants de composition. Ne reniant pas ses premières intentions\, il fait de sa musique une démarche sincère\, intime qui lui ressemble. À partir de sa rigueur\, de sa détermination\, mais aussi de son expérience de la fragilité de l’audition\, il construit son lien à la musique\, entre instinct et incertitudes.\nhttps://ffm.bio/felicienadam\nhttps://youtube.com/@felicienadam?si=_rbWfdl68QxDyE2Z \nSIMON ROZ (20h30)\n(Pop rock – Paris\, FR)\nSimon Roz écrit des chansons entre les guitares des Strokes\, les soupirs synthétiques de Daho et les refrains assumés de Goldman. Parisien par défaut\, romantique à contrecœur\, il fait de la pop pour ceux qui croient encore que l’ironie protège de tout.\nLes 3 influences : The Strokes\, Etienne Daho\, Laurent Voulzy\nhttps://soundcloud.com/simonroz\nhttps://www.youtube.com/@simonroz\n———————————\nSamedi 2 Mai 2026\nEntrée gratuite\n• Ouverture des portes à 19h00\n• Happy Hour de 19h à 20h\n• Si vous êtes témoin ou victime d’une agression\, vous pouvez alerter le personnel du bar ou si vous préférez\, vous pouvez nous écrire à cette adresse: communication@supersonic-paris.fr\n———————————\nSUPERSONIC\n9 rue Biscornet\, 75012 Paris\nMétro Bastille (sortie rue de lyon) \nTarifs : Gratuit
URL:https://supersonic-club.fr/event/tin-fingers/
LOCATION:SUPERSONIC\, 9 Rue Biscornet\, Paris\, 75012\, France
CATEGORIES:Concert,Félicien Adam,Pop / Rock / Folk,Simon Roz,Sowprog,SUPERSONIC,Tin Fingers
ATTACH;FMTTYPE=image/jpeg:https://supersonic-club.fr/wp-content/uploads/2026/01/namethumb_w600px_img_event_3767e8c6-1e1a-4ec2-9349-13ca39f0b223-2.jpg
END:VEVENT
END:VCALENDAR