BEGIN:VCALENDAR
VERSION:2.0
PRODID:-//Supersonic - ECPv6.15.20//NONSGML v1.0//EN
CALSCALE:GREGORIAN
METHOD:PUBLISH
X-ORIGINAL-URL:https://supersonic-club.fr
X-WR-CALDESC:Évènements pour Supersonic
REFRESH-INTERVAL;VALUE=DURATION:PT1H
X-Robots-Tag:noindex
X-PUBLISHED-TTL:PT1H
BEGIN:VTIMEZONE
TZID:Europe/London
BEGIN:DAYLIGHT
TZOFFSETFROM:+0000
TZOFFSETTO:+0100
TZNAME:BST
DTSTART:20160327T010000
END:DAYLIGHT
BEGIN:STANDARD
TZOFFSETFROM:+0100
TZOFFSETTO:+0000
TZNAME:GMT
DTSTART:20161030T010000
END:STANDARD
BEGIN:DAYLIGHT
TZOFFSETFROM:+0000
TZOFFSETTO:+0100
TZNAME:BST
DTSTART:20170326T010000
END:DAYLIGHT
BEGIN:STANDARD
TZOFFSETFROM:+0100
TZOFFSETTO:+0000
TZNAME:GMT
DTSTART:20171029T010000
END:STANDARD
BEGIN:DAYLIGHT
TZOFFSETFROM:+0000
TZOFFSETTO:+0100
TZNAME:BST
DTSTART:20180325T010000
END:DAYLIGHT
BEGIN:STANDARD
TZOFFSETFROM:+0100
TZOFFSETTO:+0000
TZNAME:GMT
DTSTART:20181028T010000
END:STANDARD
END:VTIMEZONE
BEGIN:VEVENT
DTSTART;TZID=Europe/London:20170315T200000
DTEND;TZID=Europe/London:20170315T233000
DTSTAMP:20260419T195918
CREATED:20170206T162102Z
LAST-MODIFIED:20170206T162102Z
UID:753-1489608000-1489620600@supersonic-club.fr
SUMMARY:Thomas Howard Memorial • Syd Kult • Faith&Spirit // Free
DESCRIPTION:▬▬▬ ENTRÉE LIBRE ▬▬▬▬▬▬▬▬▬▬▬▬ \nLe Supersonic présente… \n \n▬▬▬ LINE UP ▬▬▬▬▬▬▬▬▬▬▬▬▬▬▬▬ \n→ THOMAS HOWARD MEMORIAL\n(Rock – TCC prod\, Upton park – Paris) \nNe voyez pas dans THM un manuel aux objectifs immoraux\, mais plutôt une réflexion sur la manière dont l’homme\, de façon résolue\, s’évertue à créer les conditions de sa propre destruction\, rend la tâche de plus en plus dure aux générations qui lui succèdent. Ces fins musiciens bretons nous prennent pour cible\, sur scène comme sur enregistrement.\nEntre Ride et Radiohead\, Air et Pink Floyd\, ou même les Remois de ThE BeWiTcHeD hAnDs. Atmosphérique\, planant\, aérien et puissant\, plein de références et d’adjectifs nous viennent en tête mais toujours avec le sentiment d’une signature qui leur est propre. \nLes 3 influences: Pink Floyd\, Pixies\, Tame Impala \n► Liker : https://www.facebook.com/pg/thomashowardmemorial\n► Ecouter: https://soundcloud.com/thomashowardmemorial \n→ SYD KULT\n(Deep Rock – Chelles) \nAprès un premier EP 6 titres paru en 2013\, puis un deuxième 4 titres intitulé « Reflections of the Black Sun » paru en 2014\, le premier album éponyme sortira en janvier 2017.\nCet album présente un univers à la fois sombre et incisif\, mélancolique et introspectif\, alliant des sonorités électriques et acoustiques à une touche d’électronique.\nEn live\, le projet se mue en trio ou quatuor selon les dates\, avec l’arrivée de Frédéric Scipion à la batterie\, Julien Larminier à la basse et au clavier\, et Gaëlle Durand au violon. Syd Kult a été sélectionné sur la Pépinière 2015 du réseau Musiques actuelles de Seine et Marne\, et compte plus de 80 concerts en France et au Luxembourg depuis sa création\, avant une tournée qui débutera en 2017.  \nLes 3 influences:King Crimson\, Marilyn Manson\, Alice in Chains \n► Liker: https://facebook.com/SydKult\n► Ecouter: https://soundcloud.com/syd-kult\n► Regarder: https://youtu.be/UQ46jUz1jzw \n→ FAITH&SPIRIT\n(Blues rock – Paris) \nFaith & Spirit est un groupe de blues rock de Paris\, influencé par la scène anglo-saxonne des 60s et 70s. \n► Liker: https://www.facebook.com/christianhellfest\n► Ecouter: https://faithspirit.bandcamp.com/\n► Regarder: https://www.youtube.com/channel/UCciPileIrpeQGpfSxEME78Q/videos \n▬▬▬ INFOS PRATIQUES ▬▬▬▬▬▬▬▬▬▬▬ \nMercredi 15 Mars – 20h\nEntrée gratuite\nHappy Hour 18h30-20h (3€50 la pinte)\nFoodtruck hot dog au 1er étage \n▬▬▬▬▬▬▬▬▬▬▬▬▬▬▬▬▬▬▬▬▬▬▬ \nSUPERSONIC\n9 rue Biscornet\, 75012 Paris\nMétro Bastille\nhttps://www.facebook.com/supersonicbastille/\nInscription à la newsletter du Supersonic: http://bit.ly/1lWTnx4 \nTarifs : Gratuit
URL:https://supersonic-club.fr/event/thomas-howard-memorial-%e2%80%a2-syd-kult-%e2%80%a2-faithspirit-free/
LOCATION:SUPERSONIC\, 9 Rue Biscornet\, Paris\, 75012\, France
CATEGORIES:Concert,Faith&Spirit,Pop / Rock / Folk,Syd Kult,Thomas Howard Memorial
ATTACH;FMTTYPE=image/jpeg:https://supersonic-club.fr/wp-content/uploads/2017/02/namethumb_w600px_img_event_45211519-033e-4c4a-a770-060bdd4d750b.jpg
END:VEVENT
END:VCALENDAR