BEGIN:VCALENDAR
VERSION:2.0
PRODID:-//Supersonic - ECPv6.15.20//NONSGML v1.0//EN
CALSCALE:GREGORIAN
METHOD:PUBLISH
X-WR-CALNAME:Supersonic
X-ORIGINAL-URL:https://supersonic-club.fr
X-WR-CALDESC:Évènements pour Supersonic
REFRESH-INTERVAL;VALUE=DURATION:PT1H
X-Robots-Tag:noindex
X-PUBLISHED-TTL:PT1H
BEGIN:VTIMEZONE
TZID:Europe/London
BEGIN:DAYLIGHT
TZOFFSETFROM:+0000
TZOFFSETTO:+0100
TZNAME:BST
DTSTART:20190331T010000
END:DAYLIGHT
BEGIN:STANDARD
TZOFFSETFROM:+0100
TZOFFSETTO:+0000
TZNAME:GMT
DTSTART:20191027T010000
END:STANDARD
BEGIN:DAYLIGHT
TZOFFSETFROM:+0000
TZOFFSETTO:+0100
TZNAME:BST
DTSTART:20200329T010000
END:DAYLIGHT
BEGIN:STANDARD
TZOFFSETFROM:+0100
TZOFFSETTO:+0000
TZNAME:GMT
DTSTART:20201025T010000
END:STANDARD
BEGIN:DAYLIGHT
TZOFFSETFROM:+0000
TZOFFSETTO:+0100
TZNAME:BST
DTSTART:20210328T010000
END:DAYLIGHT
BEGIN:STANDARD
TZOFFSETFROM:+0100
TZOFFSETTO:+0000
TZNAME:GMT
DTSTART:20211031T010000
END:STANDARD
END:VTIMEZONE
BEGIN:VEVENT
DTSTART;TZID=Europe/London:20200514T210000
DTEND;TZID=Europe/London:20200515T003000
DTSTAMP:20260424T132135
CREATED:20200213T161711Z
LAST-MODIFIED:20200213T161711Z
UID:5837-1589490000-1589502600@supersonic-club.fr
SUMMARY:Equipe de Foot • The K / Supersonic (Free entrance)
DESCRIPTION:Le Supersonic c’est lieu incontournable du rock à Paris! Trois concerts gratuits tous les soirs\, des nuits pop rock du jeudi au samedi et ce soir on vous présente : \n \n→ EQUIPE DE FOOT\n(Rock Garage – Paris) \n« Dès sa formation en 2015\, ÉQUIPE DE FOOT est pour Alex (chant-guitare) et Mike (chant-batterie) un terrain de jeu au sein duquel rien n’est interdit : être deux et sonner comme dix\, alliant noise et pop\, garage et lo-fi\, affirmer les influences naturellement diverses ayant forgé le duo : de Nirvana aux Beatles\, de Blur aux Breeders\, de\nSparklehorse à Fidlar. Très vite repéré par Odezenne au détour d’un concert\, ÉQUIPE DE FOOT assure leurs premières partie en 2016.\nEnchaînant avec la sortie d’un 1er EP en octobre 2016\, les finales du prix Ricard S.A Live 2017 puis du prix Chorus des Hauts de Seine\, ÉQUIPE DE FOOT présente son premier album en octobre 2017\, «Chantal »\, sorte de journal intime sur le thème de l’amour\, de la rupture\, de la solitude. Un premier LP et une tournée remarqués qui imposent immédiatement le duo comme l’une des révélations de rock indé en France.\nAujourd’hui ÉQUIPE DE FOOT revient avec « Marilou »\, un nouvel album d’une densité vertigineuse\, où l’essence d’une pop aventurière se fond aux entrailles du grunge\, célébrant avec panache un rock garage totalement revisité.\n« Marilou » est le prénom qu’Alex donnera peut-être un jour à sa fille et c’est le point de départ de ce nouvel album qui tourne autour d’un sujet unique : la Mort\, la sienne\, celle des autres.\nSur scène\, ÉQUIPE DE FOOT est un bulldozer\, qui fait dans la joaillerie. Un son qui avale tout. Le duo démontre une irrésistible aisance lorsqu’il s’agit de balancer des lives surpuissants et fédérateurs\, tout en semblant ne parler qu’à nous seul\, dans un face à face privilégié qui nous connecte à quelque chose\nde profondément humain. » \n► Liker: https://www.facebook.com/equipedefootlegroupe\n► Regarder: https://youtu.be/-K9MY9qST5Q \n→ THE K\n(Rock noise – Liège\, BEL) \nThe K. est un groupe de rock belge influencé par des groupes tels que Pissed Jeans\, The Melvins ou Fugazi.\nIls ont d’abord remporté le grand concours belge Concours Circuit en 2011. Ils ont ensuite sorti leur premier album My Flesh en juin 2012 à travers le label indépendant JauneOrange et PIAS.\nCe disque a été acclamé par la critique dans la presse de musique underground et dans les principaux médias belges.\nMais la caractéristique la plus forte du groupe réside dans l’énergie qu’ils dégagent lors des concerts.\nCeux qui ont grandi sur Drive Like Jehu\, McLusky et Unsane reconnaîtront certainement leur influence et savent maintenant que leur héritage artistique est entre de bonnes mains avec The K.\nIls travaillent actuellement sur un deuxième album qui sortira dans les prochains mois. » \n► Liker: https://www.facebook.com/theknoise/\n► Ecouter: http://www.thek.be\n► Regarder: https://www.youtube.com/watch?v=nwyOXD_cYZg \nTarifs : Gratuit
URL:https://supersonic-club.fr/event/equipe-de-foot-%e2%80%a2-the-k-supersonic-free-entrance/
CATEGORIES:Concert,Equipe de foot,Pop / Rock / Folk,Sowprog,The K
ATTACH;FMTTYPE=image/jpeg:https://supersonic-club.fr/wp-content/uploads/2020/02/namethumb_w600px_img_event_42cb6e84-6bd6-4a79-a59d-ad80cc1da735.jpg
END:VEVENT
END:VCALENDAR