BEGIN:VCALENDAR
VERSION:2.0
PRODID:-//Supersonic - ECPv6.15.20//NONSGML v1.0//EN
CALSCALE:GREGORIAN
METHOD:PUBLISH
X-WR-CALNAME:Supersonic
X-ORIGINAL-URL:https://supersonic-club.fr
X-WR-CALDESC:Évènements pour Supersonic
REFRESH-INTERVAL;VALUE=DURATION:PT1H
X-Robots-Tag:noindex
X-PUBLISHED-TTL:PT1H
BEGIN:VTIMEZONE
TZID:Europe/London
BEGIN:DAYLIGHT
TZOFFSETFROM:+0000
TZOFFSETTO:+0100
TZNAME:BST
DTSTART:20160327T010000
END:DAYLIGHT
BEGIN:STANDARD
TZOFFSETFROM:+0100
TZOFFSETTO:+0000
TZNAME:GMT
DTSTART:20161030T010000
END:STANDARD
BEGIN:DAYLIGHT
TZOFFSETFROM:+0000
TZOFFSETTO:+0100
TZNAME:BST
DTSTART:20170326T010000
END:DAYLIGHT
BEGIN:STANDARD
TZOFFSETFROM:+0100
TZOFFSETTO:+0000
TZNAME:GMT
DTSTART:20171029T010000
END:STANDARD
BEGIN:DAYLIGHT
TZOFFSETFROM:+0000
TZOFFSETTO:+0100
TZNAME:BST
DTSTART:20180325T010000
END:DAYLIGHT
BEGIN:STANDARD
TZOFFSETFROM:+0100
TZOFFSETTO:+0000
TZNAME:GMT
DTSTART:20181028T010000
END:STANDARD
END:VTIMEZONE
BEGIN:VEVENT
DTSTART;TZID=Europe/London:20170430T210000
DTEND;TZID=Europe/London:20170501T003000
DTSTAMP:20260420T081801
CREATED:20170220T170214Z
LAST-MODIFIED:20170422T145042Z
UID:909-1493586000-1493598600@supersonic-club.fr
SUMMARY:Nadja • Ensemble Economique • Matt Jencik (ex Slint) // Free
DESCRIPTION:Le Supersonic présente une soirée #drone avec les incontournables Nadja et leur drône teinté de noise et de shoegaze\, Ensemble Economique et Matt Jencik\, ex Slint. \n \n→ NADJA\n(Drone – Gizeh Records/Broken Spine Productions – Berlin) \nDepuis 2003\, le projet solo/duo canadien NADJA abreuve la scène expérimentale d’une discographie pléthorique\, explorant les eaux troubles à la confluence de l’ambient\, le drone\, la noise et le shoegaze. Aidan Baker et Leah Buckareff ont tous les deux bâti un édifice sonore gigantesque et copulé avec tout ce que cette Terre compte d’expérimentateurs\, performeurs du bruit et disto-addicts (Fear Falls Burning\, Atavist\, Pyramids\, OVO\, Year Of No Light\, Moss\, Z’ev…)\nSi on devait débusquer des traits caractéristiques de l’œuvre luxuriante de NADJA\, on noterait cette combinaison récurrente de textures atmosphériques héritée du shoegaze et de l’ambient\, et de lourdeur metal et noise. Affiliés à la scène post-metal\, le duo multi-instrumentiste a publié des dizaines de disques sur de prestigieux labels tels Hydra head\, Profound Lore\, Important\, Alien8\, Crucial Blast\, Latitudes\, 20 Buck Spin… et leur propre label Broken Spine. \nLes 3 influences: Swans\, Godflesh\, My Bloody Valentine \n► Liker : http://www.facebook.com/LuvNadja/\n► Ecouter : http://nadja.bandcamp.com/\n► Regarder: https://youtu.be/IlI1OJe93lw \n→ ENSEMBLE ECONOMIQUE\n(Ambient drone – Not Not Fun\, Shelter Press\, Dekorder\, Denovali – USA) \nProjet solo ambient/drone/shoegaze/coldwave de l’américain Brian Pyle (connu pour ses activités au sein de Starving Weirdos et RV Paintings pour ceux et celles à qui cela évoque quelque chose)\, Ensemble Economique – pseudonyme plutôt étrange on vous l’accorde – est une entité à tendance largement expérimentale qui a derrière elle une flopée de sorties\, toutes plus confidentielles les unes que les autres et dont les premiers balbutiements sonores remontent à 2008.  \n► Liker : https://www.facebook.com/pg/ensembleeconomique/\n► Ecouter: https://soundcloud.com/ensemble-economique\n► Regarder:https://www.youtube.com/watch?v=0ZhoGSO2Zss \n→ MATT JENCIK\n(Ambient – Hands In The Dark – USA) \nOriginaire de Chicago\, Matt Jencik est un musicien qui fut membre de plusieurs groupes avant de se lancer en solo en 2017. Depuis le début des anneés 90s\, il a participé à ces différents projets: Implodes\, Hurl\, Slint\, Papa M\, Circuit Des Yeux & Don Caballero.\nUn grand talent qui vous transportera dans son univers sombre et rêveur de drone ambient. \n► Liker : https://www.facebook.com/Hands-In-The-Dark-Records-144124562300884/\n► Ecouter : https://mattjencik.bandcamp.com/\n► Regarder: https://vimeo.com/203185281 \nTarifs : Gratuit
URL:https://supersonic-club.fr/event/nadja-%e2%80%a2-matt-jencik-ex-slint-supersonic-free/
LOCATION:SUPERSONIC\, 9 Rue Biscornet\, Paris\, 75012\, France
CATEGORIES:Concert,ENSEMBLE ECONOMIQUE,Matt Jencik,Nadja,Pop / Rock / Folk
ATTACH;FMTTYPE=image/jpeg:https://supersonic-club.fr/wp-content/uploads/2017/02/namethumb_w600px_img_event_0ec0d213-2f2c-4636-bee4-3eb8e4441287-2.jpg
END:VEVENT
END:VCALENDAR