BEGIN:VCALENDAR
VERSION:2.0
PRODID:-//Supersonic - ECPv6.15.20//NONSGML v1.0//EN
CALSCALE:GREGORIAN
METHOD:PUBLISH
X-ORIGINAL-URL:https://supersonic-club.fr
X-WR-CALDESC:Évènements pour Supersonic
REFRESH-INTERVAL;VALUE=DURATION:PT1H
X-Robots-Tag:noindex
X-PUBLISHED-TTL:PT1H
BEGIN:VTIMEZONE
TZID:Europe/London
BEGIN:DAYLIGHT
TZOFFSETFROM:+0000
TZOFFSETTO:+0100
TZNAME:BST
DTSTART:20250330T010000
END:DAYLIGHT
BEGIN:STANDARD
TZOFFSETFROM:+0100
TZOFFSETTO:+0000
TZNAME:GMT
DTSTART:20251026T010000
END:STANDARD
BEGIN:DAYLIGHT
TZOFFSETFROM:+0000
TZOFFSETTO:+0100
TZNAME:BST
DTSTART:20260329T010000
END:DAYLIGHT
BEGIN:STANDARD
TZOFFSETFROM:+0100
TZOFFSETTO:+0000
TZNAME:GMT
DTSTART:20261025T010000
END:STANDARD
BEGIN:DAYLIGHT
TZOFFSETFROM:+0000
TZOFFSETTO:+0100
TZNAME:BST
DTSTART:20270328T010000
END:DAYLIGHT
BEGIN:STANDARD
TZOFFSETFROM:+0100
TZOFFSETTO:+0000
TZNAME:GMT
DTSTART:20271031T010000
END:STANDARD
END:VTIMEZONE
BEGIN:VEVENT
DTSTART;TZID=Europe/London:20260123T190000
DTEND;TZID=Europe/London:20260123T230000
DTSTAMP:20260421T154056
CREATED:20251202T140029Z
LAST-MODIFIED:20251218T140523Z
UID:17715-1769194800-1769209200@supersonic-club.fr
SUMMARY:Baron Crâne • Iron Lizards • Embers
DESCRIPTION:Cette soirée plaira aux fans de… King Crimson\, Pink Floyd\, The Mars Volta \n \nBARON CRÂNE (22h30)\n(Heavy prog psych – Paris\, FR)\nBaron Crâne possède depuis 2014 une inclination certaine pour l’itinérance sonore. En l’espace de quatre albums\, le trio a su perpétuellement se renouveler en associant heavy rock\, jazz fusion et toutes les esthétiques qu’il trouvait bon d’explorer. Avec Commotions puis Les Beaux Jours\, Baron Crâne consacre sa maîtrise d’un rock instrumental puissant et méticuleux. Sur scène\, en France et à travers l’Europe\, tous les trois délivrent un intense spectacle où jaillit avec joie et fracas le plaisir manifeste du trio à célébrer en live leurs morceaux cathartiques.\nLes 3 influences : Them Crooked Vultures\, Rage Against The Machine\, The Mars Volta\nhttps://baroncrane.bandcamp.com/\nhttps://www.youtube.com/c/BaronCr%C3%A2ne \nIRON LIZARDS (21h30)\n(Action rock – The Sign Records – Paris\, FR)\nOn s’en fout. Pas de tendances. Iron Lizards fait rugir ses guitares et redonne vie à la musique.\nIron Lizards vous fait ressentir le côté sauvage et dangereux du rock’n’roll. Préparez-vous à en témoigner\, Iron Lizards va vous faire vomir les oreilles avec la joie bruyante et sans filtre d’une musique sans sophistication.\nLes 3 influences : The Hellacopters\, Zeke\, Turbonegro\nhttps://ironlizards.bandcamp.com/album/hungry-for-action\nhttps://www.youtube.com/watch?v=MFfvnhleA-8 \nEMBERS (20h30)\n(Alt rock – Paris\, FR)\nEMBERS est un groupe de « New Rock Metal » porté par le duo Julien. T et Tibo. F (THE GREAT DIVIDE\, OVTRENOIR\, SAAR\, THROANE\, etc.)\nAprès un premier EP éponyme sortie en 2023 largement salué par la critique\, ainsi qu’un clip réalisé par Dehn Sora\, le groupe vient d’enregistrer chez Francis CASTE (Studio Sainte Marthe) son premier album 9 titres alliant émotion et puissance\, à mi chemin entre Deftones et Thrice.\nLes 3 influences : Deftones\, Thrice\, Soundgarden\nhttps://embersrock.bandcamp.com/ \nLa suite de la programmation arrive très vite !\n———————————\nVendredi 23 Janvier 2026\nEntrée gratuite\n• Ouverture des portes à 19h00\n• Happy Hour de 19h à 20h\n• Si vous êtes témoin ou victime d’une agression\, vous pouvez alerter le personnel du bar ou si vous préférez\, vous pouvez nous écrire à cette adresse: communication@supersonic-paris.fr\n———————————\nSUPERSONIC\n9 rue Biscornet\, 75012 Paris\nMétro Bastille (sortie rue de lyon) \nTarifs : Gratuit
URL:https://supersonic-club.fr/event/baron-crane-embers/
LOCATION:SUPERSONIC\, 9 Rue Biscornet\, Paris\, 75012\, France
CATEGORIES:Baron Crâne,Concert,Embers,IRON LIZARDS,Pop / Rock / Folk,Sowprog,SUPERSONIC
ATTACH;FMTTYPE=image/jpeg:https://supersonic-club.fr/wp-content/uploads/2025/12/namethumb_w600px_img_event_db287b7f-15f1-4b7d-80b8-b142ddc2c2b6-1.jpg
END:VEVENT
END:VCALENDAR