BEGIN:VCALENDAR
VERSION:2.0
PRODID:-//Supersonic - ECPv6.15.20//NONSGML v1.0//EN
CALSCALE:GREGORIAN
METHOD:PUBLISH
X-ORIGINAL-URL:https://supersonic-club.fr
X-WR-CALDESC:Évènements pour Supersonic
REFRESH-INTERVAL;VALUE=DURATION:PT1H
X-Robots-Tag:noindex
X-PUBLISHED-TTL:PT1H
BEGIN:VTIMEZONE
TZID:Europe/London
BEGIN:DAYLIGHT
TZOFFSETFROM:+0000
TZOFFSETTO:+0100
TZNAME:BST
DTSTART:20220327T010000
END:DAYLIGHT
BEGIN:STANDARD
TZOFFSETFROM:+0100
TZOFFSETTO:+0000
TZNAME:GMT
DTSTART:20221030T010000
END:STANDARD
BEGIN:DAYLIGHT
TZOFFSETFROM:+0000
TZOFFSETTO:+0100
TZNAME:BST
DTSTART:20230326T010000
END:DAYLIGHT
BEGIN:STANDARD
TZOFFSETFROM:+0100
TZOFFSETTO:+0000
TZNAME:GMT
DTSTART:20231029T010000
END:STANDARD
BEGIN:DAYLIGHT
TZOFFSETFROM:+0000
TZOFFSETTO:+0100
TZNAME:BST
DTSTART:20240331T010000
END:DAYLIGHT
BEGIN:STANDARD
TZOFFSETFROM:+0100
TZOFFSETTO:+0000
TZNAME:GMT
DTSTART:20241027T010000
END:STANDARD
END:VTIMEZONE
BEGIN:VEVENT
DTSTART;TZID=Europe/London:20231116T190000
DTEND;TZID=Europe/London:20231116T230000
DTSTAMP:20260421T125814
CREATED:20230922T165554Z
LAST-MODIFIED:20231018T145628Z
UID:11670-1700161200-1700175600@supersonic-club.fr
SUMMARY:Pearl Earl • Yyellow • East End Girls / Supersonic (Free entry)
DESCRIPTION:Il faut venir si tu es fan de LA Witch\, Death Valley Girls & The Coathangers \n \nPEARL EARL (22h30)\n(Psych rock – Denton\, US)\nPearl Earl est un quatuor néo-psychédélique fondé par la chanteuse Ariel Hartley (guitare/chant) et la batteuse Bailey K Chapman à Denton\, TX. Le groupe est maintenant basé à Los Angeles.\nAvec de subtils clins d’œil au rock progressif spatial et à l’âge d’or du glam rock\, Pearl Earl a la capacité d’invoquer la nostalgie cosmique du passé tout en creusant un nouveau territoire de son propre univers néo-psychédélique. Autrefois décrit comme « les Pink Floyd du soleil »\, les performances live du groupe demeurent captivantes et euphorisantes teintées d’un sinistre sinistre sourire.\nLeur musique\, remplie d’intensité\, explore une large gamme de saveurs qui vont de pair avec des mélodies psychédéliques délirantes avec parfois des riffs lourds.\nLe groupe a fait plusieurs tournées aux États-Unis et a partagé la scène avec des groupes tels que les Oh Sees\, Post Animal\, The Black Angels\, Acid Dad\, Frankie and The Witch Fingers\, Black Lips\, Allah-las et a joué dans de grands festivals tels que Levitation et SXSW.\nPearl Earl sort son deuxième album\, « It’s Dread » via Green Witch Recordings (NYC) en juin 2023 et est disponible pour une tournée en Europe et au Royaume-Uni en septembre 2023.\nFFO / Si vous aimez : LA Witch\, Death Valley Girls & The Coathangers\nhttps://pearlearl.com/\nhttps://www.youtube.com/watch?v=rTRYEXUTk5c \nYYELLOW (21h30)\n(Goth rock – Flippin Freaks/Nothing Is Mine – Bordeaux\, FR)\nyyellow est un groupe d’Art Rock Gothique formé en 2018 à Bordeaux. Après deux albums qui naviguent entre britpop et aventures électroniques\, yyellow s’apprête à sortir un troisième album empreint de new wave gothique avec un tout nouveau line up dans lequel on retrouve des membres de Cosmopaark\, Teeth\, et Pretty Inside.\nFFO / Si vous aimez : Type O Negative\, Nine Inch Nails\, Talk Talk\nhttps://soundcloud.com/yyellowband\nhttps://www.youtube.com/@yyellow9242/videos \nEAST END GIRLS\n(Psychedelic post-punk – Paris\, FR)\nEast End Girls est un power trio du nord parisien\, bande à part aux confins du garage\, du psyché et du post-punk. Une musique électrique et énergique pour se décrasser les oreilles.\nhttps://soundcloud.app.goo.gl/n4ABP\n———————————\nJeudi 16 Novembre 2023\nEntrée gratuite\n• Ouverture des portes à 19h00\n• Happy Hour de 19h à 20h\n• Si vous êtes témoin ou victime d’une agression\, vous pouvez alerter le personnel du bar ou si vous préférez\, vous pouvez nous écrire à cette adresse: communication@supersonic-paris.fr\n———————————\nSUPERSONIC\n9 rue Biscornet\, 75012 Paris\nMétro Bastille (sortie rue de lyon) \nTarifs : Gratuit
URL:https://supersonic-club.fr/event/pearl-earl-yyellow-supersonic-free-entry/
LOCATION:SUPERSONIC\, 9 Rue Biscornet\, Paris\, 75012\, France
CATEGORIES:Concert,East End Girls,Pearl Earl,Pop / Rock / Folk,Sowprog,SUPERSONIC,Yyellow
ATTACH;FMTTYPE=image/jpeg:https://supersonic-club.fr/wp-content/uploads/2023/09/namethumb_w600px_img_event_4181133a-dfec-465c-b0cd-96272293bc8a-3.jpg
END:VEVENT
END:VCALENDAR