BEGIN:VCALENDAR
VERSION:2.0
PRODID:-//Supersonic - ECPv6.15.20//NONSGML v1.0//EN
CALSCALE:GREGORIAN
METHOD:PUBLISH
X-WR-CALNAME:Supersonic
X-ORIGINAL-URL:https://supersonic-club.fr
X-WR-CALDESC:Évènements pour Supersonic
REFRESH-INTERVAL;VALUE=DURATION:PT1H
X-Robots-Tag:noindex
X-PUBLISHED-TTL:PT1H
BEGIN:VTIMEZONE
TZID:Europe/London
BEGIN:DAYLIGHT
TZOFFSETFROM:+0000
TZOFFSETTO:+0100
TZNAME:BST
DTSTART:20220327T010000
END:DAYLIGHT
BEGIN:STANDARD
TZOFFSETFROM:+0100
TZOFFSETTO:+0000
TZNAME:GMT
DTSTART:20221030T010000
END:STANDARD
BEGIN:DAYLIGHT
TZOFFSETFROM:+0000
TZOFFSETTO:+0100
TZNAME:BST
DTSTART:20230326T010000
END:DAYLIGHT
BEGIN:STANDARD
TZOFFSETFROM:+0100
TZOFFSETTO:+0000
TZNAME:GMT
DTSTART:20231029T010000
END:STANDARD
BEGIN:DAYLIGHT
TZOFFSETFROM:+0000
TZOFFSETTO:+0100
TZNAME:BST
DTSTART:20240331T010000
END:DAYLIGHT
BEGIN:STANDARD
TZOFFSETFROM:+0100
TZOFFSETTO:+0000
TZNAME:GMT
DTSTART:20241027T010000
END:STANDARD
END:VTIMEZONE
BEGIN:VEVENT
DTSTART;TZID=Europe/London:20231219T190000
DTEND;TZID=Europe/London:20231219T230000
DTSTAMP:20260419T223638
CREATED:20231106T125802Z
LAST-MODIFIED:20231110T172813Z
UID:12028-1703012400-1703026800@supersonic-club.fr
SUMMARY:Xavier Boyer • Domotic • Med / Supersonic (Free entry)
DESCRIPTION:Cette soirée plaira aux fans de… Parcels\, Tahiti 80 & MGMT \n \nXAVIER BOYER (22h30)\n(Indie folk – Human Sounds – Paris\, FR)\nXavier Boyer\, le chanteur de Tahiti 80 et l’une des voix les plus distinctives de la pop indépendante française\, revient en solo avec un nouvel EP mélodique et intemporel intitulé « Soda Coda ».\nAprès “Tutu To Tango” (2007\, sous le pseudonyme d’Axe Riverboy)\, “Some/Any/New” (2017)\, et sans oublier les neuf albums studio de Tahiti 80\, qui fête ses 25 ans de carrière cette année\, Xavier Boyer a composé cinq chansons inédites naviguant entre soft rock\, sonorités folk et expérimentations pop.\n« Sur les précédents disques\, j’avais tout fait en solitaire\, cette fois-ci\, j’étais à la recherche de quelque chose de plus vivant\, de plus organique\, de plus collectif. J’avais aussi envie d’échanger avec d’autres musiciens. »\nC’est donc entouré de trois figures emblématiques de la scène hexagonale\, Mehdi Zannad (Fugu\, April March\, A Girl Called Eddy) aux claviers\, Laurent Blot (Le Superhomard) à la batterie et Stéphane Laporte (Domotic\, Egyptology ) au mix\, que cet mini-album\, dont l’édition vinyl inclura cinq versions alternatives captées sur un 4-pistes à cassette\, a vu le jour.\nEnregistré entre les tournées et les séances studio de son groupe principal\, “Soda Coda” confirme encore une fois un talent de mélodiste et une appétence pour les aventures sonores. La power pop de “D Day” ou le lyrisme de “Children Of The Sun” ne dépareraient pas sur des albums d’Emitt Rhodes ou de Richard Swift (réalisateur de “Ballroom” de Tahiti 80 en 2014). La ballade “Oh Liza” est douce comme un inédit d’Elliott Smith.\nLe chanteur assume ses influences : « Mon but a toujours été d’écrire des chansons intemporelles » et aussi ses différences « …sans faire comme si on était en 1975\, ou en 1998. Je veux que ma musique reste ancrée dans son époque. »\nFFO / Si vous aimez : Paul McCartney\, The Beach Boys\, The Lemonheads\nhttps://www.youtube.com/@xavierboyerHQ \nDOMOTIC (21h30)\n(Ambient – UnJeNeSaisQuoi – Paris\, FR)\nQue cela soit sous son nom de scène\, avec l’un de ses projets parallèles ( Egyptology\, Centenaire\, Karaocake)\, ou dans son travail de producteur (Orval Carlos Sibelius\, Forever Pavot\, Xavier Boyer) Stéphane Laporte éclaire d’une lumière singulière la musique pop-expérimentale depuis une vingtaine d’années. Sa musique \, aventureuse\, à la fois calme et rugueuse s’incarne sous des formes diverses \, de la pop song électronique à l’ambient en passant par la musique de films… Incarné en trio pour la scène\, domotic revisite son récent album « Descriptions Of An Unfolding Event » dans une version épurée pour 4 pistes et synthétiseurs .\nFFO / Si vous aimez : Ennio Morricone\, Kraftwerk\, Weyes Blood\nhttps://domotic.bandcamp.com/ \nMED (20h30)\n(French pop – Human Sounds – Rouen\, FR)\nEn français dans le texte\, MED et ses chansons voyage à travers le patrimoine tricolore : on navigue entre l’élégance pop d’un Étienne Daho et les bizarreries d’ovnis musicaux tels que Lucievacarme ou Les Problèmes.Tout ça sans jamais renier l’héritage anglo-saxon d’une adolescence normande passée à écouter The Smiths ou My Bloody Valentine.\nFFO / Si vous aimez : The La’s\, Étienne Daho\, David Lynch\nhttps://idol-io.link/FoutuTofu\n———————————\nMardi 19 Décembre 2023\nEntrée gratuite\n• Ouverture des portes à 19h00\n• Happy Hour de 19h à 20h\n• Si vous êtes témoin ou victime d’une agression\, vous pouvez alerter le personnel du bar ou si vous préférez\, vous pouvez nous écrire à cette adresse: communication@supersonic-paris.fr\n———————————\nSUPERSONIC\n9 rue Biscornet\, 75012 Paris\nMétro Bastille (sortie rue de lyon) \nTarifs : Gratuit
URL:https://supersonic-club.fr/event/xavier-boyer-domotic-med-supersonic-free-entry/
LOCATION:SUPERSONIC\, 9 Rue Biscornet\, Paris\, 75012\, France
CATEGORIES:Concert,Domotic,Pop / Rock / Folk,Sowprog,SUPERSONIC,Xavier Boyer
ATTACH;FMTTYPE=image/jpeg:https://supersonic-club.fr/wp-content/uploads/2023/11/namethumb_w600px_img_event_85607cdd-0f41-46b9-83f4-a80a0c56c56b-2.jpg
END:VEVENT
END:VCALENDAR