BEGIN:VCALENDAR
VERSION:2.0
PRODID:-//Supersonic - ECPv6.15.20//NONSGML v1.0//EN
CALSCALE:GREGORIAN
METHOD:PUBLISH
X-WR-CALNAME:Supersonic
X-ORIGINAL-URL:https://supersonic-club.fr
X-WR-CALDESC:Évènements pour Supersonic
REFRESH-INTERVAL;VALUE=DURATION:PT1H
X-Robots-Tag:noindex
X-PUBLISHED-TTL:PT1H
BEGIN:VTIMEZONE
TZID:Europe/London
BEGIN:DAYLIGHT
TZOFFSETFROM:+0000
TZOFFSETTO:+0100
TZNAME:BST
DTSTART:20160327T010000
END:DAYLIGHT
BEGIN:STANDARD
TZOFFSETFROM:+0100
TZOFFSETTO:+0000
TZNAME:GMT
DTSTART:20161030T010000
END:STANDARD
BEGIN:DAYLIGHT
TZOFFSETFROM:+0000
TZOFFSETTO:+0100
TZNAME:BST
DTSTART:20170326T010000
END:DAYLIGHT
BEGIN:STANDARD
TZOFFSETFROM:+0100
TZOFFSETTO:+0000
TZNAME:GMT
DTSTART:20171029T010000
END:STANDARD
BEGIN:DAYLIGHT
TZOFFSETFROM:+0000
TZOFFSETTO:+0100
TZNAME:BST
DTSTART:20180325T010000
END:DAYLIGHT
BEGIN:STANDARD
TZOFFSETFROM:+0100
TZOFFSETTO:+0000
TZNAME:GMT
DTSTART:20181028T010000
END:STANDARD
END:VTIMEZONE
BEGIN:VEVENT
DTSTART;TZID=Europe/London:20170225T235500
DTEND;TZID=Europe/London:20170226T060000
DTSTAMP:20260420T022631
CREATED:20170206T161825Z
LAST-MODIFIED:20170210T173503Z
UID:733-1488066900-1488088800@supersonic-club.fr
SUMMARY:La Trilogie du Samedi // Nuit 90s - 2000s du Supersonic
DESCRIPTION:▬▬▬ LA TRILOGIE DU SAMEDI ▬▬▬▬▬▬▬▬▬▬▬ \nLe Supersonic présente… LA TRILOGIE DU SAMEDI! \n \nRetour en 1997. Il est 20h50\, tu es devant ton téléviseur et tu attends avec impatience d’entendre CA: https://goo.gl/y09XGN ! \n10 ans plus tard\, La Trilogie du Samedi a finalement disparu des programmes M6 mais tu te souviendras toujours de tes samedis passés devant Buffy\, The Sentinel\, Roswell\, Smallville\, Le Caméléon\, Alias\, Bones\, Tru Calling\, Stargate\, Dead Zone\, Dark Angel\, Charmed…! \nOn est maintenant en 2017 et l’équipe nostalgique du Supersonic vous organise tous les derniers samedis de chaque mois une Nuit 90s / 2000s avec tubes du HIT MACHINE et projections vidéo de nos anciennes séries (pourries) préférées! \n▬▬▬ AU PROGRAMME ▬▬▬▬▬▬▬▬▬▬▬▬▬▬▬▬ \n→ DJ SETS POP MUSIC FROM 1997 TO 2008\npar Novorama\, Dj Benart et par Tic&Tac de Petit Bain \n→ CONCERT DE NUIT\nreprises tubes 90s / 2000s \n→ GOODIES SURPRISES A VOTRE ARRIVEE \n→ DRESS CODE 90s / début 2000 CONSEILLE \n▬▬▬ INFOS PRATIQUES ▬▬▬▬▬▬▬▬▬▬▬▬ \nSamedi 25 Février 2017 – 23h30/6h\nEntrée à 5€ toute la nuit\nFoodtruck hot dog au 1er étage \n▬▬▬▬▬▬▬▬▬▬▬▬▬▬▬▬▬▬▬▬▬▬▬▬▬▬▬▬▬▬ \nSUPERSONIC\n9 rue Biscornet\, 75012 Paris\nMétro Bastille\nhttp://supersonic-club.fr/\nInscription à la newsletter du Supersonic: http://bit.ly/1lWTnx4 \nTarifs : SUR PLACE : 5€
URL:https://supersonic-club.fr/event/la-trilogie-du-samedi-nuit-90s-2000s-du-supersonic/
LOCATION:SUPERSONIC\, 9 Rue Biscornet\, Paris\, 75012\, France
CATEGORIES:Clubbing,Dj Benart,DJ SET NOVORAMA,Pop / Rock / Folk,Supersonic Productions,TIC & TAC (PETIT BAIN DJ SET)
ATTACH;FMTTYPE=image/jpeg:https://supersonic-club.fr/wp-content/uploads/2017/02/namethumb_w600px_img_event_7b33f736-8341-4c0b-ac9b-cc3f899dee63-1.jpg
END:VEVENT
END:VCALENDAR