BEGIN:VCALENDAR
VERSION:2.0
PRODID:-//Supersonic - ECPv6.15.20//NONSGML v1.0//EN
CALSCALE:GREGORIAN
METHOD:PUBLISH
X-ORIGINAL-URL:https://supersonic-club.fr
X-WR-CALDESC:Évènements pour Supersonic
REFRESH-INTERVAL;VALUE=DURATION:PT1H
X-Robots-Tag:noindex
X-PUBLISHED-TTL:PT1H
BEGIN:VTIMEZONE
TZID:Europe/London
BEGIN:DAYLIGHT
TZOFFSETFROM:+0000
TZOFFSETTO:+0100
TZNAME:BST
DTSTART:20250330T010000
END:DAYLIGHT
BEGIN:STANDARD
TZOFFSETFROM:+0100
TZOFFSETTO:+0000
TZNAME:GMT
DTSTART:20251026T010000
END:STANDARD
BEGIN:DAYLIGHT
TZOFFSETFROM:+0000
TZOFFSETTO:+0100
TZNAME:BST
DTSTART:20260329T010000
END:DAYLIGHT
BEGIN:STANDARD
TZOFFSETFROM:+0100
TZOFFSETTO:+0000
TZNAME:GMT
DTSTART:20261025T010000
END:STANDARD
BEGIN:DAYLIGHT
TZOFFSETFROM:+0000
TZOFFSETTO:+0100
TZNAME:BST
DTSTART:20270328T010000
END:DAYLIGHT
BEGIN:STANDARD
TZOFFSETFROM:+0100
TZOFFSETTO:+0000
TZNAME:GMT
DTSTART:20271031T010000
END:STANDARD
END:VTIMEZONE
BEGIN:VEVENT
DTSTART;TZID=Europe/London:20260327T190000
DTEND;TZID=Europe/London:20260327T230000
DTSTAMP:20260421T044004
CREATED:20260305T180248Z
LAST-MODIFIED:20260305T180248Z
UID:18556-1774638000-1774652400@supersonic-club.fr
SUMMARY:Dead Dads Club • Seedy Liars • Nyght
DESCRIPTION:Cette soirée plaira aux fans de… Palma Violets\, Fontaines DC & The Vaccines \n \nDEAD DADS CLUB (22h30)\n(Indie pop rock – Fiction – Londres\, UK)\nLe groupe Dead Dads Club\, dirigé par Chilli Jesson\, a annoncé les détails de la sortie de son premier single\, « Don’t Blame The Son For The Sins Of The Father »\, disponible dès aujourd’hui chez Fiction Records.\nProduit par Carlos O’Connell de Fontaines D.C.\, ce titre est le premier extrait de leur premier album\, encore inannoncé\, un disque profondément personnel et émouvant qui explore le parcours émotionnel de Chilli après la mort de son père.\nÀ propos de ce premier titre\, qui capture avec éloquence l’essence du prochain album\, Chilli a déclaré :\nCe n’est que le début…\nL’influence : Fontaines D.C. \nSEEDY LIARS (21h30)\n(Alt rock – Lille\, FR)\nSeedy liars développe un rock alternatif entre clair obscur et saturations\, entre atmosphères flottantes et guitares abrasives. Portés par la toile du désespoir moderne\, leur musique joue avec la retenue autant qu’avec la déflagration: chaque nuance compte\, chaque rupture crée l’impact.\nUn rock habité et précis; leur son dépeint les quelques secondes de flottement avant l’irrémédiable crash.\nLes 3 influences : Qotsa\, Metz & Radiohead\nhttps://seedyliars.bandcamp.com/album/a-modern-despair\nhttps://www.youtube.com/@SeedyLiars \nNYGHT (20h30)\n(Psych punk – Paris\, FR)\nNé des rades bruyants et des néons aguicheurs du quartier Pigalle\, NYGHT sont des animaux nocturnes jouant un psych/punk urbain et sombre avec quelques hooks ici ou là.\nThey don’t want your money\, they want your soul.\nLes 3 influences : The Black Angels\, Siouxsie & The Banshees\, BRMC\nhttps://li.sten.to/nyght\nhttps://www.youtube.com/@nyght7277\n———————————\nVendredi 27 Mars 2026\nEntrée gratuite\n• Ouverture des portes à 19h00\n• Happy Hour de 19h à 20h\n• Si vous êtes témoin ou victime d’une agression\, vous pouvez alerter le personnel du bar ou si vous préférez\, vous pouvez nous écrire à cette adresse: communication@supersonic-paris.fr\n———————————\nSUPERSONIC\n9 rue Biscornet\, 75012 Paris\nMétro Bastille (sortie rue de lyon) \nTarifs : Gratuit
URL:https://supersonic-club.fr/event/dead-dads-club-seedy-liars-nyght/
LOCATION:SUPERSONIC\, 9 Rue Biscornet\, Paris\, 75012\, France
CATEGORIES:Concert,Dead Dads Club,Nyght,Pop / Rock / Folk,Seedy Liars,Sowprog,SUPERSONIC
ATTACH;FMTTYPE=image/jpeg:https://supersonic-club.fr/wp-content/uploads/2026/03/namethumb_w600px_img_event_307046fc-ce37-40d1-9ab6-dbef4dd375a8.jpg
END:VEVENT
END:VCALENDAR