BEGIN:VCALENDAR
VERSION:2.0
PRODID:-//Supersonic - ECPv6.15.20//NONSGML v1.0//EN
CALSCALE:GREGORIAN
METHOD:PUBLISH
X-WR-CALNAME:Supersonic
X-ORIGINAL-URL:https://supersonic-club.fr
X-WR-CALDESC:Évènements pour Supersonic
REFRESH-INTERVAL;VALUE=DURATION:PT1H
X-Robots-Tag:noindex
X-PUBLISHED-TTL:PT1H
BEGIN:VTIMEZONE
TZID:Europe/London
BEGIN:DAYLIGHT
TZOFFSETFROM:+0000
TZOFFSETTO:+0100
TZNAME:BST
DTSTART:20180325T010000
END:DAYLIGHT
BEGIN:STANDARD
TZOFFSETFROM:+0100
TZOFFSETTO:+0000
TZNAME:GMT
DTSTART:20181028T010000
END:STANDARD
BEGIN:DAYLIGHT
TZOFFSETFROM:+0000
TZOFFSETTO:+0100
TZNAME:BST
DTSTART:20190331T010000
END:DAYLIGHT
BEGIN:STANDARD
TZOFFSETFROM:+0100
TZOFFSETTO:+0000
TZNAME:GMT
DTSTART:20191027T010000
END:STANDARD
BEGIN:DAYLIGHT
TZOFFSETFROM:+0000
TZOFFSETTO:+0100
TZNAME:BST
DTSTART:20200329T010000
END:DAYLIGHT
BEGIN:STANDARD
TZOFFSETFROM:+0100
TZOFFSETTO:+0000
TZNAME:GMT
DTSTART:20201025T010000
END:STANDARD
END:VTIMEZONE
BEGIN:VEVENT
DTSTART;TZID=Europe/London:20190801T210000
DTEND;TZID=Europe/London:20190802T003000
DTSTAMP:20260421T031141
CREATED:20190729T153617Z
LAST-MODIFIED:20190801T142322Z
UID:4922-1564693200-1564705800@supersonic-club.fr
SUMMARY:Birdstone • Coral Cactus • Sons of Distortion (Free entry)
DESCRIPTION:▬ Le Supersonic présente ▬ \n \n▬▬▬ ENTREE LIBRE JUSQU’A 23H ▬▬▬▬ \n→ BIRDSTONE\n(Mystic Rock\, Ritual Blues – Bressuire\,FR) \n«Birdstone est né d’une furieuse envie de fusionner la puissance spirituelle du #Blues à la richesse musicale du Rock #Psychédélique.\nAu croisement des thèmes mythologiques\, de l’ésotérisme et des simples passions humaines\, l’univers du trio narre les combats intérieurs de l’Homme aussi bien que ses aspirations mystiques.\nEn live\, chaque concert est un rituel sauvage\, où spectateurs et musiciens luttent ensemble pour le salut de leurs âmes.» \nSi vous aimez: GRAVEYARD / RADIO MOSCOW / LED ZEPPELIN \n► Liker: https://www.facebook.com/birdstoneband/\n► Ecouter : https://birdstoneband.bandcamp.com/\n► Regarder : https://www.youtube.com/channel/UCEF3kW9GFUQmL1wLKjY0nLg/videos \n→ CORAL CACTUS\n(Indie rock – Paris\,FR) \n«CORAL CACTUS débarque avec une spirale indie rock qui puise ses origines dans les années 70/80’s ainsi que dans des groupes divers tel que The Strokes\, Arctic Monkeys ou Franz Ferdinand.\nUn son old school\, mené par un chanteur originaire de San Francisco et trois Parisiens prêts à secouer les scènes de la capitale.\nAuteur d’un premier EP en 2018 nommé « Midnight Mantras »\, et disponible sur toutes les plateformes de streaming\, CORAL CACTUS déborde d’énergie et n’attend que de vous faire découvrir son univers musical.» \nLes 3 influences: The Strokes\, Arctic Monkeys\, Franz Ferdinand \n► Liker: https://www.facebook.com/coralcactusparis/\n► Ecouter : https://open.spotify.com/artist/1M8rFXo6eV351dCWPeZSvr \n→ SONS OF DISTORTION\n(Hard rock – Paris\,FR) \n«Formé en 2013\, le quatuor Sons Of Distortion est composé des frères Wouaquet\, Thomas et William\, ainsi que de Florian Soum et Benjamin Sonnet. À la croisée de différents styles\, les deux frères distillent des influences Rock&Roll et Classic Rock affirmées tandis que Benjamin et Florian apportent le côté plus profond\, élaboré et technique du Metal. Parmi leurs influences\, on compte notamment Avenged Sevenfold\, Alice In Chains et Shinedown.» \n► Liker: https://www.facebook.com/pg/SonsOfDistortion/\n► Regarder : https://www.youtube.com/watch?v=7yt7Kijf2qw \n▬▬▬ INFOS PRATIQUES ▬▬▬ \nJeudi 1er Août 2019\nEntrée gratuite jusqu’à 23h \n– Ouverture des portes à 18h30\n– Début des concerts vers 20h\n– Happy Hour de 18h30 à 20h (3€50 la pinte)\n– Hot Dog au bar \n▬▬▬▬▬▬▬▬▬▬▬▬▬▬▬▬▬▬▬▬▬▬▬ \nSUPERSONIC\n9 rue Biscornet\, 75012 Paris\nMétro Bastille (sortie rue de lyon)\nhttp://supersonic-club.fr/\nObjets Perdus: https://forms.gle/rZxcMgGD5G82JnMQ9\nNewsletter du Supersonic: http://eepurl.com/gmxPzb​ \nTarifs : Gratuit
URL:https://supersonic-club.fr/event/birdstone-mystic-rock-ritual-blues-en-concert-au-supersonic/
LOCATION:SUPERSONIC\, 9 Rue Biscornet\, Paris\, 75012\, France
CATEGORIES:BIRDSTONE,Concert,Coral Cactus,Pop / Rock / Folk,Sons Of Distortion
ATTACH;FMTTYPE=image/jpeg:https://supersonic-club.fr/wp-content/uploads/2019/07/namethumb_w600px_img_event_d30f7cc4-902f-405b-874d-2d16cdd13040-1.jpg
END:VEVENT
END:VCALENDAR