BEGIN:VCALENDAR
VERSION:2.0
PRODID:-//Supersonic - ECPv6.15.20//NONSGML v1.0//EN
CALSCALE:GREGORIAN
METHOD:PUBLISH
X-ORIGINAL-URL:https://supersonic-club.fr
X-WR-CALDESC:Évènements pour Supersonic
REFRESH-INTERVAL;VALUE=DURATION:PT1H
X-Robots-Tag:noindex
X-PUBLISHED-TTL:PT1H
BEGIN:VTIMEZONE
TZID:Europe/London
BEGIN:DAYLIGHT
TZOFFSETFROM:+0000
TZOFFSETTO:+0100
TZNAME:BST
DTSTART:20240331T010000
END:DAYLIGHT
BEGIN:STANDARD
TZOFFSETFROM:+0100
TZOFFSETTO:+0000
TZNAME:GMT
DTSTART:20241027T010000
END:STANDARD
BEGIN:DAYLIGHT
TZOFFSETFROM:+0000
TZOFFSETTO:+0100
TZNAME:BST
DTSTART:20250330T010000
END:DAYLIGHT
BEGIN:STANDARD
TZOFFSETFROM:+0100
TZOFFSETTO:+0000
TZNAME:GMT
DTSTART:20251026T010000
END:STANDARD
BEGIN:DAYLIGHT
TZOFFSETFROM:+0000
TZOFFSETTO:+0100
TZNAME:BST
DTSTART:20260329T010000
END:DAYLIGHT
BEGIN:STANDARD
TZOFFSETFROM:+0100
TZOFFSETTO:+0000
TZNAME:GMT
DTSTART:20261025T010000
END:STANDARD
END:VTIMEZONE
BEGIN:VEVENT
DTSTART;TZID=Europe/London:20251124T190000
DTEND;TZID=Europe/London:20251124T230000
DTSTAMP:20260423T141215
CREATED:20250910T142122Z
LAST-MODIFIED:20251020T165800Z
UID:17111-1764010800-1764025200@supersonic-club.fr
SUMMARY:Night Moves • Vénus d'Argent • Carinya Avenue
DESCRIPTION:Parcels\, Animal Collective & Foxygen \n \nNIGHT MOVES (22h00)\n(Electro pop country – Minneapolis\, US)\nNight Moves a une blague récurrente sur la route\, quand ils passent de ville en ville dans leur van cabossé :\n« Je n’arrive pas à croire que je dois refaire ça »\, disent-ils\, en référence à la répétition surréaliste des concerts\, des fêtes\, des gueules de bois et des longs trajets qui définissent la vie en tournée. Cette phrase réapparaît dans This Time Tomorrow\, un morceau qui aurait pu être un tube de Tom Petty\, mais revisité avec le malaise et l’envie d’ailleurs de la vie moderne.\n« Je n’arrive pas à croire que je dois refaire ça\, encore ça\, cette fois demain »\, chante Pelant\, accompagné du riff railleur de Charles Murlowski.\n« Je ris à la blague\, mais la blague\, c’est ma vie. »\nEt parfois\, on a tous ce sentiment\, non ?\nMais dans Double Life\, Night Moves ne recule pas devant les luttes et les complexités de l’existence. Au contraire\, ils redoublent d’intensité avec des morceaux qui les regardent en face et avancent selon leurs propres termes.\nhttps://nightmoves.bandcamp.com/\nhttps://www.youtube.com/watch?v=Bhw80lLCoq0… \nVÉNUS D’ARGENT (21h00)\n(Rock progressif – Paris\, FR)\nVénus d’Argent est un groupe de musique français\, avec un penchant pour le rock’n’roll. Une forme progressive\, autant inspirée de Crumb et LCD Soundsystem que de Led Zeppelin et Radiohead. C’est un pont entre des sons 70’s et la musique d’aujourd’hui\, deux époques riches et complémentaires l’une de l’autre.\nLes 3 influences : Led Zeppelin\, LCD Soundsystem\, Crumb\nhttps://open.spotify.com/artist/1NvEeYFj5cxI7ynEAUtxFg\nhttps://www.youtube.com/watch?v=dQIxfhXlnlA&t=119s \nCARINYA AVENUE (20h00)\n(Indie pop – Paris\, FR)\nCarinya Avenue est un trio français qui mélange harmonieusement trip-hop et pop pour créer un paysage sonore captivant. Leur musique se caractérise par une interaction dynamique entre la chaleur acoustique et l’intensité électronique\, créant une expérience d’écoute unique et captivante.\nhttps://open.spotify.com/…/artist/5FlXB64cmw6gWWkmFHk4W6 \nLa suite de la programmation arrive très vite !\n———————————\nLundi 24 Novembre 2025\nEntrée gratuite\n• Ouverture des portes à 19h00\n• Happy Hour de 19h à 20h\n• Si vous êtes témoin ou victime d’une agression\, vous pouvez alerter le personnel du bar ou si vous préférez\, vous pouvez nous écrire à cette adresse: communication@supersonic-paris.fr\n———————————\nSUPERSONIC\n9 rue Biscornet\, 75012 Paris\nMétro Bastille (sortie rue de lyon) \nTarifs : Gratuit
URL:https://supersonic-club.fr/event/night-moves-carinya-avenue/
LOCATION:SUPERSONIC\, 9 Rue Biscornet\, Paris\, 75012\, France
CATEGORIES:Carinya Avenue,Concert,Night Moves,Pop / Rock / Folk,Sowprog,SUPERSONIC,Vénus d'Argent
ATTACH;FMTTYPE=image/jpeg:https://supersonic-club.fr/wp-content/uploads/2025/09/namethumb_w600px_img_event_37aa45d4-fec2-43ff-ad8f-d8a024f63cfb-1.jpg
END:VEVENT
END:VCALENDAR