BEGIN:VCALENDAR
VERSION:2.0
PRODID:-//Supersonic - ECPv6.15.20//NONSGML v1.0//EN
CALSCALE:GREGORIAN
METHOD:PUBLISH
X-ORIGINAL-URL:https://supersonic-club.fr
X-WR-CALDESC:Évènements pour Supersonic
REFRESH-INTERVAL;VALUE=DURATION:PT1H
X-Robots-Tag:noindex
X-PUBLISHED-TTL:PT1H
BEGIN:VTIMEZONE
TZID:Europe/London
BEGIN:DAYLIGHT
TZOFFSETFROM:+0000
TZOFFSETTO:+0100
TZNAME:BST
DTSTART:20160327T010000
END:DAYLIGHT
BEGIN:STANDARD
TZOFFSETFROM:+0100
TZOFFSETTO:+0000
TZNAME:GMT
DTSTART:20161030T010000
END:STANDARD
BEGIN:DAYLIGHT
TZOFFSETFROM:+0000
TZOFFSETTO:+0100
TZNAME:BST
DTSTART:20170326T010000
END:DAYLIGHT
BEGIN:STANDARD
TZOFFSETFROM:+0100
TZOFFSETTO:+0000
TZNAME:GMT
DTSTART:20171029T010000
END:STANDARD
BEGIN:DAYLIGHT
TZOFFSETFROM:+0000
TZOFFSETTO:+0100
TZNAME:BST
DTSTART:20180325T010000
END:DAYLIGHT
BEGIN:STANDARD
TZOFFSETFROM:+0100
TZOFFSETTO:+0000
TZNAME:GMT
DTSTART:20181028T010000
END:STANDARD
END:VTIMEZONE
BEGIN:VEVENT
DTSTART;TZID=Europe/London:20170317T200000
DTEND;TZID=Europe/London:20170317T233000
DTSTAMP:20260419T214118
CREATED:20170206T162114Z
LAST-MODIFIED:20170220T170210Z
UID:789-1489780800-1489793400@supersonic-club.fr
SUMMARY:Bonfire Nights • Deaflovers • Conference of the Birds // Free
DESCRIPTION:▬▬▬ ENTREE LIBRE ▬▬▬▬▬▬▬▬▬▬▬ \nLe Supersonic présente… \n \n▬▬▬ LINE UP ▬▬▬▬▬▬▬▬▬▬▬▬▬▬▬▬ \n→ BONFIRE NIGHTS\n(Psychedelic – Holy Beatnik Records – UK) \nBONFIRE NIGHTS est un groupe australien émigré en Angleterre depuis quelques années. Le quintet joue un Psyché Stoner pouvant virer au drone par moment tout en restant mélodieux grâce aux voix pop.\nIls ont partagé la scène avec de nombreux groupes comme Pond\, The KVB\, Lola Colt\, The Drones\, DZ Deathrays\, Holydrug Couple\, The Underground Youth…\nEn association avec leurs amis Bad Vibrations\, le groupe sort son single ‘Ego Death’ sur un split 7 « avec Tripwires en 2015. En Octobre dernier\, leur 1er album intitulé ‘Entopica Phenomica’ est sorti sur Holy Beatnik Records.  \n► Liker : https://www.facebook.com/bonfirenights/\n► Ecouter: http://www.soundcloud.com/bonfire-nights\n► Regarder : http://www.youtube.com/user/BonfireNights  \n→ DEAFLOVERS\n(Coldwave – Renegat Records – Angers) \nInfluencé par des groupes comme The Jesus And Mary Chain\, A Place To Bury Strangers (avec qui ils ont déjà partagé l’affiche) ou The Velvet Underground\, Deaflovers est un duo Angevin formé en 2015. Clémentine (synthé/voix/drum machine) et Théo (guitare/voix) mélangent rythmiques synthétiques et guitare noisy pour créer un mur de son hypnotique.\nApres un 1er EP remarqué en 2015 le duo est de retour avec l’EP « Negative Feedback ».  \n► Liker : https://www.facebook.com/deaflovers/\n► Ecouter: https://deaflovers.bandcamp.com/music\n► Regarder : https://www.youtube.com/watch?v=ML57OYuZUqc \n→ CONFERENCE OF THE BIRDS\n(Pop rock – Fr) \nFormé en 2016\, « Conference Of The Birds » s’est appliqué à créer un univers où les sonorités synthétiques et organiques s’accordent de manière homogène\, travaillant particulièrement l’alliance entre les guitares acoustiques et les synthétiseurs. Leur musique est un voyage où l’environnement est en perpétuelle mutation. Une virée où\, en descendant du métro\, on pose le pied une plage déserte. Et où\, après avoir traversé des banlieues désenchantées\, on finit par gagner les forêts lumineuses. Conference Of The Birds parle la langue des oiseaux. Celle des grands migrateurs\, attendrissants et taciturnes\, qui aiment à se mouvoir dans les ciels étoilés. \nLes 3 influences: Jeff Buckley\, Nick Drake\, Bon Iver \n► Liker : https://www.facebook.com/conferenceofthebirds/ \n▬▬▬ INFOS PRATIQUES ▬▬▬▬▬▬▬▬▬▬▬ \nVendredi 17 Mars 2017 – 20h\nEntrée gratuite\nFoodtruck hot dog au 1er étage \n▬▬▬▬▬▬▬▬▬▬▬▬▬▬▬▬▬▬▬▬▬▬▬▬▬▬▬▬▬▬▬ \nSUPERSONIC\n9 rue Biscornet\, 75012 Paris\nMétro Bastille\nhttp://supersonic-club.fr/\nInscription à la newsletter du Supersonic: http://bit.ly/1lWTnx4 \nTarifs : Gratuit
URL:https://supersonic-club.fr/event/bonfire-nights-%e2%80%a2-deaflovers-supersonic-free/
LOCATION:SUPERSONIC\, 9 Rue Biscornet\, Paris\, 75012\, France
CATEGORIES:Bonfire Nights,Concert,Conference of the Birds,Deaflovers,Pop / Rock / Folk
ATTACH;FMTTYPE=image/jpeg:https://supersonic-club.fr/wp-content/uploads/2017/02/namethumb_w600px_img_event_8bd6a2ab-0684-49f1-b4bd-267b2f7d939c-1.jpg
END:VEVENT
END:VCALENDAR