BEGIN:VCALENDAR
VERSION:2.0
PRODID:-//Supersonic - ECPv6.15.20//NONSGML v1.0//EN
CALSCALE:GREGORIAN
METHOD:PUBLISH
X-WR-CALNAME:Supersonic
X-ORIGINAL-URL:https://supersonic-club.fr
X-WR-CALDESC:Évènements pour Supersonic
REFRESH-INTERVAL;VALUE=DURATION:PT1H
X-Robots-Tag:noindex
X-PUBLISHED-TTL:PT1H
BEGIN:VTIMEZONE
TZID:Europe/London
BEGIN:DAYLIGHT
TZOFFSETFROM:+0000
TZOFFSETTO:+0100
TZNAME:BST
DTSTART:20220327T010000
END:DAYLIGHT
BEGIN:STANDARD
TZOFFSETFROM:+0100
TZOFFSETTO:+0000
TZNAME:GMT
DTSTART:20221030T010000
END:STANDARD
BEGIN:DAYLIGHT
TZOFFSETFROM:+0000
TZOFFSETTO:+0100
TZNAME:BST
DTSTART:20230326T010000
END:DAYLIGHT
BEGIN:STANDARD
TZOFFSETFROM:+0100
TZOFFSETTO:+0000
TZNAME:GMT
DTSTART:20231029T010000
END:STANDARD
BEGIN:DAYLIGHT
TZOFFSETFROM:+0000
TZOFFSETTO:+0100
TZNAME:BST
DTSTART:20240331T010000
END:DAYLIGHT
BEGIN:STANDARD
TZOFFSETFROM:+0100
TZOFFSETTO:+0000
TZNAME:GMT
DTSTART:20241027T010000
END:STANDARD
END:VTIMEZONE
BEGIN:VEVENT
DTSTART;TZID=Europe/London:20230202T190000
DTEND;TZID=Europe/London:20230202T230000
DTSTAMP:20260420T211055
CREATED:20230110T155636Z
LAST-MODIFIED:20230125T183027Z
UID:9593-1675364400-1675378800@supersonic-club.fr
SUMMARY:Chilli Jesson • Blind Delon • Sydney Valette • Bad Bad Bird • Nous Étions Une Armée (Free entry)
DESCRIPTION:Le Supersonic fête ses 7 ans !\nRendez-vous le jeudi 2 et le vendredi 3 février 2023 pour fêter ça avec l’équipe! \n \nAu programme du jeudi 2 février\, on va se balader entre le Supersonic Club et le disquaire Supersonic Records pour voir ces concerts dans cet ordre là… \nNOUS ÉTIONS UNE ARMÉE (Post-rock – Paris)\n-> sur la scène du Supersonic Records\nNOUS ÉTIONS UNE ARMÉE est la quête d’une nouvelle poétique parlée-chantée\, d’une autre manière de faire entendre du français sur de la musique. La fugue\, le spleen\, l’espoir désabusé d’un ailleurs rimbaldien\, jonchent la route de cette prose sentimentale. Sur scène\, les guitares du duo et les boîtes à rythmes accompagnent la voix dans ses murmures et dans ses hurlements. \n https://spoti.fi/3ZXiWCP\n https://youtu.be/dmnvSUb-Jw4 \nBAD BAD BIRD (Power pop punk – Rouen/Paris)\n-> sur la scène du Supersonic Club\nÉchappée sans être si éloignée du garage punk cher à son groupe Toybloïd\, Madeleine Loiseau dévoile son alter ego en solo. Mélodie pop\, énergie punk rock\, et de l’amour chanté en français. Soyez prévenu.es\, ses irrésistibles refrains se nicheront dans vos mémoires en une écoute ! Louis Péchinot (Pogo Car Crash Control)\, Hugo Fabbri (Vigor Hugo) et Axel Misipo (Louis Lingg & the Bombs) l’accompagneront sur scène.\nhttps://badbadbird.bandcamp.com/\nhttps://bit.ly/3ZRKbyu \nSYDNEY VALETTE (Dark Wave – Paris)\n-> sur la scène du Supersonic Records\nSydney Valette viendra nous présenter en live son 6ème album: « Home Alone ». Fruit de la pandémie et de ses déchirements\, c’est un retour aux sources\, à la façon dont tout a commencé en 2005 : faire de la musique seul dans sa chambre. Comme d’habitude\, Sydney fait de la multitude de genres utilisés une des clés de voûte de son travail. Vous entendrez dans cet album de la Dark Wave\, de l’Ebm\, du Post Punk\, de la Rave\, de l’Italo Disco\, de l’Ambient\, toujours leadé et teinté d’une ambiance Pop sous-jacente.\nhttps://bit.ly/3WwxA0N\nhttps://youtu.be/Ez7Xf0wI27w \nBLIND DELON (Synthpunk – Toulouse)\n-> sur la scène du Supersonic Club\nProjet synthpunk toulousain créé en 2016 par Mathis Kolkoz. Lignes de basse froides et synthétiseurs d’antan\, post-punk français et romantisme noir\, Blind Delon joue un live singulier alliant bruits bruts et mélancolie pure\nhttps://blind-delon.bandcamp.com/\nhttps://www.youtube.com/watch?v=Hz1oRVonN7g \nCHILLI JESSON (Indie rock – Londres)\n-> sur la scène du Supersonic Club\nEt enfin on accueillera Chilli Jesson\, membre fondateur des Palma Violets\, groupe incontournable de l’indie rock des années 2010 (dans la veine de The Vaccines ou The Cribs) ! Le charme insolent de Chilli Jesson ne l’a pas quitté. Le début de cette nouvelle ère commence avec son tout nouveau single\, « St. Vitamin ». Exubérant et plein de vigueur\, le refrain de la chanson nous entraîne dans un refrain inspiré du dub-step et digne de passer en boucle dans un club rock.\nhttps://spoti.fi/3XR407i\nhttps://youtu.be/WGGDIp-DnUM \nWE HATE YOU PLEASE DIE\nont malheureusement dû annuler leur concert\n———————————\nJeudi 2 Février 2023\nEntrée gratuite\n• Ouverture des portes à 19h00\n• Si vous êtes témoin ou victime d’une agression\, vous pouvez alerter le personnel du bar ou si vous préférez\, vous pouvez nous écrire à cette adresse: communication@supersonic-paris.fr\n• Playlist du mois : https://supersonic.fanlink.to/playlistdumois\n• Inscription Newsletter: http://eepurl.com/gmxPzb\n• Objets perdus: https://forms.gle/rZxcMgGD5G82JnMQ9\n———————————\nSUPERSONIC\n9 rue Biscornet\, 75012 Paris\nMétro Bastille (sortie rue de lyon)\nhttp://supersonic-club.fr/ \nTarifs : Gratuit
URL:https://supersonic-club.fr/event/we-hate-you-please-die-bad-bad-bird-sydney-valette-nous-etions-une-armee-supersonicfreeentry/
LOCATION:SUPERSONIC\, 9 Rue Biscornet\, Paris\, 75012\, France
CATEGORIES:Bad Bad Bird,Blind Delon,Chilli Jesson,Concert,Nous Étions Une Armée,Pop / Rock / Folk,Sowprog,SUPERSONIC,Sydney Valette
ATTACH;FMTTYPE=image/jpeg:https://supersonic-club.fr/wp-content/uploads/2023/01/namethumb_w600px_img_event_426fca32-cd0b-4d8e-8a9e-082df55e5dee-1.jpg
END:VEVENT
END:VCALENDAR