BEGIN:VCALENDAR
VERSION:2.0
PRODID:-//Supersonic - ECPv6.15.20//NONSGML v1.0//EN
CALSCALE:GREGORIAN
METHOD:PUBLISH
X-ORIGINAL-URL:https://supersonic-club.fr
X-WR-CALDESC:Évènements pour Supersonic
REFRESH-INTERVAL;VALUE=DURATION:PT1H
X-Robots-Tag:noindex
X-PUBLISHED-TTL:PT1H
BEGIN:VTIMEZONE
TZID:Europe/London
BEGIN:DAYLIGHT
TZOFFSETFROM:+0000
TZOFFSETTO:+0100
TZNAME:BST
DTSTART:20250330T010000
END:DAYLIGHT
BEGIN:STANDARD
TZOFFSETFROM:+0100
TZOFFSETTO:+0000
TZNAME:GMT
DTSTART:20251026T010000
END:STANDARD
BEGIN:DAYLIGHT
TZOFFSETFROM:+0000
TZOFFSETTO:+0100
TZNAME:BST
DTSTART:20260329T010000
END:DAYLIGHT
BEGIN:STANDARD
TZOFFSETFROM:+0100
TZOFFSETTO:+0000
TZNAME:GMT
DTSTART:20261025T010000
END:STANDARD
BEGIN:DAYLIGHT
TZOFFSETFROM:+0000
TZOFFSETTO:+0100
TZNAME:BST
DTSTART:20270328T010000
END:DAYLIGHT
BEGIN:STANDARD
TZOFFSETFROM:+0100
TZOFFSETTO:+0000
TZNAME:GMT
DTSTART:20271031T010000
END:STANDARD
END:VTIMEZONE
BEGIN:VEVENT
DTSTART;TZID=Europe/London:20260911T200000
DTEND;TZID=Europe/London:20260911T223000
DTSTAMP:20260421T072756
CREATED:20260409T140359Z
LAST-MODIFIED:20260409T140359Z
UID:18843-1789156800-1789165800@supersonic-club.fr
SUMMARY:Bleech 9:3 en concert (côté Records)
DESCRIPTION:Retrouvez Bleech 9:3 en concert au Supersonic Records le 11 septembre prochain ! \n \nRetrouvez Bleech 9:3 en concert à Supersonic Records le 11 septembre prochain ! \nOuverture de la billetterie vendredi 10 avril à 10h. \nOriginaire de Dublin et désormais basé à Brixton\, Bleech 9:3 est bien plus qu’une simple révélation rock : c’est le récit d’une renaissance. Formé autour de l’amitié salvatrice des auteurs-compositeurs Barry Quinlan et Sam Duffy\, le groupe s’est forgé dans l’urgence et la clarté de la sobriété\, transformant un passé tumultueux en une force créatrice implacable. \nLeur son\, à la fois évocateur et viscéral\, navigue avec une précision chirurgicale entre mélodies imparables et décharges de distorsion brutes. Puisant leurs influences chez des géants comme Radiohead\, Nirvana et Deftones\, mais aussi dans l’esthétique cinématographique de David Lynch ou d’Ingmar Bergman\, Bleech 9:3 propose une vision artistique totale\, où l’introspection côtoie une puissance scénique dévastatrice. \nAprès une année 2025 foudroyante qui les a vus ouvrir pour Shame et Keo\, et culminer avec une résidence électrique de trois soirs au Blue Basement de Londres\, le quatuor – complété par James Quinlan (basse) et Luke O’Neill (batterie) – s’est imposé comme l’un des actes live les plus demandés du circuit. \nPorté par des singles marquants comme ‘Ceiling’ et l’incandescent ‘Jacky’\, Bleech 9:3 aborde 2026 avec une détermination farouche. Avec plus de 150 dates prévues et de nouveaux titres en chemin\, le groupe prouve que c’est souvent dans les cendres que l’on trouve le feu le plus vif. \nTarifs : Billet : 21.50€ \nBilletteries : Billetterie
URL:https://supersonic-club.fr/event/bleech-93-en-concert-cote-records/
LOCATION:Supersonic Records\, 9 Rue Biscornet\, Paris\, 75012\, France
CATEGORIES:Bleech 9:3,Concert,Pop / Rock / Folk,Sowprog,Supersonic Records
ATTACH;FMTTYPE=image/jpeg:https://supersonic-club.fr/wp-content/uploads/2026/04/namethumb_w600px_img_event_c2383214-802b-4b87-a842-e5c6d9921ae7.jpg
END:VEVENT
END:VCALENDAR