BEGIN:VCALENDAR
VERSION:2.0
PRODID:-//Supersonic - ECPv6.15.20//NONSGML v1.0//EN
CALSCALE:GREGORIAN
METHOD:PUBLISH
X-ORIGINAL-URL:https://supersonic-club.fr
X-WR-CALDESC:Évènements pour Supersonic
REFRESH-INTERVAL;VALUE=DURATION:PT1H
X-Robots-Tag:noindex
X-PUBLISHED-TTL:PT1H
BEGIN:VTIMEZONE
TZID:Europe/London
BEGIN:DAYLIGHT
TZOFFSETFROM:+0000
TZOFFSETTO:+0100
TZNAME:BST
DTSTART:20220327T010000
END:DAYLIGHT
BEGIN:STANDARD
TZOFFSETFROM:+0100
TZOFFSETTO:+0000
TZNAME:GMT
DTSTART:20221030T010000
END:STANDARD
BEGIN:DAYLIGHT
TZOFFSETFROM:+0000
TZOFFSETTO:+0100
TZNAME:BST
DTSTART:20230326T010000
END:DAYLIGHT
BEGIN:STANDARD
TZOFFSETFROM:+0100
TZOFFSETTO:+0000
TZNAME:GMT
DTSTART:20231029T010000
END:STANDARD
BEGIN:DAYLIGHT
TZOFFSETFROM:+0000
TZOFFSETTO:+0100
TZNAME:BST
DTSTART:20240331T010000
END:DAYLIGHT
BEGIN:STANDARD
TZOFFSETFROM:+0100
TZOFFSETTO:+0000
TZNAME:GMT
DTSTART:20241027T010000
END:STANDARD
END:VTIMEZONE
BEGIN:VEVENT
DTSTART;TZID=Europe/London:20230222T190000
DTEND;TZID=Europe/London:20230222T230000
DTSTAMP:20260420T083315
CREATED:20230215T200223Z
LAST-MODIFIED:20230215T200223Z
UID:10020-1677092400-1677106800@supersonic-club.fr
SUMMARY:Billy Bonbon • Clamn Dever • Spare Skin / Supersonic (Free entry)
DESCRIPTION:WELCOME TO SUPERSONIC\nConcerts gratuits\, Nuits rock et Disquaire à Paris ! \n \nBILLY BONBON\n(Garage pop – Paris\, FR)\nBilly Bonbon est groupe de dream garage pop né du confinement. A mi chemin entre CASTLEBEAT\, Joy Again et Beach Fossils le tout saupoudré de crayons de couleur et de Micro Machines kitées Polini\, Billy Bonbon nous raconte l’importance des petites choses de la vie avec légèreté et fun.\nhttps://open.spotify.com/artist/698mmZ7017DoSKp14nnpFv\nhttps://www.youtube.com/channel/UCHww65JPFloVQ1OqLGCgyTQ \nCLAMN DEVER\n(Alternative rock – Paris\, FR)\nClamn Dever est un groupe parisien inspiré par les grands classiques des 60s autant que par la scène rock contemporaine. Il est formé autour de Ludwig Dosch\, poète et songwriter venu d’Allemagne.\nSon ancien colocataire\, Alexis Ulveling le rejoint avec une guitare lead riche en reverb. Leur ami et artiste Emmanuel Medioni les soutient à la basse et aux choeurs. Le groupe est complété par le jeu de batterie incisif du jeune Félix Langot également habile au clavier.\nCoproduction franco-allemande\, les chansons à la fois mélodiques et dynamiques sont portées par un solide son rock et leurs diverses influences leur donne un style original que les quatre musiciens répandent sur la ville.\nhttp://soundcloud.com/clamndever \nSPARE SKIN\n(Post punk – Paris\, FR)\n« Post-punk two pieces band :\nAnne-Lise (guitare\, chant) & William (drums) »\nhttps://spareskin.bandcamp.com/track/ringer\n———————————\nMercredi 22 Février 2023\nEntrée gratuite\n• Ouverture des portes à 19h00\n• Happy Hour de 19h à 20h (3€50 la pinte)\n• Si vous êtes témoin ou victime d’une agression\, vous pouvez alerter le personnel du bar ou si vous préférez\, vous pouvez nous écrire à cette adresse: communication@supersonic-paris.fr\n———————————\nSUPERSONIC\n9 rue Biscornet\, 75012 Paris\nMétro Bastille (sortie rue de lyon) \nTarifs : Gratuit
URL:https://supersonic-club.fr/event/billy-bonbon-clamn-dever-spare-skin-supersonic-free-entry/
LOCATION:SUPERSONIC\, 9 Rue Biscornet\, Paris\, 75012\, France
CATEGORIES:Billy Bonbon,Clamn Dever,Concert,Pop / Rock / Folk,Sowprog,Spare Skin,SUPERSONIC
ATTACH;FMTTYPE=image/jpeg:https://supersonic-club.fr/wp-content/uploads/2023/02/namethumb_w600px_img_event_00db5396-d150-4173-8176-25234ee37ac7.jpg
END:VEVENT
END:VCALENDAR