BEGIN:VCALENDAR
VERSION:2.0
PRODID:-//Supersonic - ECPv6.15.20//NONSGML v1.0//EN
CALSCALE:GREGORIAN
METHOD:PUBLISH
X-WR-CALNAME:Supersonic
X-ORIGINAL-URL:https://supersonic-club.fr
X-WR-CALDESC:Évènements pour Supersonic
REFRESH-INTERVAL;VALUE=DURATION:PT1H
X-Robots-Tag:noindex
X-PUBLISHED-TTL:PT1H
BEGIN:VTIMEZONE
TZID:Europe/London
BEGIN:DAYLIGHT
TZOFFSETFROM:+0000
TZOFFSETTO:+0100
TZNAME:BST
DTSTART:20210328T010000
END:DAYLIGHT
BEGIN:STANDARD
TZOFFSETFROM:+0100
TZOFFSETTO:+0000
TZNAME:GMT
DTSTART:20211031T010000
END:STANDARD
BEGIN:DAYLIGHT
TZOFFSETFROM:+0000
TZOFFSETTO:+0100
TZNAME:BST
DTSTART:20220327T010000
END:DAYLIGHT
BEGIN:STANDARD
TZOFFSETFROM:+0100
TZOFFSETTO:+0000
TZNAME:GMT
DTSTART:20221030T010000
END:STANDARD
BEGIN:DAYLIGHT
TZOFFSETFROM:+0000
TZOFFSETTO:+0100
TZNAME:BST
DTSTART:20230326T010000
END:DAYLIGHT
BEGIN:STANDARD
TZOFFSETFROM:+0100
TZOFFSETTO:+0000
TZNAME:GMT
DTSTART:20231029T010000
END:STANDARD
END:VTIMEZONE
BEGIN:VEVENT
DTSTART;TZID=Europe/London:20220827T190000
DTEND;TZID=Europe/London:20220827T230000
DTSTAMP:20260421T161758
CREATED:20220825T125335Z
LAST-MODIFIED:20220825T125335Z
UID:8485-1661626800-1661641200@supersonic-club.fr
SUMMARY:SOS Citizen • No Elevator • Billy Bonbon / Supersonic (Free entry)
DESCRIPTION:WELCOME TO SUPERSONIC\nConcerts gratuits\, Nuits rock et Disquaire à Paris ! \n \nSOS CITIZEN\n(Pop 60’s – Le Cèpe Records Paris\, FR)\nRencontrés en école d’architecture\, Louise et Alan forment SOS Citizen quelques mois avant le confinement. Coincés à la maison (et tant mieux) ils ont consacré une grande partie de leur temps à l’écriture de 7 morceaux. Les deux premiers\, enregistrés dans leur chambre sur garageband sortent fin 2020.\nBruno Souchu (La Billy) rejoint le groupe en temps que batteur avant l’enregistrement de leur premier projet en mai 2021.\nCet EP a été enregistré au Studio Claudio aux côtés d’Alexis (Biche) et Margaux (En Attendant Ana). La recette est simple : une voix claire\, des guitares aux airs British et un rythme envoutant aux allures psychédéliques.\nCet EP est le premier jet du processus créatif du groupe et sortira avec Le Cepe Records\, début mars 2022. Aujourd’hui\, le groupe planche sur un album avec un nouveau membre\, Alexis Andreani au saxophone\, avec qui ils joueront les prochains concerts.\nhttps://leceperecords.bandcamp.com/album/an-extended-play\nhttps://www.youtube.com/watch?v=8_GCjLWwCz0 \nNO ELEVATOR\n(Indie rock – Brunchcore Production – Paris\, FR)\nFormé en Avril 2019 à Paris\, No Elevator est un groupe de rock\, mélodique\, énergique et puissant\, sous influence de grands groupes rock tels que Queens of the Stone Age\, Arctic Monkeys ou encore Foo Fighters pour les plus populaires\, mais également pris par la vague de l’indie rock contemporain\, après avoir découvert des groupes comme Last Dinosaurs\, Pinegrove ou Stoop Kids.\nhttp://www.noelevator.com\nhttps://youtu.be/-9-7-v_KY50 \nBILLY BONBON\n(Garage pop – Paris\, FR)\nBilly Bonbon est groupe de dream garage pop né du confinement.\nLe point de départ est le morceau Belly Kiss ; enregistré et filmé dans la chambre de Félix Martinaud / Guitare voix.\nVite rejoint par deux compères\, Jessy / batterie voix (Batteur de Noyade) et Noé / basse voix (Guitariste de Colossus of Destiny)\, le projet prend de l’ampleur et s’affute pour percuter les salles avec un set plus chaud que jaja !\nhttps://billybonbon.bandcamp.com/releases\nhttps://youtu.be/3vUx37NRFDk\n———————————\nSamedi 27 Août 2022\nEntrée gratuite\n• Ouverture des portes à 19h00\n• Happy Hour de 19h à 20h (3€50 la pinte)\n———————————\nSUPERSONIC\n9 rue Biscornet\, 75012 Paris\nMétro Bastille (sortie rue de lyon)\nhttp://supersonic-club.fr/ \nTarifs : Gratuit
URL:https://supersonic-club.fr/event/sos-citizen-no-elevator-billy-bonbon-supersonic-free-entry/
LOCATION:SUPERSONIC\, 9 Rue Biscornet\, Paris\, 75012\, France
CATEGORIES:Billy Bonbon,Concert,No Elevator,Pop / Rock / Folk,SOS Citizen,Sowprog
ATTACH;FMTTYPE=image/jpeg:https://supersonic-club.fr/wp-content/uploads/2022/08/namethumb_w600px_img_event_5aadca79-4b51-43f3-8920-d6c8b28ccf1f.jpg
END:VEVENT
END:VCALENDAR