BEGIN:VCALENDAR
VERSION:2.0
PRODID:-//Supersonic - ECPv6.15.20//NONSGML v1.0//EN
CALSCALE:GREGORIAN
METHOD:PUBLISH
X-ORIGINAL-URL:https://supersonic-club.fr
X-WR-CALDESC:Évènements pour Supersonic
REFRESH-INTERVAL;VALUE=DURATION:PT1H
X-Robots-Tag:noindex
X-PUBLISHED-TTL:PT1H
BEGIN:VTIMEZONE
TZID:Europe/London
BEGIN:DAYLIGHT
TZOFFSETFROM:+0000
TZOFFSETTO:+0100
TZNAME:BST
DTSTART:20160327T010000
END:DAYLIGHT
BEGIN:STANDARD
TZOFFSETFROM:+0100
TZOFFSETTO:+0000
TZNAME:GMT
DTSTART:20161030T010000
END:STANDARD
BEGIN:DAYLIGHT
TZOFFSETFROM:+0000
TZOFFSETTO:+0100
TZNAME:BST
DTSTART:20170326T010000
END:DAYLIGHT
BEGIN:STANDARD
TZOFFSETFROM:+0100
TZOFFSETTO:+0000
TZNAME:GMT
DTSTART:20171029T010000
END:STANDARD
BEGIN:DAYLIGHT
TZOFFSETFROM:+0000
TZOFFSETTO:+0100
TZNAME:BST
DTSTART:20180325T010000
END:DAYLIGHT
BEGIN:STANDARD
TZOFFSETFROM:+0100
TZOFFSETTO:+0000
TZNAME:GMT
DTSTART:20181028T010000
END:STANDARD
END:VTIMEZONE
BEGIN:VEVENT
DTSTART;TZID=Europe/London:20170505T210000
DTEND;TZID=Europe/London:20170506T003000
DTSTAMP:20260420T060610
CREATED:20170422T145053Z
LAST-MODIFIED:20170422T145053Z
UID:1336-1494018000-1494030600@supersonic-club.fr
SUMMARY:Quick & Dirty • Baron Crâne // Supersonic - Free
DESCRIPTION:Le Supersonic présente…le rock léché de Quick & Dirty soupoudré d’un stoner piquant avec Baron Crâne! \n \n→ QUICK & DIRTY\n(Rock – Paris) \nEfficace et percutant\, les 4 compères délivrent un rock léché influencé par des groupes tels que Foo Fighters ou encore Queen Of The Stone Age . Un son mature et travaillé qui ne manquera pas de vous faire bouger. \nLes 3 influences: Foo Fighters\, QOSTA\, Rolling Stones \n► Liker : https://www.facebook.com/wearequickanddirty/\n► Ecouter: https://quickanddirty.bandcamp.com/ \n→ BARON CRÂNE\n(Rock – Paris) \nTrio Parisien de rock instrumental à la confluence de plusieurs styles (stoner\, prog\, jazz\, dub\, doom). Il viendront nous présenter la sortie de leur deuxième EP « Electric Shades »\, qui a mis le monde du stoner français et inter-planétaire bien à l’amende. \n► Liker : https://www.facebook.com/baroncrane\n► Ecouter: https://baroncrane.bandcamp.com/ \nTarifs : Gratuit
URL:https://supersonic-club.fr/event/quick-dirty-%e2%80%a2-baron-crane-supersonic-free/
LOCATION:SUPERSONIC\, 9 Rue Biscornet\, Paris\, 75012\, France
CATEGORIES:Baron Crâne,Concert,Pop / Rock / Folk,Quick & Dirty
ATTACH;FMTTYPE=image/jpeg:https://supersonic-club.fr/wp-content/uploads/2017/04/namethumb_w600px_img_event_2ec46446-3e44-4a09-9a96-9f1c8c7addfa.jpg
END:VEVENT
END:VCALENDAR