BEGIN:VCALENDAR
VERSION:2.0
PRODID:-//Supersonic - ECPv6.15.20//NONSGML v1.0//EN
CALSCALE:GREGORIAN
METHOD:PUBLISH
X-WR-CALNAME:Supersonic
X-ORIGINAL-URL:https://supersonic-club.fr
X-WR-CALDESC:Évènements pour Supersonic
REFRESH-INTERVAL;VALUE=DURATION:PT1H
X-Robots-Tag:noindex
X-PUBLISHED-TTL:PT1H
BEGIN:VTIMEZONE
TZID:Europe/London
BEGIN:DAYLIGHT
TZOFFSETFROM:+0000
TZOFFSETTO:+0100
TZNAME:BST
DTSTART:20190331T010000
END:DAYLIGHT
BEGIN:STANDARD
TZOFFSETFROM:+0100
TZOFFSETTO:+0000
TZNAME:GMT
DTSTART:20191027T010000
END:STANDARD
BEGIN:DAYLIGHT
TZOFFSETFROM:+0000
TZOFFSETTO:+0100
TZNAME:BST
DTSTART:20200329T010000
END:DAYLIGHT
BEGIN:STANDARD
TZOFFSETFROM:+0100
TZOFFSETTO:+0000
TZNAME:GMT
DTSTART:20201025T010000
END:STANDARD
BEGIN:DAYLIGHT
TZOFFSETFROM:+0000
TZOFFSETTO:+0100
TZNAME:BST
DTSTART:20210328T010000
END:DAYLIGHT
BEGIN:STANDARD
TZOFFSETFROM:+0100
TZOFFSETTO:+0000
TZNAME:GMT
DTSTART:20211031T010000
END:STANDARD
END:VTIMEZONE
BEGIN:VEVENT
DTSTART;TZID=Europe/London:20201001T210000
DTEND;TZID=Europe/London:20201002T003000
DTSTAMP:20260420T003819
CREATED:20200804T105425Z
LAST-MODIFIED:20200804T105425Z
UID:6005-1601586000-1601598600@supersonic-club.fr
SUMMARY:Volkor X • Tout Est Beau • Aphélie / Supersonic (Free entry)
DESCRIPTION:Le Supersonic c’est lieu incontournable du rock à Paris! Trois concerts gratuits tous les soirs\, des nuits pop rock du jeudi au samedi et ce soir on vous présente : \n \nACCESS LIVE & le Supersonic présentent :  \n▬▬▬ ENTREE LIBRE JUSQU’A 23H ▬▬▬▬ \n→ VOLKOR X\n(Synthwave) \n« Volkor X was born on stardate 16369.4 on planet OGLE-2005-BLG-390Lb. He is the tenth and last child born to X’Joru V and Vulcia III. When Volkor X was 6\, the family had to move to Tau Ceti f\, in the Cetus constellation because he had killed a few hundreds of his classmates already. As a child\, he clashed frequently with his schoolmates. At 7\, he was expelled from school for killing 2433 of his comrades for « not respecting his galactic authority ». His father X’Joru V did not approve of his violent actions. As a consequence\, Volkor killed X’Joru. Two years later\, his mother allowed her son to drop out of school because he wanted « to travel and destroy worlds ». The rest is history. » \nLes 3 influences: Carpenter Brut\, Pink Floyd\, Devin Townsend \n► Liker : https://www.facebook.com/volkorx/\n► Ecouter : http://www.volkorx.com\n► Regarder : https://www.youtube.com/watch?v=DXhThbgtWwI \n→ T O U T  E S T  B E A U\n(Krautrock/techno Lo-Fi – Paris / Seoul) \n« T O U T  E S T  B E A U c’est un homme face à ses machines\, un multi-instrumentaliste qui compose de grandes choses avec ses petites mains. De la techno expérimentale frénétique et sombre\, qui mêle le corps et la musique. Car Erwan Ha Kyoon Larcher est avant tout un artiste de cirque et danseur\, qui a prolongé ses mouvements vers les synthétiseurs. Que ce soit cirque ou musique\, l’idée est physique\, le geste précède le son\, le musicien les machines. » \n► Liker : https://www.facebook.com/toutestbeautoutestbeautoutestbeau/\n► Ecouter : https://soundcloud.com/toutestbeau\n► Regarder: https://www.facebook.com/toutestbeautoutestbeautoutestbeau/videos/996936670658276/ \n→ APHELIE\n(Electronique / Progressif / Rock – Paris) \n« Respectivement guitariste et batteur de formation\, Tom Furgerot et Etienne Chalopin se rencontrent dans un studio de banlieue parisienne en 2013.\nMulti-instrumentistes et teintés d’influences variées ils se lancent ensemble dans la recherche sonore. Ils explorent un mélange d’acoustique et d’électronique qui charge leurs compositions d’une énergie à la fois sombre et atmosphérique.\nEn embrassant la veine plus radicale de leurs expérimentations\, ils puisent dans une ambiance éthérée et tourmentée.\nLeur premier EP\, Dysharmonie\, convoque les sonorités de l’entre deux\, de l’infiniment petit au macroscopique. Entre la particule et le corps astral\, leur alliage d’électronique et d’acoustique fait léviter du sol à l’abstrait de la nuit. » \nLes 3 influences: Radiohead\, Pink Floyd\, Floating Points \n► Liker : https://www.facebook.com/apheliemusicofficial/\n► Ecouter : https://aphelie.bandcamp.com/releases\n► Regarder: https://www.youtube.com/watch?v=suaulz2fAZ8 \nTarifs : Gratuit
URL:https://supersonic-club.fr/event/volkor-x-%e2%80%a2-tout-est-beau-%e2%80%a2-aphelie-supersonic-free-entry/
CATEGORIES:Aphélie,Concert,Pop / Rock / Folk,Sowprog,Tout Est Beau,Volkor X
ATTACH;FMTTYPE=image/jpeg:https://supersonic-club.fr/wp-content/uploads/2020/08/namethumb_w600px_img_event_f82183ab-edc5-4313-8a77-2d3bd2d67e91.jpg
END:VEVENT
END:VCALENDAR