BEGIN:VCALENDAR
VERSION:2.0
PRODID:-//Supersonic - ECPv6.15.20//NONSGML v1.0//EN
CALSCALE:GREGORIAN
METHOD:PUBLISH
X-ORIGINAL-URL:https://supersonic-club.fr
X-WR-CALDESC:Évènements pour Supersonic
REFRESH-INTERVAL;VALUE=DURATION:PT1H
X-Robots-Tag:noindex
X-PUBLISHED-TTL:PT1H
BEGIN:VTIMEZONE
TZID:Europe/London
BEGIN:DAYLIGHT
TZOFFSETFROM:+0000
TZOFFSETTO:+0100
TZNAME:BST
DTSTART:20220327T010000
END:DAYLIGHT
BEGIN:STANDARD
TZOFFSETFROM:+0100
TZOFFSETTO:+0000
TZNAME:GMT
DTSTART:20221030T010000
END:STANDARD
BEGIN:DAYLIGHT
TZOFFSETFROM:+0000
TZOFFSETTO:+0100
TZNAME:BST
DTSTART:20230326T010000
END:DAYLIGHT
BEGIN:STANDARD
TZOFFSETFROM:+0100
TZOFFSETTO:+0000
TZNAME:GMT
DTSTART:20231029T010000
END:STANDARD
BEGIN:DAYLIGHT
TZOFFSETFROM:+0000
TZOFFSETTO:+0100
TZNAME:BST
DTSTART:20240331T010000
END:DAYLIGHT
BEGIN:STANDARD
TZOFFSETFROM:+0100
TZOFFSETTO:+0000
TZNAME:GMT
DTSTART:20241027T010000
END:STANDARD
END:VTIMEZONE
BEGIN:VEVENT
DTSTART;TZID=Europe/London:20230712T190000
DTEND;TZID=Europe/London:20230712T233000
DTSTAMP:20260419T203821
CREATED:20230419T153352Z
LAST-MODIFIED:20230711T144516Z
UID:10489-1689188400-1689204600@supersonic-club.fr
SUMMARY:Badaboum · A Trois Sur La Plage · Acid Gras · Yolande Bashing · Récidive Noire / Restons Sérieux J2
DESCRIPTION:Festival beau & bizarre de la musique française à contre-courant.\n22 concerts en langue française sur 5 jours dans 2 lieux différents: le Supersonic Club et le Supersonic Records ! \n \nBadaboum (23h au Supersonic Club)\nAprès-punk alternatif\n(Brest / Strasbourg / Amiens)\nÉcouter : https://bit.ly/41jmnUE \nA Trois sur la Plage (22h au Supersonic Club)\nSainte Pop minimaliste\n(Paris / Rennes)\nÉcouter : https://bit.ly/3oqhbj2 \nYolande Bashing (21h10 au Supersonic Records)\nTechno Pop faussement triste\n(Lille)\nÉcouter : https://bit.ly/3oqhzy0 \nAcid Gras (20h20 au Supersonic Club)\nPunk de schlags\n(Onsenbalec)\nÉcouter : https://bit.ly/3mJxDdW \nRécidive Noire (19h30 au Supersonic Club)\nVague synthétique tropicale\n(Paris)\nÉcouter : https://bit.ly/3mCpRTf \n————————————————\nMercredi 12 Juillet de 19h à 23h30\nEntrée gratuite\nAu Supersonic Club et au Supersonic Records\n9 rue Biscornet\, 75012 Paris\nMétro Bastille \nTarifs : Gratuit
URL:https://supersonic-club.fr/event/festival-restons-serieux-2/
LOCATION:SUPERSONIC\, 9 Rue Biscornet\, Paris\, 75012\, France
CATEGORIES:A Trois Sur La Plage,Acid Gras,BADABOUM,Concert,Pop / Rock / Folk,Récidive Noire,Sowprog,SUPERSONIC,Yolande Bashing
ATTACH;FMTTYPE=image/jpeg:https://supersonic-club.fr/wp-content/uploads/2023/04/namethumb_w600px_img_event_49619c11-f13b-419f-97b9-dae0c2ed4526-2.jpg
END:VEVENT
END:VCALENDAR